BEGIN:VCALENDAR
VERSION:2.0
PRODID:-// - ECPv6.15.20//NONSGML v1.0//EN
CALSCALE:GREGORIAN
METHOD:PUBLISH
X-ORIGINAL-URL:https://gatewaycommunity.church
X-WR-CALDESC:Events for 
REFRESH-INTERVAL;VALUE=DURATION:PT1H
X-Robots-Tag:noindex
X-PUBLISHED-TTL:PT1H
BEGIN:VTIMEZONE
TZID:America/New_York
BEGIN:DAYLIGHT
TZOFFSETFROM:-0500
TZOFFSETTO:-0400
TZNAME:EDT
DTSTART:20250309T070000
END:DAYLIGHT
BEGIN:STANDARD
TZOFFSETFROM:-0400
TZOFFSETTO:-0500
TZNAME:EST
DTSTART:20251102T060000
END:STANDARD
BEGIN:DAYLIGHT
TZOFFSETFROM:-0500
TZOFFSETTO:-0400
TZNAME:EDT
DTSTART:20260308T070000
END:DAYLIGHT
BEGIN:STANDARD
TZOFFSETFROM:-0400
TZOFFSETTO:-0500
TZNAME:EST
DTSTART:20261101T060000
END:STANDARD
BEGIN:DAYLIGHT
TZOFFSETFROM:-0500
TZOFFSETTO:-0400
TZNAME:EDT
DTSTART:20270314T070000
END:DAYLIGHT
BEGIN:STANDARD
TZOFFSETFROM:-0400
TZOFFSETTO:-0500
TZNAME:EST
DTSTART:20271107T060000
END:STANDARD
END:VTIMEZONE
BEGIN:VEVENT
DTSTART;TZID=America/New_York:20260415T180000
DTEND;TZID=America/New_York:20260415T190000
DTSTAMP:20260424T113422
CREATED:20260209T002837Z
LAST-MODIFIED:20260209T002837Z
UID:10002700-1776276000-1776279600@gatewaycommunity.church
SUMMARY:Life University Family Night
DESCRIPTION:Youth and Adult Bible Studies\nYouth and Adult Bible Studies \nWednesday nights are family night! Join us for dinner from 5:00 – 5:45 pm then stay for our selection of Bibles studies for all ages. Kids ages 4-12 can participate in Kids Rock-t Wednesdays to learn about God in a fun and engaging way. Youth in grades 7-12 will join Pastor Clay and his wife Cindi in our awesome game room to hang out and hear a weekly challenge. For a list of all the adult classes being offered\, click here.
URL:https://gatewaycommunity.church/events/life-university-family-night-28/2026-04-15/
LOCATION:Gateway Community Church Family Life Center\, 2801 Tropic St\, TITUSVILLE\, FL\, 32796\, United States
CATEGORIES:Bible Study,Family Night,Women's Bible Study
END:VEVENT
END:VCALENDAR