BEGIN:VCALENDAR
VERSION:2.0
PRODID:-// - ECPv6.15.20//NONSGML v1.0//EN
CALSCALE:GREGORIAN
METHOD:PUBLISH
X-ORIGINAL-URL:https://gatewaycommunity.church
X-WR-CALDESC:Events for 
REFRESH-INTERVAL;VALUE=DURATION:PT1H
X-Robots-Tag:noindex
X-PUBLISHED-TTL:PT1H
BEGIN:VTIMEZONE
TZID:America/New_York
BEGIN:DAYLIGHT
TZOFFSETFROM:-0500
TZOFFSETTO:-0400
TZNAME:EDT
DTSTART:20240310T070000
END:DAYLIGHT
BEGIN:STANDARD
TZOFFSETFROM:-0400
TZOFFSETTO:-0500
TZNAME:EST
DTSTART:20241103T060000
END:STANDARD
BEGIN:DAYLIGHT
TZOFFSETFROM:-0500
TZOFFSETTO:-0400
TZNAME:EDT
DTSTART:20250309T070000
END:DAYLIGHT
BEGIN:STANDARD
TZOFFSETFROM:-0400
TZOFFSETTO:-0500
TZNAME:EST
DTSTART:20251102T060000
END:STANDARD
BEGIN:DAYLIGHT
TZOFFSETFROM:-0500
TZOFFSETTO:-0400
TZNAME:EDT
DTSTART:20260308T070000
END:DAYLIGHT
BEGIN:STANDARD
TZOFFSETFROM:-0400
TZOFFSETTO:-0500
TZNAME:EST
DTSTART:20261101T060000
END:STANDARD
BEGIN:DAYLIGHT
TZOFFSETFROM:-0500
TZOFFSETTO:-0400
TZNAME:EDT
DTSTART:20270314T070000
END:DAYLIGHT
BEGIN:STANDARD
TZOFFSETFROM:-0400
TZOFFSETTO:-0500
TZNAME:EST
DTSTART:20271107T060000
END:STANDARD
END:VTIMEZONE
BEGIN:VEVENT
DTSTART;TZID=America/New_York:20260311T180000
DTEND;TZID=America/New_York:20260311T190000
DTSTAMP:20260424T170121
CREATED:20260209T002837Z
LAST-MODIFIED:20260209T002837Z
UID:10002690-1773252000-1773255600@gatewaycommunity.church
SUMMARY:Life University Family Night
DESCRIPTION:Youth and Adult Bible Studies\nYouth and Adult Bible Studies \nWednesday nights are family night! Join us for dinner from 5:00 – 5:45 pm then stay for our selection of Bibles studies for all ages. Kids ages 4-12 can participate in Kids Rock-t Wednesdays to learn about God in a fun and engaging way. Youth in grades 7-12 will join Pastor Clay and his wife Cindi in our awesome game room to hang out and hear a weekly challenge. For a list of all the adult classes being offered\, click here.
URL:https://gatewaycommunity.church/events/life-university-family-night-28/2026-03-11/
LOCATION:Gateway Community Church Family Life Center\, 2801 Tropic St\, TITUSVILLE\, FL\, 32796\, United States
CATEGORIES:Bible Study,Family Night,Women's Bible Study
END:VEVENT
BEGIN:VEVENT
DTSTART;TZID=America/New_York:20260308T180000
DTEND;TZID=America/New_York:20260308T190000
DTSTAMP:20260424T170121
CREATED:20260209T002837Z
LAST-MODIFIED:20260209T002837Z
UID:10002689-1772992800-1772996400@gatewaycommunity.church
SUMMARY:Life University Family Night
DESCRIPTION:Youth and Adult Bible Studies\nYouth and Adult Bible Studies \nWednesday nights are family night! Join us for dinner from 5:00 – 5:45 pm then stay for our selection of Bibles studies for all ages. Kids ages 4-12 can participate in Kids Rock-t Wednesdays to learn about God in a fun and engaging way. Youth in grades 7-12 will join Pastor Clay and his wife Cindi in our awesome game room to hang out and hear a weekly challenge. For a list of all the adult classes being offered\, click here.
URL:https://gatewaycommunity.church/events/life-university-family-night-28/2026-03-08/
LOCATION:Gateway Community Church Family Life Center\, 2801 Tropic St\, TITUSVILLE\, FL\, 32796\, United States
CATEGORIES:Bible Study,Family Night,Women's Bible Study
END:VEVENT
BEGIN:VEVENT
DTSTART;TZID=America/New_York:20260304T180000
DTEND;TZID=America/New_York:20260304T190000
DTSTAMP:20260424T170121
CREATED:20260209T002837Z
LAST-MODIFIED:20260209T002837Z
UID:10002688-1772647200-1772650800@gatewaycommunity.church
SUMMARY:Life University Family Night
DESCRIPTION:Youth and Adult Bible Studies\nYouth and Adult Bible Studies \nWednesday nights are family night! Join us for dinner from 5:00 – 5:45 pm then stay for our selection of Bibles studies for all ages. Kids ages 4-12 can participate in Kids Rock-t Wednesdays to learn about God in a fun and engaging way. Youth in grades 7-12 will join Pastor Clay and his wife Cindi in our awesome game room to hang out and hear a weekly challenge. For a list of all the adult classes being offered\, click here.
URL:https://gatewaycommunity.church/events/life-university-family-night-28/2026-03-04/
LOCATION:Gateway Community Church Family Life Center\, 2801 Tropic St\, TITUSVILLE\, FL\, 32796\, United States
CATEGORIES:Bible Study,Family Night,Women's Bible Study
END:VEVENT
BEGIN:VEVENT
DTSTART;TZID=America/New_York:20260301T180000
DTEND;TZID=America/New_York:20260301T190000
DTSTAMP:20260424T170121
CREATED:20260209T002837Z
LAST-MODIFIED:20260209T002837Z
UID:10002687-1772388000-1772391600@gatewaycommunity.church
SUMMARY:Life University Family Night
DESCRIPTION:Youth and Adult Bible Studies\nYouth and Adult Bible Studies \nWednesday nights are family night! Join us for dinner from 5:00 – 5:45 pm then stay for our selection of Bibles studies for all ages. Kids ages 4-12 can participate in Kids Rock-t Wednesdays to learn about God in a fun and engaging way. Youth in grades 7-12 will join Pastor Clay and his wife Cindi in our awesome game room to hang out and hear a weekly challenge. For a list of all the adult classes being offered\, click here.
URL:https://gatewaycommunity.church/events/life-university-family-night-28/2026-03-01/
LOCATION:Gateway Community Church Family Life Center\, 2801 Tropic St\, TITUSVILLE\, FL\, 32796\, United States
CATEGORIES:Bible Study,Family Night,Women's Bible Study
END:VEVENT
BEGIN:VEVENT
DTSTART;TZID=America/New_York:20260225T180000
DTEND;TZID=America/New_York:20260225T190000
DTSTAMP:20260424T170121
CREATED:20260209T002837Z
LAST-MODIFIED:20260209T002837Z
UID:10002686-1772042400-1772046000@gatewaycommunity.church
SUMMARY:Life University Family Night
DESCRIPTION:Youth and Adult Bible Studies\nYouth and Adult Bible Studies \nWednesday nights are family night! Join us for dinner from 5:00 – 5:45 pm then stay for our selection of Bibles studies for all ages. Kids ages 4-12 can participate in Kids Rock-t Wednesdays to learn about God in a fun and engaging way. Youth in grades 7-12 will join Pastor Clay and his wife Cindi in our awesome game room to hang out and hear a weekly challenge. For a list of all the adult classes being offered\, click here.
URL:https://gatewaycommunity.church/events/life-university-family-night-28/2026-02-25/
LOCATION:Gateway Community Church Family Life Center\, 2801 Tropic St\, TITUSVILLE\, FL\, 32796\, United States
CATEGORIES:Bible Study,Family Night,Women's Bible Study
END:VEVENT
BEGIN:VEVENT
DTSTART;TZID=America/New_York:20260222T180000
DTEND;TZID=America/New_York:20260222T190000
DTSTAMP:20260424T170121
CREATED:20260209T002837Z
LAST-MODIFIED:20260209T002837Z
UID:10002685-1771783200-1771786800@gatewaycommunity.church
SUMMARY:Life University Family Night
DESCRIPTION:Youth and Adult Bible Studies\nYouth and Adult Bible Studies \nWednesday nights are family night! Join us for dinner from 5:00 – 5:45 pm then stay for our selection of Bibles studies for all ages. Kids ages 4-12 can participate in Kids Rock-t Wednesdays to learn about God in a fun and engaging way. Youth in grades 7-12 will join Pastor Clay and his wife Cindi in our awesome game room to hang out and hear a weekly challenge. For a list of all the adult classes being offered\, click here.
URL:https://gatewaycommunity.church/events/life-university-family-night-28/2026-02-22/
LOCATION:Gateway Community Church Family Life Center\, 2801 Tropic St\, TITUSVILLE\, FL\, 32796\, United States
CATEGORIES:Bible Study,Family Night,Women's Bible Study
END:VEVENT
BEGIN:VEVENT
DTSTART;TZID=America/New_York:20260218T180000
DTEND;TZID=America/New_York:20260218T190000
DTSTAMP:20260424T170121
CREATED:20260209T002837Z
LAST-MODIFIED:20260209T002837Z
UID:10002684-1771437600-1771441200@gatewaycommunity.church
SUMMARY:Life University Family Night
DESCRIPTION:Youth and Adult Bible Studies\nYouth and Adult Bible Studies \nWednesday nights are family night! Join us for dinner from 5:00 – 5:45 pm then stay for our selection of Bibles studies for all ages. Kids ages 4-12 can participate in Kids Rock-t Wednesdays to learn about God in a fun and engaging way. Youth in grades 7-12 will join Pastor Clay and his wife Cindi in our awesome game room to hang out and hear a weekly challenge. For a list of all the adult classes being offered\, click here.
URL:https://gatewaycommunity.church/events/life-university-family-night-28/2026-02-18/
LOCATION:Gateway Community Church Family Life Center\, 2801 Tropic St\, TITUSVILLE\, FL\, 32796\, United States
CATEGORIES:Bible Study,Family Night,Women's Bible Study
END:VEVENT
BEGIN:VEVENT
DTSTART;TZID=America/New_York:20260215T180000
DTEND;TZID=America/New_York:20260215T190000
DTSTAMP:20260424T170121
CREATED:20260209T002837Z
LAST-MODIFIED:20260209T002837Z
UID:10002683-1771178400-1771182000@gatewaycommunity.church
SUMMARY:Life University Family Night
DESCRIPTION:Youth and Adult Bible Studies\nYouth and Adult Bible Studies \nWednesday nights are family night! Join us for dinner from 5:00 – 5:45 pm then stay for our selection of Bibles studies for all ages. Kids ages 4-12 can participate in Kids Rock-t Wednesdays to learn about God in a fun and engaging way. Youth in grades 7-12 will join Pastor Clay and his wife Cindi in our awesome game room to hang out and hear a weekly challenge. For a list of all the adult classes being offered\, click here.
URL:https://gatewaycommunity.church/events/life-university-family-night-28/2026-02-15/
LOCATION:Gateway Community Church Family Life Center\, 2801 Tropic St\, TITUSVILLE\, FL\, 32796\, United States
CATEGORIES:Bible Study,Family Night,Women's Bible Study
END:VEVENT
BEGIN:VEVENT
DTSTART;TZID=America/New_York:20260211T180000
DTEND;TZID=America/New_York:20260211T190000
DTSTAMP:20260424T170121
CREATED:20260209T002837Z
LAST-MODIFIED:20260209T002837Z
UID:10002682-1770832800-1770836400@gatewaycommunity.church
SUMMARY:Life University Family Night
DESCRIPTION:Youth and Adult Bible Studies\nYouth and Adult Bible Studies \nWednesday nights are family night! Join us for dinner from 5:00 – 5:45 pm then stay for our selection of Bibles studies for all ages. Kids ages 4-12 can participate in Kids Rock-t Wednesdays to learn about God in a fun and engaging way. Youth in grades 7-12 will join Pastor Clay and his wife Cindi in our awesome game room to hang out and hear a weekly challenge. For a list of all the adult classes being offered\, click here.
URL:https://gatewaycommunity.church/events/life-university-family-night-28/2026-02-11/
LOCATION:Gateway Community Church Family Life Center\, 2801 Tropic St\, TITUSVILLE\, FL\, 32796\, United States
CATEGORIES:Bible Study,Family Night,Women's Bible Study
END:VEVENT
BEGIN:VEVENT
DTSTART;TZID=America/New_York:20260208T180000
DTEND;TZID=America/New_York:20260208T190000
DTSTAMP:20260424T170121
CREATED:20260209T002837Z
LAST-MODIFIED:20260209T002837Z
UID:10002681-1770573600-1770577200@gatewaycommunity.church
SUMMARY:Life University Family Night
DESCRIPTION:Youth and Adult Bible Studies\nYouth and Adult Bible Studies \nWednesday nights are family night! Join us for dinner from 5:00 – 5:45 pm then stay for our selection of Bibles studies for all ages. Kids ages 4-12 can participate in Kids Rock-t Wednesdays to learn about God in a fun and engaging way. Youth in grades 7-12 will join Pastor Clay and his wife Cindi in our awesome game room to hang out and hear a weekly challenge. For a list of all the adult classes being offered\, click here.
URL:https://gatewaycommunity.church/events/life-university-family-night-28/2026-02-08/
LOCATION:Gateway Community Church Family Life Center\, 2801 Tropic St\, TITUSVILLE\, FL\, 32796\, United States
CATEGORIES:Bible Study,Family Night,Women's Bible Study
END:VEVENT
BEGIN:VEVENT
DTSTART;TZID=America/New_York:20260204T180000
DTEND;TZID=America/New_York:20260204T190000
DTSTAMP:20260424T170121
CREATED:20260209T002837Z
LAST-MODIFIED:20260209T002837Z
UID:10002680-1770228000-1770231600@gatewaycommunity.church
SUMMARY:Life University Family Night
DESCRIPTION:Youth and Adult Bible Studies\nYouth and Adult Bible Studies \nWednesday nights are family night! Join us for dinner from 5:00 – 5:45 pm then stay for our selection of Bibles studies for all ages. Kids ages 4-12 can participate in Kids Rock-t Wednesdays to learn about God in a fun and engaging way. Youth in grades 7-12 will join Pastor Clay and his wife Cindi in our awesome game room to hang out and hear a weekly challenge. For a list of all the adult classes being offered\, click here.
URL:https://gatewaycommunity.church/events/life-university-family-night-28/2026-02-04/
LOCATION:Gateway Community Church Family Life Center\, 2801 Tropic St\, TITUSVILLE\, FL\, 32796\, United States
CATEGORIES:Bible Study,Family Night,Women's Bible Study
END:VEVENT
BEGIN:VEVENT
DTSTART;TZID=America/New_York:20251105T180000
DTEND;TZID=America/New_York:20251105T190000
DTSTAMP:20260424T170121
CREATED:20250820T084212Z
LAST-MODIFIED:20250831T184707Z
UID:10002632-1762365600-1762369200@gatewaycommunity.church
SUMMARY:Life University Family Night
DESCRIPTION:Youth and Adult Bible Studies\nYouth and Adult Bible Studies \nWednesday nights are family night! Join us for dinner from 5:00 – 5:45 pm then stay for our selection of Bibles studies for all ages. Kids ages 4-12 can participate in Kids Rock-t Wednesdays to learn about God in a fun and engaging way. Youth in grades 7-12 will join Pastor Clay and his wife Cindi in our awesome game room to hang out and hear a weekly challenge. For a list of all the adult classes being offered\, click here.
URL:https://gatewaycommunity.church/events/life-university-family-night-27/2025-11-05/
LOCATION:Gateway Community Church Family Life Center\, 2801 Tropic St\, TITUSVILLE\, FL\, 32796\, United States
CATEGORIES:Bible Study,Family Night
END:VEVENT
BEGIN:VEVENT
DTSTART;TZID=America/New_York:20251029T180000
DTEND;TZID=America/New_York:20251029T190000
DTSTAMP:20260424T170121
CREATED:20250820T084212Z
LAST-MODIFIED:20250831T184707Z
UID:10002631-1761760800-1761764400@gatewaycommunity.church
SUMMARY:Life University Family Night
DESCRIPTION:Youth and Adult Bible Studies\nYouth and Adult Bible Studies \nWednesday nights are family night! Join us for dinner from 5:00 – 5:45 pm then stay for our selection of Bibles studies for all ages. Kids ages 4-12 can participate in Kids Rock-t Wednesdays to learn about God in a fun and engaging way. Youth in grades 7-12 will join Pastor Clay and his wife Cindi in our awesome game room to hang out and hear a weekly challenge. For a list of all the adult classes being offered\, click here.
URL:https://gatewaycommunity.church/events/life-university-family-night-27/2025-10-29/
LOCATION:Gateway Community Church Family Life Center\, 2801 Tropic St\, TITUSVILLE\, FL\, 32796\, United States
CATEGORIES:Bible Study,Family Night
END:VEVENT
BEGIN:VEVENT
DTSTART;TZID=America/New_York:20251022T180000
DTEND;TZID=America/New_York:20251022T190000
DTSTAMP:20260424T170121
CREATED:20250820T084212Z
LAST-MODIFIED:20250831T184707Z
UID:10002630-1761156000-1761159600@gatewaycommunity.church
SUMMARY:Life University Family Night
DESCRIPTION:Youth and Adult Bible Studies\nYouth and Adult Bible Studies \nWednesday nights are family night! Join us for dinner from 5:00 – 5:45 pm then stay for our selection of Bibles studies for all ages. Kids ages 4-12 can participate in Kids Rock-t Wednesdays to learn about God in a fun and engaging way. Youth in grades 7-12 will join Pastor Clay and his wife Cindi in our awesome game room to hang out and hear a weekly challenge. For a list of all the adult classes being offered\, click here.
URL:https://gatewaycommunity.church/events/life-university-family-night-27/2025-10-22/
LOCATION:Gateway Community Church Family Life Center\, 2801 Tropic St\, TITUSVILLE\, FL\, 32796\, United States
CATEGORIES:Bible Study,Family Night
END:VEVENT
BEGIN:VEVENT
DTSTART;TZID=America/New_York:20251015T180000
DTEND;TZID=America/New_York:20251015T190000
DTSTAMP:20260424T170121
CREATED:20250820T084212Z
LAST-MODIFIED:20250831T184707Z
UID:10002629-1760551200-1760554800@gatewaycommunity.church
SUMMARY:Life University Family Night
DESCRIPTION:Youth and Adult Bible Studies\nYouth and Adult Bible Studies \nWednesday nights are family night! Join us for dinner from 5:00 – 5:45 pm then stay for our selection of Bibles studies for all ages. Kids ages 4-12 can participate in Kids Rock-t Wednesdays to learn about God in a fun and engaging way. Youth in grades 7-12 will join Pastor Clay and his wife Cindi in our awesome game room to hang out and hear a weekly challenge. For a list of all the adult classes being offered\, click here.
URL:https://gatewaycommunity.church/events/life-university-family-night-27/2025-10-15/
LOCATION:Gateway Community Church Family Life Center\, 2801 Tropic St\, TITUSVILLE\, FL\, 32796\, United States
CATEGORIES:Bible Study,Family Night
END:VEVENT
BEGIN:VEVENT
DTSTART;TZID=America/New_York:20251008T180000
DTEND;TZID=America/New_York:20251008T190000
DTSTAMP:20260424T170121
CREATED:20250820T084212Z
LAST-MODIFIED:20250831T184707Z
UID:10002628-1759946400-1759950000@gatewaycommunity.church
SUMMARY:Life University Family Night
DESCRIPTION:Youth and Adult Bible Studies\nYouth and Adult Bible Studies \nWednesday nights are family night! Join us for dinner from 5:00 – 5:45 pm then stay for our selection of Bibles studies for all ages. Kids ages 4-12 can participate in Kids Rock-t Wednesdays to learn about God in a fun and engaging way. Youth in grades 7-12 will join Pastor Clay and his wife Cindi in our awesome game room to hang out and hear a weekly challenge. For a list of all the adult classes being offered\, click here.
URL:https://gatewaycommunity.church/events/life-university-family-night-27/2025-10-08/
LOCATION:Gateway Community Church Family Life Center\, 2801 Tropic St\, TITUSVILLE\, FL\, 32796\, United States
CATEGORIES:Bible Study,Family Night
END:VEVENT
BEGIN:VEVENT
DTSTART;TZID=America/New_York:20251001T180000
DTEND;TZID=America/New_York:20251001T190000
DTSTAMP:20260424T170121
CREATED:20250820T084212Z
LAST-MODIFIED:20250831T184707Z
UID:10002627-1759341600-1759345200@gatewaycommunity.church
SUMMARY:Life University Family Night
DESCRIPTION:Youth and Adult Bible Studies\nYouth and Adult Bible Studies \nWednesday nights are family night! Join us for dinner from 5:00 – 5:45 pm then stay for our selection of Bibles studies for all ages. Kids ages 4-12 can participate in Kids Rock-t Wednesdays to learn about God in a fun and engaging way. Youth in grades 7-12 will join Pastor Clay and his wife Cindi in our awesome game room to hang out and hear a weekly challenge. For a list of all the adult classes being offered\, click here.
URL:https://gatewaycommunity.church/events/life-university-family-night-27/2025-10-01/
LOCATION:Gateway Community Church Family Life Center\, 2801 Tropic St\, TITUSVILLE\, FL\, 32796\, United States
CATEGORIES:Bible Study,Family Night
END:VEVENT
BEGIN:VEVENT
DTSTART;TZID=America/New_York:20250924T180000
DTEND;TZID=America/New_York:20250924T190000
DTSTAMP:20260424T170121
CREATED:20250820T084212Z
LAST-MODIFIED:20250831T184707Z
UID:10002626-1758736800-1758740400@gatewaycommunity.church
SUMMARY:Life University Family Night
DESCRIPTION:Youth and Adult Bible Studies\nYouth and Adult Bible Studies \nWednesday nights are family night! Join us for dinner from 5:00 – 5:45 pm then stay for our selection of Bibles studies for all ages. Kids ages 4-12 can participate in Kids Rock-t Wednesdays to learn about God in a fun and engaging way. Youth in grades 7-12 will join Pastor Clay and his wife Cindi in our awesome game room to hang out and hear a weekly challenge. For a list of all the adult classes being offered\, click here.
URL:https://gatewaycommunity.church/events/life-university-family-night-27/2025-09-24/
LOCATION:Gateway Community Church Family Life Center\, 2801 Tropic St\, TITUSVILLE\, FL\, 32796\, United States
CATEGORIES:Bible Study,Family Night
END:VEVENT
BEGIN:VEVENT
DTSTART;TZID=America/New_York:20250917T180000
DTEND;TZID=America/New_York:20250917T190000
DTSTAMP:20260424T170121
CREATED:20250820T084212Z
LAST-MODIFIED:20250831T184707Z
UID:10002625-1758132000-1758135600@gatewaycommunity.church
SUMMARY:Life University Family Night
DESCRIPTION:Youth and Adult Bible Studies\nYouth and Adult Bible Studies \nWednesday nights are family night! Join us for dinner from 5:00 – 5:45 pm then stay for our selection of Bibles studies for all ages. Kids ages 4-12 can participate in Kids Rock-t Wednesdays to learn about God in a fun and engaging way. Youth in grades 7-12 will join Pastor Clay and his wife Cindi in our awesome game room to hang out and hear a weekly challenge. For a list of all the adult classes being offered\, click here.
URL:https://gatewaycommunity.church/events/life-university-family-night-27/2025-09-17/
LOCATION:Gateway Community Church Family Life Center\, 2801 Tropic St\, TITUSVILLE\, FL\, 32796\, United States
CATEGORIES:Bible Study,Family Night
END:VEVENT
BEGIN:VEVENT
DTSTART;TZID=America/New_York:20250910T180000
DTEND;TZID=America/New_York:20250910T190000
DTSTAMP:20260424T170121
CREATED:20250820T084212Z
LAST-MODIFIED:20250831T184707Z
UID:10002624-1757527200-1757530800@gatewaycommunity.church
SUMMARY:Life University Family Night
DESCRIPTION:Youth and Adult Bible Studies\nYouth and Adult Bible Studies \nWednesday nights are family night! Join us for dinner from 5:00 – 5:45 pm then stay for our selection of Bibles studies for all ages. Kids ages 4-12 can participate in Kids Rock-t Wednesdays to learn about God in a fun and engaging way. Youth in grades 7-12 will join Pastor Clay and his wife Cindi in our awesome game room to hang out and hear a weekly challenge. For a list of all the adult classes being offered\, click here.
URL:https://gatewaycommunity.church/events/life-university-family-night-27/2025-09-10/
LOCATION:Gateway Community Church Family Life Center\, 2801 Tropic St\, TITUSVILLE\, FL\, 32796\, United States
CATEGORIES:Bible Study,Family Night
END:VEVENT
BEGIN:VEVENT
DTSTART;TZID=America/New_York:20250903T180000
DTEND;TZID=America/New_York:20250903T190000
DTSTAMP:20260424T170121
CREATED:20250820T084212Z
LAST-MODIFIED:20250831T184707Z
UID:10002623-1756922400-1756926000@gatewaycommunity.church
SUMMARY:Life University Family Night
DESCRIPTION:Youth and Adult Bible Studies\nYouth and Adult Bible Studies \nWednesday nights are family night! Join us for dinner from 5:00 – 5:45 pm then stay for our selection of Bibles studies for all ages. Kids ages 4-12 can participate in Kids Rock-t Wednesdays to learn about God in a fun and engaging way. Youth in grades 7-12 will join Pastor Clay and his wife Cindi in our awesome game room to hang out and hear a weekly challenge. For a list of all the adult classes being offered\, click here.
URL:https://gatewaycommunity.church/events/life-university-family-night-27/2025-09-03/
LOCATION:Gateway Community Church Family Life Center\, 2801 Tropic St\, TITUSVILLE\, FL\, 32796\, United States
CATEGORIES:Bible Study,Family Night
END:VEVENT
BEGIN:VEVENT
DTSTART;TZID=America/New_York:20250409T180000
DTEND;TZID=America/New_York:20250409T190000
DTSTAMP:20260424T170121
CREATED:20250406T232937Z
LAST-MODIFIED:20250406T232937Z
UID:10002106-1744221600-1744225200@gatewaycommunity.church
SUMMARY:Life University Family Night
DESCRIPTION:Join us for Bible study and fellowship. Click here for a listing of all classes available.
URL:https://gatewaycommunity.church/events/life-university-family-night-2-2/2025-04-09/
LOCATION:Gateway Community Church West Wing\, 2801 Tropic St\, TITUSVILLE\, FL\, 32796\, United States
CATEGORIES:Bible Study,Family Night,Women's Bible Study
END:VEVENT
BEGIN:VEVENT
DTSTART;TZID=America/New_York:20250402T180000
DTEND;TZID=America/New_York:20250402T190000
DTSTAMP:20260424T170121
CREATED:20250204T213609Z
LAST-MODIFIED:20250406T232745Z
UID:10001989-1743616800-1743620400@gatewaycommunity.church
SUMMARY:Life University Family Night
DESCRIPTION:Join us for Bible study and fellowship. Click here for a listing of all classes available.
URL:https://gatewaycommunity.church/events/life-university-family-night-2/2025-04-02/
LOCATION:Gateway Community Church West Wing\, 2801 Tropic St\, TITUSVILLE\, FL\, 32796\, United States
CATEGORIES:Bible Study,Family Night,Women's Bible Study
END:VEVENT
BEGIN:VEVENT
DTSTART;TZID=America/New_York:20250326T180000
DTEND;TZID=America/New_York:20250326T190000
DTSTAMP:20260424T170121
CREATED:20250204T213609Z
LAST-MODIFIED:20250406T232745Z
UID:10001988-1743012000-1743015600@gatewaycommunity.church
SUMMARY:Life University Family Night
DESCRIPTION:Join us for Bible study and fellowship. Click here for a listing of all classes available.
URL:https://gatewaycommunity.church/events/life-university-family-night-2/2025-03-26/
LOCATION:Gateway Community Church West Wing\, 2801 Tropic St\, TITUSVILLE\, FL\, 32796\, United States
CATEGORIES:Bible Study,Family Night,Women's Bible Study
END:VEVENT
BEGIN:VEVENT
DTSTART;TZID=America/New_York:20250319T180000
DTEND;TZID=America/New_York:20250319T190000
DTSTAMP:20260424T170121
CREATED:20250204T213609Z
LAST-MODIFIED:20250406T232745Z
UID:10001987-1742407200-1742410800@gatewaycommunity.church
SUMMARY:Life University Family Night
DESCRIPTION:Join us for Bible study and fellowship. Click here for a listing of all classes available.
URL:https://gatewaycommunity.church/events/life-university-family-night-2/2025-03-19/
LOCATION:Gateway Community Church West Wing\, 2801 Tropic St\, TITUSVILLE\, FL\, 32796\, United States
CATEGORIES:Bible Study,Family Night,Women's Bible Study
END:VEVENT
BEGIN:VEVENT
DTSTART;TZID=America/New_York:20250312T180000
DTEND;TZID=America/New_York:20250312T190000
DTSTAMP:20260424T170121
CREATED:20250204T213609Z
LAST-MODIFIED:20250406T232745Z
UID:10001986-1741802400-1741806000@gatewaycommunity.church
SUMMARY:Life University Family Night
DESCRIPTION:Join us for Bible study and fellowship. Click here for a listing of all classes available.
URL:https://gatewaycommunity.church/events/life-university-family-night-2/2025-03-12/
LOCATION:Gateway Community Church West Wing\, 2801 Tropic St\, TITUSVILLE\, FL\, 32796\, United States
CATEGORIES:Bible Study,Family Night,Women's Bible Study
END:VEVENT
BEGIN:VEVENT
DTSTART;TZID=America/New_York:20250305T180000
DTEND;TZID=America/New_York:20250305T190000
DTSTAMP:20260424T170121
CREATED:20250204T213609Z
LAST-MODIFIED:20250406T232745Z
UID:10001985-1741197600-1741201200@gatewaycommunity.church
SUMMARY:Life University Family Night
DESCRIPTION:Join us for Bible study and fellowship. Click here for a listing of all classes available.
URL:https://gatewaycommunity.church/events/life-university-family-night-2/2025-03-05/
LOCATION:Gateway Community Church West Wing\, 2801 Tropic St\, TITUSVILLE\, FL\, 32796\, United States
CATEGORIES:Bible Study,Family Night,Women's Bible Study
END:VEVENT
BEGIN:VEVENT
DTSTART;TZID=America/New_York:20250226T180000
DTEND;TZID=America/New_York:20250226T190000
DTSTAMP:20260424T170121
CREATED:20250204T213609Z
LAST-MODIFIED:20250406T232745Z
UID:10001984-1740592800-1740596400@gatewaycommunity.church
SUMMARY:Life University Family Night
DESCRIPTION:Join us for Bible study and fellowship. Click here for a listing of all classes available.
URL:https://gatewaycommunity.church/events/life-university-family-night-2/2025-02-26/
LOCATION:Gateway Community Church West Wing\, 2801 Tropic St\, TITUSVILLE\, FL\, 32796\, United States
CATEGORIES:Bible Study,Family Night,Women's Bible Study
END:VEVENT
BEGIN:VEVENT
DTSTART;TZID=America/New_York:20250219T180000
DTEND;TZID=America/New_York:20250219T190000
DTSTAMP:20260424T170121
CREATED:20250204T213609Z
LAST-MODIFIED:20250406T232745Z
UID:10001983-1739988000-1739991600@gatewaycommunity.church
SUMMARY:Life University Family Night
DESCRIPTION:Join us for Bible study and fellowship. Click here for a listing of all classes available.
URL:https://gatewaycommunity.church/events/life-university-family-night-2/2025-02-19/
LOCATION:Gateway Community Church West Wing\, 2801 Tropic St\, TITUSVILLE\, FL\, 32796\, United States
CATEGORIES:Bible Study,Family Night,Women's Bible Study
END:VEVENT
BEGIN:VEVENT
DTSTART;TZID=America/New_York:20250212T180000
DTEND;TZID=America/New_York:20250212T190000
DTSTAMP:20260424T170121
CREATED:20250204T213609Z
LAST-MODIFIED:20250406T232745Z
UID:10001982-1739383200-1739386800@gatewaycommunity.church
SUMMARY:Life University Family Night
DESCRIPTION:Join us for Bible study and fellowship. Click here for a listing of all classes available.
URL:https://gatewaycommunity.church/events/life-university-family-night-2/2025-02-12/
LOCATION:Gateway Community Church West Wing\, 2801 Tropic St\, TITUSVILLE\, FL\, 32796\, United States
CATEGORIES:Bible Study,Family Night,Women's Bible Study
END:VEVENT
END:VCALENDAR