BEGIN:VCALENDAR
VERSION:2.0
PRODID:-// - ECPv6.15.20//NONSGML v1.0//EN
CALSCALE:GREGORIAN
METHOD:PUBLISH
X-ORIGINAL-URL:https://gatewaycommunity.church
X-WR-CALDESC:Events for 
REFRESH-INTERVAL;VALUE=DURATION:PT1H
X-Robots-Tag:noindex
X-PUBLISHED-TTL:PT1H
BEGIN:VTIMEZONE
TZID:America/New_York
BEGIN:DAYLIGHT
TZOFFSETFROM:-0500
TZOFFSETTO:-0400
TZNAME:EDT
DTSTART:20250309T070000
END:DAYLIGHT
BEGIN:STANDARD
TZOFFSETFROM:-0400
TZOFFSETTO:-0500
TZNAME:EST
DTSTART:20251102T060000
END:STANDARD
BEGIN:DAYLIGHT
TZOFFSETFROM:-0500
TZOFFSETTO:-0400
TZNAME:EDT
DTSTART:20260308T070000
END:DAYLIGHT
BEGIN:STANDARD
TZOFFSETFROM:-0400
TZOFFSETTO:-0500
TZNAME:EST
DTSTART:20261101T060000
END:STANDARD
BEGIN:DAYLIGHT
TZOFFSETFROM:-0500
TZOFFSETTO:-0400
TZNAME:EDT
DTSTART:20270314T070000
END:DAYLIGHT
BEGIN:STANDARD
TZOFFSETFROM:-0400
TZOFFSETTO:-0500
TZNAME:EST
DTSTART:20271107T060000
END:STANDARD
END:VTIMEZONE
BEGIN:VEVENT
DTSTART;TZID=America/New_York:20260326T180000
DTEND;TZID=America/New_York:20260326T193000
DTSTAMP:20260424T165754
CREATED:20240218T234539Z
LAST-MODIFIED:20250831T185337Z
UID:10001107-1774548000-1774553400@gatewaycommunity.church
SUMMARY:Pickleball Evening Session
DESCRIPTION:Ball waving with a pickleball paddle\nJoin us for Pickleball on our indoor court. Bring your own paddle or use one of our loaners. Everyone is welcome!
URL:https://gatewaycommunity.church/events/pickleball-evening-session-68/2026-03-26/
LOCATION:Gateway Community Church Family Life Center\, 2801 Tropic St\, TITUSVILLE\, FL\, 32796\, United States
CATEGORIES:Community Events,Pickleball
END:VEVENT
BEGIN:VEVENT
DTSTART;TZID=America/New_York:20260324T180000
DTEND;TZID=America/New_York:20260324T193000
DTSTAMP:20260424T165754
CREATED:20240218T234804Z
LAST-MODIFIED:20250831T184934Z
UID:10001778-1774375200-1774380600@gatewaycommunity.church
SUMMARY:Pickleball for Beginners and Intermediates
DESCRIPTION:Ball waving with a pickleball paddle\nIf you want to learn how to play Pickleball\, or just brush up on your skills before joining more advanced players\, here’s your chance. Join us on our indoor court. Bring your own paddle or use one of our loaners. Everyone is welcome!
URL:https://gatewaycommunity.church/events/pickleball-morning-session-31/2026-03-24/
LOCATION:Gateway Community Church Family Life Center\, 2801 Tropic St\, TITUSVILLE\, FL\, 32796\, United States
CATEGORIES:Community Events,Pickleball
END:VEVENT
BEGIN:VEVENT
DTSTART;TZID=America/New_York:20260323T180000
DTEND;TZID=America/New_York:20260323T193000
DTSTAMP:20260424T165754
CREATED:20240218T234539Z
LAST-MODIFIED:20250831T185337Z
UID:10001106-1774288800-1774294200@gatewaycommunity.church
SUMMARY:Pickleball Evening Session
DESCRIPTION:Ball waving with a pickleball paddle\nJoin us for Pickleball on our indoor court. Bring your own paddle or use one of our loaners. Everyone is welcome!
URL:https://gatewaycommunity.church/events/pickleball-evening-session-68/2026-03-23/
LOCATION:Gateway Community Church Family Life Center\, 2801 Tropic St\, TITUSVILLE\, FL\, 32796\, United States
CATEGORIES:Community Events,Pickleball
END:VEVENT
BEGIN:VEVENT
DTSTART;TZID=America/New_York:20260319T180000
DTEND;TZID=America/New_York:20260319T193000
DTSTAMP:20260424T165754
CREATED:20240218T234539Z
LAST-MODIFIED:20250831T185337Z
UID:10001105-1773943200-1773948600@gatewaycommunity.church
SUMMARY:Pickleball Evening Session
DESCRIPTION:Ball waving with a pickleball paddle\nJoin us for Pickleball on our indoor court. Bring your own paddle or use one of our loaners. Everyone is welcome!
URL:https://gatewaycommunity.church/events/pickleball-evening-session-68/2026-03-19/
LOCATION:Gateway Community Church Family Life Center\, 2801 Tropic St\, TITUSVILLE\, FL\, 32796\, United States
CATEGORIES:Community Events,Pickleball
END:VEVENT
BEGIN:VEVENT
DTSTART;TZID=America/New_York:20260317T180000
DTEND;TZID=America/New_York:20260317T193000
DTSTAMP:20260424T165754
CREATED:20240218T234804Z
LAST-MODIFIED:20250831T184934Z
UID:10001777-1773770400-1773775800@gatewaycommunity.church
SUMMARY:Pickleball for Beginners and Intermediates
DESCRIPTION:Ball waving with a pickleball paddle\nIf you want to learn how to play Pickleball\, or just brush up on your skills before joining more advanced players\, here’s your chance. Join us on our indoor court. Bring your own paddle or use one of our loaners. Everyone is welcome!
URL:https://gatewaycommunity.church/events/pickleball-morning-session-31/2026-03-17/
LOCATION:Gateway Community Church Family Life Center\, 2801 Tropic St\, TITUSVILLE\, FL\, 32796\, United States
CATEGORIES:Community Events,Pickleball
END:VEVENT
BEGIN:VEVENT
DTSTART;TZID=America/New_York:20260316T180000
DTEND;TZID=America/New_York:20260316T193000
DTSTAMP:20260424T165754
CREATED:20240218T234539Z
LAST-MODIFIED:20250831T185337Z
UID:10001104-1773684000-1773689400@gatewaycommunity.church
SUMMARY:Pickleball Evening Session
DESCRIPTION:Ball waving with a pickleball paddle\nJoin us for Pickleball on our indoor court. Bring your own paddle or use one of our loaners. Everyone is welcome!
URL:https://gatewaycommunity.church/events/pickleball-evening-session-68/2026-03-16/
LOCATION:Gateway Community Church Family Life Center\, 2801 Tropic St\, TITUSVILLE\, FL\, 32796\, United States
CATEGORIES:Community Events,Pickleball
END:VEVENT
BEGIN:VEVENT
DTSTART;TZID=America/New_York:20260312T180000
DTEND;TZID=America/New_York:20260312T193000
DTSTAMP:20260424T165754
CREATED:20240218T234539Z
LAST-MODIFIED:20250831T185337Z
UID:10001103-1773338400-1773343800@gatewaycommunity.church
SUMMARY:Pickleball Evening Session
DESCRIPTION:Ball waving with a pickleball paddle\nJoin us for Pickleball on our indoor court. Bring your own paddle or use one of our loaners. Everyone is welcome!
URL:https://gatewaycommunity.church/events/pickleball-evening-session-68/2026-03-12/
LOCATION:Gateway Community Church Family Life Center\, 2801 Tropic St\, TITUSVILLE\, FL\, 32796\, United States
CATEGORIES:Community Events,Pickleball
END:VEVENT
BEGIN:VEVENT
DTSTART;TZID=America/New_York:20260310T180000
DTEND;TZID=America/New_York:20260310T193000
DTSTAMP:20260424T165754
CREATED:20240218T234804Z
LAST-MODIFIED:20250831T184934Z
UID:10001776-1773165600-1773171000@gatewaycommunity.church
SUMMARY:Pickleball for Beginners and Intermediates
DESCRIPTION:Ball waving with a pickleball paddle\nIf you want to learn how to play Pickleball\, or just brush up on your skills before joining more advanced players\, here’s your chance. Join us on our indoor court. Bring your own paddle or use one of our loaners. Everyone is welcome!
URL:https://gatewaycommunity.church/events/pickleball-morning-session-31/2026-03-10/
LOCATION:Gateway Community Church Family Life Center\, 2801 Tropic St\, TITUSVILLE\, FL\, 32796\, United States
CATEGORIES:Community Events,Pickleball
END:VEVENT
BEGIN:VEVENT
DTSTART;TZID=America/New_York:20260309T180000
DTEND;TZID=America/New_York:20260309T193000
DTSTAMP:20260424T165754
CREATED:20240218T234539Z
LAST-MODIFIED:20250831T185337Z
UID:10001102-1773079200-1773084600@gatewaycommunity.church
SUMMARY:Pickleball Evening Session
DESCRIPTION:Ball waving with a pickleball paddle\nJoin us for Pickleball on our indoor court. Bring your own paddle or use one of our loaners. Everyone is welcome!
URL:https://gatewaycommunity.church/events/pickleball-evening-session-68/2026-03-09/
LOCATION:Gateway Community Church Family Life Center\, 2801 Tropic St\, TITUSVILLE\, FL\, 32796\, United States
CATEGORIES:Community Events,Pickleball
END:VEVENT
BEGIN:VEVENT
DTSTART;TZID=America/New_York:20260305T180000
DTEND;TZID=America/New_York:20260305T193000
DTSTAMP:20260424T165754
CREATED:20240218T234539Z
LAST-MODIFIED:20250831T185337Z
UID:10001101-1772733600-1772739000@gatewaycommunity.church
SUMMARY:Pickleball Evening Session
DESCRIPTION:Ball waving with a pickleball paddle\nJoin us for Pickleball on our indoor court. Bring your own paddle or use one of our loaners. Everyone is welcome!
URL:https://gatewaycommunity.church/events/pickleball-evening-session-68/2026-03-05/
LOCATION:Gateway Community Church Family Life Center\, 2801 Tropic St\, TITUSVILLE\, FL\, 32796\, United States
CATEGORIES:Community Events,Pickleball
END:VEVENT
BEGIN:VEVENT
DTSTART;TZID=America/New_York:20260303T180000
DTEND;TZID=America/New_York:20260303T193000
DTSTAMP:20260424T165754
CREATED:20240218T234804Z
LAST-MODIFIED:20250831T184934Z
UID:10001775-1772560800-1772566200@gatewaycommunity.church
SUMMARY:Pickleball for Beginners and Intermediates
DESCRIPTION:Ball waving with a pickleball paddle\nIf you want to learn how to play Pickleball\, or just brush up on your skills before joining more advanced players\, here’s your chance. Join us on our indoor court. Bring your own paddle or use one of our loaners. Everyone is welcome!
URL:https://gatewaycommunity.church/events/pickleball-morning-session-31/2026-03-03/
LOCATION:Gateway Community Church Family Life Center\, 2801 Tropic St\, TITUSVILLE\, FL\, 32796\, United States
CATEGORIES:Community Events,Pickleball
END:VEVENT
BEGIN:VEVENT
DTSTART;TZID=America/New_York:20260302T180000
DTEND;TZID=America/New_York:20260302T193000
DTSTAMP:20260424T165754
CREATED:20240218T234539Z
LAST-MODIFIED:20250831T185337Z
UID:10001100-1772474400-1772479800@gatewaycommunity.church
SUMMARY:Pickleball Evening Session
DESCRIPTION:Ball waving with a pickleball paddle\nJoin us for Pickleball on our indoor court. Bring your own paddle or use one of our loaners. Everyone is welcome!
URL:https://gatewaycommunity.church/events/pickleball-evening-session-68/2026-03-02/
LOCATION:Gateway Community Church Family Life Center\, 2801 Tropic St\, TITUSVILLE\, FL\, 32796\, United States
CATEGORIES:Community Events,Pickleball
END:VEVENT
BEGIN:VEVENT
DTSTART;TZID=America/New_York:20260226T180000
DTEND;TZID=America/New_York:20260226T193000
DTSTAMP:20260424T165754
CREATED:20240218T234539Z
LAST-MODIFIED:20250831T185337Z
UID:10001099-1772128800-1772134200@gatewaycommunity.church
SUMMARY:Pickleball Evening Session
DESCRIPTION:Ball waving with a pickleball paddle\nJoin us for Pickleball on our indoor court. Bring your own paddle or use one of our loaners. Everyone is welcome!
URL:https://gatewaycommunity.church/events/pickleball-evening-session-68/2026-02-26/
LOCATION:Gateway Community Church Family Life Center\, 2801 Tropic St\, TITUSVILLE\, FL\, 32796\, United States
CATEGORIES:Community Events,Pickleball
END:VEVENT
BEGIN:VEVENT
DTSTART;TZID=America/New_York:20260224T180000
DTEND;TZID=America/New_York:20260224T193000
DTSTAMP:20260424T165754
CREATED:20240218T234804Z
LAST-MODIFIED:20250831T184934Z
UID:10001774-1771956000-1771961400@gatewaycommunity.church
SUMMARY:Pickleball for Beginners and Intermediates
DESCRIPTION:Ball waving with a pickleball paddle\nIf you want to learn how to play Pickleball\, or just brush up on your skills before joining more advanced players\, here’s your chance. Join us on our indoor court. Bring your own paddle or use one of our loaners. Everyone is welcome!
URL:https://gatewaycommunity.church/events/pickleball-morning-session-31/2026-02-24/
LOCATION:Gateway Community Church Family Life Center\, 2801 Tropic St\, TITUSVILLE\, FL\, 32796\, United States
CATEGORIES:Community Events,Pickleball
END:VEVENT
BEGIN:VEVENT
DTSTART;TZID=America/New_York:20260223T180000
DTEND;TZID=America/New_York:20260223T193000
DTSTAMP:20260424T165754
CREATED:20240218T234539Z
LAST-MODIFIED:20250831T185337Z
UID:10001098-1771869600-1771875000@gatewaycommunity.church
SUMMARY:Pickleball Evening Session
DESCRIPTION:Ball waving with a pickleball paddle\nJoin us for Pickleball on our indoor court. Bring your own paddle or use one of our loaners. Everyone is welcome!
URL:https://gatewaycommunity.church/events/pickleball-evening-session-68/2026-02-23/
LOCATION:Gateway Community Church Family Life Center\, 2801 Tropic St\, TITUSVILLE\, FL\, 32796\, United States
CATEGORIES:Community Events,Pickleball
END:VEVENT
BEGIN:VEVENT
DTSTART;TZID=America/New_York:20260219T180000
DTEND;TZID=America/New_York:20260219T193000
DTSTAMP:20260424T165754
CREATED:20240218T234539Z
LAST-MODIFIED:20250831T185337Z
UID:10001097-1771524000-1771529400@gatewaycommunity.church
SUMMARY:Pickleball Evening Session
DESCRIPTION:Ball waving with a pickleball paddle\nJoin us for Pickleball on our indoor court. Bring your own paddle or use one of our loaners. Everyone is welcome!
URL:https://gatewaycommunity.church/events/pickleball-evening-session-68/2026-02-19/
LOCATION:Gateway Community Church Family Life Center\, 2801 Tropic St\, TITUSVILLE\, FL\, 32796\, United States
CATEGORIES:Community Events,Pickleball
END:VEVENT
BEGIN:VEVENT
DTSTART;TZID=America/New_York:20260217T180000
DTEND;TZID=America/New_York:20260217T193000
DTSTAMP:20260424T165754
CREATED:20240218T234804Z
LAST-MODIFIED:20250831T184934Z
UID:10001773-1771351200-1771356600@gatewaycommunity.church
SUMMARY:Pickleball for Beginners and Intermediates
DESCRIPTION:Ball waving with a pickleball paddle\nIf you want to learn how to play Pickleball\, or just brush up on your skills before joining more advanced players\, here’s your chance. Join us on our indoor court. Bring your own paddle or use one of our loaners. Everyone is welcome!
URL:https://gatewaycommunity.church/events/pickleball-morning-session-31/2026-02-17/
LOCATION:Gateway Community Church Family Life Center\, 2801 Tropic St\, TITUSVILLE\, FL\, 32796\, United States
CATEGORIES:Community Events,Pickleball
END:VEVENT
BEGIN:VEVENT
DTSTART;TZID=America/New_York:20260216T180000
DTEND;TZID=America/New_York:20260216T193000
DTSTAMP:20260424T165754
CREATED:20240218T234539Z
LAST-MODIFIED:20250831T185337Z
UID:10001096-1771264800-1771270200@gatewaycommunity.church
SUMMARY:Pickleball Evening Session
DESCRIPTION:Ball waving with a pickleball paddle\nJoin us for Pickleball on our indoor court. Bring your own paddle or use one of our loaners. Everyone is welcome!
URL:https://gatewaycommunity.church/events/pickleball-evening-session-68/2026-02-16/
LOCATION:Gateway Community Church Family Life Center\, 2801 Tropic St\, TITUSVILLE\, FL\, 32796\, United States
CATEGORIES:Community Events,Pickleball
END:VEVENT
BEGIN:VEVENT
DTSTART;TZID=America/New_York:20260212T180000
DTEND;TZID=America/New_York:20260212T193000
DTSTAMP:20260424T165754
CREATED:20240218T234539Z
LAST-MODIFIED:20250831T185337Z
UID:10001095-1770919200-1770924600@gatewaycommunity.church
SUMMARY:Pickleball Evening Session
DESCRIPTION:Ball waving with a pickleball paddle\nJoin us for Pickleball on our indoor court. Bring your own paddle or use one of our loaners. Everyone is welcome!
URL:https://gatewaycommunity.church/events/pickleball-evening-session-68/2026-02-12/
LOCATION:Gateway Community Church Family Life Center\, 2801 Tropic St\, TITUSVILLE\, FL\, 32796\, United States
CATEGORIES:Community Events,Pickleball
END:VEVENT
BEGIN:VEVENT
DTSTART;TZID=America/New_York:20260210T180000
DTEND;TZID=America/New_York:20260210T193000
DTSTAMP:20260424T165754
CREATED:20240218T234804Z
LAST-MODIFIED:20250831T184934Z
UID:10001772-1770746400-1770751800@gatewaycommunity.church
SUMMARY:Pickleball for Beginners and Intermediates
DESCRIPTION:Ball waving with a pickleball paddle\nIf you want to learn how to play Pickleball\, or just brush up on your skills before joining more advanced players\, here’s your chance. Join us on our indoor court. Bring your own paddle or use one of our loaners. Everyone is welcome!
URL:https://gatewaycommunity.church/events/pickleball-morning-session-31/2026-02-10/
LOCATION:Gateway Community Church Family Life Center\, 2801 Tropic St\, TITUSVILLE\, FL\, 32796\, United States
CATEGORIES:Community Events,Pickleball
END:VEVENT
BEGIN:VEVENT
DTSTART;TZID=America/New_York:20260209T180000
DTEND;TZID=America/New_York:20260209T193000
DTSTAMP:20260424T165754
CREATED:20240218T234539Z
LAST-MODIFIED:20250831T185337Z
UID:10001094-1770660000-1770665400@gatewaycommunity.church
SUMMARY:Pickleball Evening Session
DESCRIPTION:Ball waving with a pickleball paddle\nJoin us for Pickleball on our indoor court. Bring your own paddle or use one of our loaners. Everyone is welcome!
URL:https://gatewaycommunity.church/events/pickleball-evening-session-68/2026-02-09/
LOCATION:Gateway Community Church Family Life Center\, 2801 Tropic St\, TITUSVILLE\, FL\, 32796\, United States
CATEGORIES:Community Events,Pickleball
END:VEVENT
BEGIN:VEVENT
DTSTART;TZID=America/New_York:20260205T180000
DTEND;TZID=America/New_York:20260205T193000
DTSTAMP:20260424T165754
CREATED:20240218T234539Z
LAST-MODIFIED:20250831T185337Z
UID:10001093-1770314400-1770319800@gatewaycommunity.church
SUMMARY:Pickleball Evening Session
DESCRIPTION:Ball waving with a pickleball paddle\nJoin us for Pickleball on our indoor court. Bring your own paddle or use one of our loaners. Everyone is welcome!
URL:https://gatewaycommunity.church/events/pickleball-evening-session-68/2026-02-05/
LOCATION:Gateway Community Church Family Life Center\, 2801 Tropic St\, TITUSVILLE\, FL\, 32796\, United States
CATEGORIES:Community Events,Pickleball
END:VEVENT
BEGIN:VEVENT
DTSTART;TZID=America/New_York:20260203T180000
DTEND;TZID=America/New_York:20260203T193000
DTSTAMP:20260424T165754
CREATED:20240218T234804Z
LAST-MODIFIED:20250831T184934Z
UID:10001771-1770141600-1770147000@gatewaycommunity.church
SUMMARY:Pickleball for Beginners and Intermediates
DESCRIPTION:Ball waving with a pickleball paddle\nIf you want to learn how to play Pickleball\, or just brush up on your skills before joining more advanced players\, here’s your chance. Join us on our indoor court. Bring your own paddle or use one of our loaners. Everyone is welcome!
URL:https://gatewaycommunity.church/events/pickleball-morning-session-31/2026-02-03/
LOCATION:Gateway Community Church Family Life Center\, 2801 Tropic St\, TITUSVILLE\, FL\, 32796\, United States
CATEGORIES:Community Events,Pickleball
END:VEVENT
BEGIN:VEVENT
DTSTART;TZID=America/New_York:20260202T180000
DTEND;TZID=America/New_York:20260202T193000
DTSTAMP:20260424T165754
CREATED:20240218T234539Z
LAST-MODIFIED:20250831T185337Z
UID:10001092-1770055200-1770060600@gatewaycommunity.church
SUMMARY:Pickleball Evening Session
DESCRIPTION:Ball waving with a pickleball paddle\nJoin us for Pickleball on our indoor court. Bring your own paddle or use one of our loaners. Everyone is welcome!
URL:https://gatewaycommunity.church/events/pickleball-evening-session-68/2026-02-02/
LOCATION:Gateway Community Church Family Life Center\, 2801 Tropic St\, TITUSVILLE\, FL\, 32796\, United States
CATEGORIES:Community Events,Pickleball
END:VEVENT
BEGIN:VEVENT
DTSTART;TZID=America/New_York:20260129T180000
DTEND;TZID=America/New_York:20260129T193000
DTSTAMP:20260424T165754
CREATED:20240218T234539Z
LAST-MODIFIED:20250831T185337Z
UID:10001091-1769709600-1769715000@gatewaycommunity.church
SUMMARY:Pickleball Evening Session
DESCRIPTION:Ball waving with a pickleball paddle\nJoin us for Pickleball on our indoor court. Bring your own paddle or use one of our loaners. Everyone is welcome!
URL:https://gatewaycommunity.church/events/pickleball-evening-session-68/2026-01-29/
LOCATION:Gateway Community Church Family Life Center\, 2801 Tropic St\, TITUSVILLE\, FL\, 32796\, United States
CATEGORIES:Community Events,Pickleball
END:VEVENT
BEGIN:VEVENT
DTSTART;TZID=America/New_York:20260127T180000
DTEND;TZID=America/New_York:20260127T193000
DTSTAMP:20260424T165754
CREATED:20240218T234804Z
LAST-MODIFIED:20250831T184934Z
UID:10001770-1769536800-1769542200@gatewaycommunity.church
SUMMARY:Pickleball for Beginners and Intermediates
DESCRIPTION:Ball waving with a pickleball paddle\nIf you want to learn how to play Pickleball\, or just brush up on your skills before joining more advanced players\, here’s your chance. Join us on our indoor court. Bring your own paddle or use one of our loaners. Everyone is welcome!
URL:https://gatewaycommunity.church/events/pickleball-morning-session-31/2026-01-27/
LOCATION:Gateway Community Church Family Life Center\, 2801 Tropic St\, TITUSVILLE\, FL\, 32796\, United States
CATEGORIES:Community Events,Pickleball
END:VEVENT
BEGIN:VEVENT
DTSTART;TZID=America/New_York:20260126T180000
DTEND;TZID=America/New_York:20260126T193000
DTSTAMP:20260424T165754
CREATED:20240218T234539Z
LAST-MODIFIED:20250831T185337Z
UID:10001090-1769450400-1769455800@gatewaycommunity.church
SUMMARY:Pickleball Evening Session
DESCRIPTION:Ball waving with a pickleball paddle\nJoin us for Pickleball on our indoor court. Bring your own paddle or use one of our loaners. Everyone is welcome!
URL:https://gatewaycommunity.church/events/pickleball-evening-session-68/2026-01-26/
LOCATION:Gateway Community Church Family Life Center\, 2801 Tropic St\, TITUSVILLE\, FL\, 32796\, United States
CATEGORIES:Community Events,Pickleball
END:VEVENT
BEGIN:VEVENT
DTSTART;TZID=America/New_York:20260122T180000
DTEND;TZID=America/New_York:20260122T193000
DTSTAMP:20260424T165754
CREATED:20240218T234539Z
LAST-MODIFIED:20250831T185337Z
UID:10001089-1769104800-1769110200@gatewaycommunity.church
SUMMARY:Pickleball Evening Session
DESCRIPTION:Ball waving with a pickleball paddle\nJoin us for Pickleball on our indoor court. Bring your own paddle or use one of our loaners. Everyone is welcome!
URL:https://gatewaycommunity.church/events/pickleball-evening-session-68/2026-01-22/
LOCATION:Gateway Community Church Family Life Center\, 2801 Tropic St\, TITUSVILLE\, FL\, 32796\, United States
CATEGORIES:Community Events,Pickleball
END:VEVENT
BEGIN:VEVENT
DTSTART;TZID=America/New_York:20260120T180000
DTEND;TZID=America/New_York:20260120T193000
DTSTAMP:20260424T165754
CREATED:20240218T234804Z
LAST-MODIFIED:20250831T184934Z
UID:10001769-1768932000-1768937400@gatewaycommunity.church
SUMMARY:Pickleball for Beginners and Intermediates
DESCRIPTION:Ball waving with a pickleball paddle\nIf you want to learn how to play Pickleball\, or just brush up on your skills before joining more advanced players\, here’s your chance. Join us on our indoor court. Bring your own paddle or use one of our loaners. Everyone is welcome!
URL:https://gatewaycommunity.church/events/pickleball-morning-session-31/2026-01-20/
LOCATION:Gateway Community Church Family Life Center\, 2801 Tropic St\, TITUSVILLE\, FL\, 32796\, United States
CATEGORIES:Community Events,Pickleball
END:VEVENT
BEGIN:VEVENT
DTSTART;TZID=America/New_York:20260119T180000
DTEND;TZID=America/New_York:20260119T193000
DTSTAMP:20260424T165754
CREATED:20240218T234539Z
LAST-MODIFIED:20250831T185337Z
UID:10001088-1768845600-1768851000@gatewaycommunity.church
SUMMARY:Pickleball Evening Session
DESCRIPTION:Ball waving with a pickleball paddle\nJoin us for Pickleball on our indoor court. Bring your own paddle or use one of our loaners. Everyone is welcome!
URL:https://gatewaycommunity.church/events/pickleball-evening-session-68/2026-01-19/
LOCATION:Gateway Community Church Family Life Center\, 2801 Tropic St\, TITUSVILLE\, FL\, 32796\, United States
CATEGORIES:Community Events,Pickleball
END:VEVENT
END:VCALENDAR