BEGIN:VCALENDAR
VERSION:2.0
PRODID:-// - ECPv6.15.20//NONSGML v1.0//EN
CALSCALE:GREGORIAN
METHOD:PUBLISH
X-ORIGINAL-URL:https://gatewaycommunity.church
X-WR-CALDESC:Events for 
REFRESH-INTERVAL;VALUE=DURATION:PT1H
X-Robots-Tag:noindex
X-PUBLISHED-TTL:PT1H
BEGIN:VTIMEZONE
TZID:America/New_York
BEGIN:DAYLIGHT
TZOFFSETFROM:-0500
TZOFFSETTO:-0400
TZNAME:EDT
DTSTART:20250309T070000
END:DAYLIGHT
BEGIN:STANDARD
TZOFFSETFROM:-0400
TZOFFSETTO:-0500
TZNAME:EST
DTSTART:20251102T060000
END:STANDARD
BEGIN:DAYLIGHT
TZOFFSETFROM:-0500
TZOFFSETTO:-0400
TZNAME:EDT
DTSTART:20260308T070000
END:DAYLIGHT
BEGIN:STANDARD
TZOFFSETFROM:-0400
TZOFFSETTO:-0500
TZNAME:EST
DTSTART:20261101T060000
END:STANDARD
BEGIN:DAYLIGHT
TZOFFSETFROM:-0500
TZOFFSETTO:-0400
TZNAME:EDT
DTSTART:20270314T070000
END:DAYLIGHT
BEGIN:STANDARD
TZOFFSETFROM:-0400
TZOFFSETTO:-0500
TZNAME:EST
DTSTART:20271107T060000
END:STANDARD
END:VTIMEZONE
BEGIN:VEVENT
DTSTART;TZID=America/New_York:20260622T180000
DTEND;TZID=America/New_York:20260622T193000
DTSTAMP:20260424T165629
CREATED:20240218T234539Z
LAST-MODIFIED:20250831T185337Z
UID:10001132-1782151200-1782156600@gatewaycommunity.church
SUMMARY:Pickleball Evening Session
DESCRIPTION:Ball waving with a pickleball paddle\nJoin us for Pickleball on our indoor court. Bring your own paddle or use one of our loaners. Everyone is welcome!
URL:https://gatewaycommunity.church/events/pickleball-evening-session-68/2026-06-22/
LOCATION:Gateway Community Church Family Life Center\, 2801 Tropic St\, TITUSVILLE\, FL\, 32796\, United States
CATEGORIES:Community Events,Pickleball
END:VEVENT
BEGIN:VEVENT
DTSTART;TZID=America/New_York:20260623T180000
DTEND;TZID=America/New_York:20260623T193000
DTSTAMP:20260424T165629
CREATED:20240218T234804Z
LAST-MODIFIED:20250831T184934Z
UID:10001791-1782237600-1782243000@gatewaycommunity.church
SUMMARY:Pickleball for Beginners and Intermediates
DESCRIPTION:Ball waving with a pickleball paddle\nIf you want to learn how to play Pickleball\, or just brush up on your skills before joining more advanced players\, here’s your chance. Join us on our indoor court. Bring your own paddle or use one of our loaners. Everyone is welcome!
URL:https://gatewaycommunity.church/events/pickleball-morning-session-31/2026-06-23/
LOCATION:Gateway Community Church Family Life Center\, 2801 Tropic St\, TITUSVILLE\, FL\, 32796\, United States
CATEGORIES:Community Events,Pickleball
END:VEVENT
BEGIN:VEVENT
DTSTART;TZID=America/New_York:20260625T180000
DTEND;TZID=America/New_York:20260625T193000
DTSTAMP:20260424T165629
CREATED:20240218T234539Z
LAST-MODIFIED:20250831T185337Z
UID:10001133-1782410400-1782415800@gatewaycommunity.church
SUMMARY:Pickleball Evening Session
DESCRIPTION:Ball waving with a pickleball paddle\nJoin us for Pickleball on our indoor court. Bring your own paddle or use one of our loaners. Everyone is welcome!
URL:https://gatewaycommunity.church/events/pickleball-evening-session-68/2026-06-25/
LOCATION:Gateway Community Church Family Life Center\, 2801 Tropic St\, TITUSVILLE\, FL\, 32796\, United States
CATEGORIES:Community Events,Pickleball
END:VEVENT
BEGIN:VEVENT
DTSTART;TZID=America/New_York:20260629T180000
DTEND;TZID=America/New_York:20260629T193000
DTSTAMP:20260424T165629
CREATED:20240218T234539Z
LAST-MODIFIED:20250831T185337Z
UID:10001134-1782756000-1782761400@gatewaycommunity.church
SUMMARY:Pickleball Evening Session
DESCRIPTION:Ball waving with a pickleball paddle\nJoin us for Pickleball on our indoor court. Bring your own paddle or use one of our loaners. Everyone is welcome!
URL:https://gatewaycommunity.church/events/pickleball-evening-session-68/2026-06-29/
LOCATION:Gateway Community Church Family Life Center\, 2801 Tropic St\, TITUSVILLE\, FL\, 32796\, United States
CATEGORIES:Community Events,Pickleball
END:VEVENT
BEGIN:VEVENT
DTSTART;TZID=America/New_York:20260630T180000
DTEND;TZID=America/New_York:20260630T193000
DTSTAMP:20260424T165629
CREATED:20240218T234804Z
LAST-MODIFIED:20250831T184934Z
UID:10001792-1782842400-1782847800@gatewaycommunity.church
SUMMARY:Pickleball for Beginners and Intermediates
DESCRIPTION:Ball waving with a pickleball paddle\nIf you want to learn how to play Pickleball\, or just brush up on your skills before joining more advanced players\, here’s your chance. Join us on our indoor court. Bring your own paddle or use one of our loaners. Everyone is welcome!
URL:https://gatewaycommunity.church/events/pickleball-morning-session-31/2026-06-30/
LOCATION:Gateway Community Church Family Life Center\, 2801 Tropic St\, TITUSVILLE\, FL\, 32796\, United States
CATEGORIES:Community Events,Pickleball
END:VEVENT
BEGIN:VEVENT
DTSTART;TZID=America/New_York:20260702T180000
DTEND;TZID=America/New_York:20260702T193000
DTSTAMP:20260424T165629
CREATED:20240218T234539Z
LAST-MODIFIED:20250831T185337Z
UID:10001135-1783015200-1783020600@gatewaycommunity.church
SUMMARY:Pickleball Evening Session
DESCRIPTION:Ball waving with a pickleball paddle\nJoin us for Pickleball on our indoor court. Bring your own paddle or use one of our loaners. Everyone is welcome!
URL:https://gatewaycommunity.church/events/pickleball-evening-session-68/2026-07-02/
LOCATION:Gateway Community Church Family Life Center\, 2801 Tropic St\, TITUSVILLE\, FL\, 32796\, United States
CATEGORIES:Community Events,Pickleball
END:VEVENT
BEGIN:VEVENT
DTSTART;TZID=America/New_York:20260706T180000
DTEND;TZID=America/New_York:20260706T193000
DTSTAMP:20260424T165629
CREATED:20240218T234539Z
LAST-MODIFIED:20250831T185337Z
UID:10001136-1783360800-1783366200@gatewaycommunity.church
SUMMARY:Pickleball Evening Session
DESCRIPTION:Ball waving with a pickleball paddle\nJoin us for Pickleball on our indoor court. Bring your own paddle or use one of our loaners. Everyone is welcome!
URL:https://gatewaycommunity.church/events/pickleball-evening-session-68/2026-07-06/
LOCATION:Gateway Community Church Family Life Center\, 2801 Tropic St\, TITUSVILLE\, FL\, 32796\, United States
CATEGORIES:Community Events,Pickleball
END:VEVENT
BEGIN:VEVENT
DTSTART;TZID=America/New_York:20260707T180000
DTEND;TZID=America/New_York:20260707T193000
DTSTAMP:20260424T165629
CREATED:20240218T234804Z
LAST-MODIFIED:20250831T184934Z
UID:10001793-1783447200-1783452600@gatewaycommunity.church
SUMMARY:Pickleball for Beginners and Intermediates
DESCRIPTION:Ball waving with a pickleball paddle\nIf you want to learn how to play Pickleball\, or just brush up on your skills before joining more advanced players\, here’s your chance. Join us on our indoor court. Bring your own paddle or use one of our loaners. Everyone is welcome!
URL:https://gatewaycommunity.church/events/pickleball-morning-session-31/2026-07-07/
LOCATION:Gateway Community Church Family Life Center\, 2801 Tropic St\, TITUSVILLE\, FL\, 32796\, United States
CATEGORIES:Community Events,Pickleball
END:VEVENT
BEGIN:VEVENT
DTSTART;TZID=America/New_York:20260709T180000
DTEND;TZID=America/New_York:20260709T193000
DTSTAMP:20260424T165629
CREATED:20240218T234539Z
LAST-MODIFIED:20250831T185337Z
UID:10001137-1783620000-1783625400@gatewaycommunity.church
SUMMARY:Pickleball Evening Session
DESCRIPTION:Ball waving with a pickleball paddle\nJoin us for Pickleball on our indoor court. Bring your own paddle or use one of our loaners. Everyone is welcome!
URL:https://gatewaycommunity.church/events/pickleball-evening-session-68/2026-07-09/
LOCATION:Gateway Community Church Family Life Center\, 2801 Tropic St\, TITUSVILLE\, FL\, 32796\, United States
CATEGORIES:Community Events,Pickleball
END:VEVENT
BEGIN:VEVENT
DTSTART;TZID=America/New_York:20260713T180000
DTEND;TZID=America/New_York:20260713T193000
DTSTAMP:20260424T165629
CREATED:20240218T234539Z
LAST-MODIFIED:20250831T185337Z
UID:10001138-1783965600-1783971000@gatewaycommunity.church
SUMMARY:Pickleball Evening Session
DESCRIPTION:Ball waving with a pickleball paddle\nJoin us for Pickleball on our indoor court. Bring your own paddle or use one of our loaners. Everyone is welcome!
URL:https://gatewaycommunity.church/events/pickleball-evening-session-68/2026-07-13/
LOCATION:Gateway Community Church Family Life Center\, 2801 Tropic St\, TITUSVILLE\, FL\, 32796\, United States
CATEGORIES:Community Events,Pickleball
END:VEVENT
BEGIN:VEVENT
DTSTART;TZID=America/New_York:20260714T180000
DTEND;TZID=America/New_York:20260714T193000
DTSTAMP:20260424T165629
CREATED:20240218T234804Z
LAST-MODIFIED:20250831T184934Z
UID:10001794-1784052000-1784057400@gatewaycommunity.church
SUMMARY:Pickleball for Beginners and Intermediates
DESCRIPTION:Ball waving with a pickleball paddle\nIf you want to learn how to play Pickleball\, or just brush up on your skills before joining more advanced players\, here’s your chance. Join us on our indoor court. Bring your own paddle or use one of our loaners. Everyone is welcome!
URL:https://gatewaycommunity.church/events/pickleball-morning-session-31/2026-07-14/
LOCATION:Gateway Community Church Family Life Center\, 2801 Tropic St\, TITUSVILLE\, FL\, 32796\, United States
CATEGORIES:Community Events,Pickleball
END:VEVENT
BEGIN:VEVENT
DTSTART;TZID=America/New_York:20260716T180000
DTEND;TZID=America/New_York:20260716T193000
DTSTAMP:20260424T165629
CREATED:20240218T234539Z
LAST-MODIFIED:20250831T185337Z
UID:10001139-1784224800-1784230200@gatewaycommunity.church
SUMMARY:Pickleball Evening Session
DESCRIPTION:Ball waving with a pickleball paddle\nJoin us for Pickleball on our indoor court. Bring your own paddle or use one of our loaners. Everyone is welcome!
URL:https://gatewaycommunity.church/events/pickleball-evening-session-68/2026-07-16/
LOCATION:Gateway Community Church Family Life Center\, 2801 Tropic St\, TITUSVILLE\, FL\, 32796\, United States
CATEGORIES:Community Events,Pickleball
END:VEVENT
BEGIN:VEVENT
DTSTART;TZID=America/New_York:20260720T180000
DTEND;TZID=America/New_York:20260720T193000
DTSTAMP:20260424T165629
CREATED:20240218T234539Z
LAST-MODIFIED:20250831T185337Z
UID:10001140-1784570400-1784575800@gatewaycommunity.church
SUMMARY:Pickleball Evening Session
DESCRIPTION:Ball waving with a pickleball paddle\nJoin us for Pickleball on our indoor court. Bring your own paddle or use one of our loaners. Everyone is welcome!
URL:https://gatewaycommunity.church/events/pickleball-evening-session-68/2026-07-20/
LOCATION:Gateway Community Church Family Life Center\, 2801 Tropic St\, TITUSVILLE\, FL\, 32796\, United States
CATEGORIES:Community Events,Pickleball
END:VEVENT
BEGIN:VEVENT
DTSTART;TZID=America/New_York:20260721T180000
DTEND;TZID=America/New_York:20260721T193000
DTSTAMP:20260424T165629
CREATED:20240218T234804Z
LAST-MODIFIED:20250831T184934Z
UID:10001795-1784656800-1784662200@gatewaycommunity.church
SUMMARY:Pickleball for Beginners and Intermediates
DESCRIPTION:Ball waving with a pickleball paddle\nIf you want to learn how to play Pickleball\, or just brush up on your skills before joining more advanced players\, here’s your chance. Join us on our indoor court. Bring your own paddle or use one of our loaners. Everyone is welcome!
URL:https://gatewaycommunity.church/events/pickleball-morning-session-31/2026-07-21/
LOCATION:Gateway Community Church Family Life Center\, 2801 Tropic St\, TITUSVILLE\, FL\, 32796\, United States
CATEGORIES:Community Events,Pickleball
END:VEVENT
BEGIN:VEVENT
DTSTART;TZID=America/New_York:20260723T180000
DTEND;TZID=America/New_York:20260723T193000
DTSTAMP:20260424T165629
CREATED:20240218T234539Z
LAST-MODIFIED:20250831T185337Z
UID:10001141-1784829600-1784835000@gatewaycommunity.church
SUMMARY:Pickleball Evening Session
DESCRIPTION:Ball waving with a pickleball paddle\nJoin us for Pickleball on our indoor court. Bring your own paddle or use one of our loaners. Everyone is welcome!
URL:https://gatewaycommunity.church/events/pickleball-evening-session-68/2026-07-23/
LOCATION:Gateway Community Church Family Life Center\, 2801 Tropic St\, TITUSVILLE\, FL\, 32796\, United States
CATEGORIES:Community Events,Pickleball
END:VEVENT
BEGIN:VEVENT
DTSTART;TZID=America/New_York:20260727T180000
DTEND;TZID=America/New_York:20260727T193000
DTSTAMP:20260424T165629
CREATED:20240218T234539Z
LAST-MODIFIED:20250831T185337Z
UID:10001142-1785175200-1785180600@gatewaycommunity.church
SUMMARY:Pickleball Evening Session
DESCRIPTION:Ball waving with a pickleball paddle\nJoin us for Pickleball on our indoor court. Bring your own paddle or use one of our loaners. Everyone is welcome!
URL:https://gatewaycommunity.church/events/pickleball-evening-session-68/2026-07-27/
LOCATION:Gateway Community Church Family Life Center\, 2801 Tropic St\, TITUSVILLE\, FL\, 32796\, United States
CATEGORIES:Community Events,Pickleball
END:VEVENT
BEGIN:VEVENT
DTSTART;TZID=America/New_York:20260728T180000
DTEND;TZID=America/New_York:20260728T193000
DTSTAMP:20260424T165629
CREATED:20240218T234804Z
LAST-MODIFIED:20250831T184934Z
UID:10001796-1785261600-1785267000@gatewaycommunity.church
SUMMARY:Pickleball for Beginners and Intermediates
DESCRIPTION:Ball waving with a pickleball paddle\nIf you want to learn how to play Pickleball\, or just brush up on your skills before joining more advanced players\, here’s your chance. Join us on our indoor court. Bring your own paddle or use one of our loaners. Everyone is welcome!
URL:https://gatewaycommunity.church/events/pickleball-morning-session-31/2026-07-28/
LOCATION:Gateway Community Church Family Life Center\, 2801 Tropic St\, TITUSVILLE\, FL\, 32796\, United States
CATEGORIES:Community Events,Pickleball
END:VEVENT
BEGIN:VEVENT
DTSTART;TZID=America/New_York:20260730T180000
DTEND;TZID=America/New_York:20260730T193000
DTSTAMP:20260424T165629
CREATED:20240218T234539Z
LAST-MODIFIED:20250831T185337Z
UID:10001143-1785434400-1785439800@gatewaycommunity.church
SUMMARY:Pickleball Evening Session
DESCRIPTION:Ball waving with a pickleball paddle\nJoin us for Pickleball on our indoor court. Bring your own paddle or use one of our loaners. Everyone is welcome!
URL:https://gatewaycommunity.church/events/pickleball-evening-session-68/2026-07-30/
LOCATION:Gateway Community Church Family Life Center\, 2801 Tropic St\, TITUSVILLE\, FL\, 32796\, United States
CATEGORIES:Community Events,Pickleball
END:VEVENT
BEGIN:VEVENT
DTSTART;TZID=America/New_York:20260803T180000
DTEND;TZID=America/New_York:20260803T193000
DTSTAMP:20260424T165630
CREATED:20240218T234539Z
LAST-MODIFIED:20250831T185337Z
UID:10001144-1785780000-1785785400@gatewaycommunity.church
SUMMARY:Pickleball Evening Session
DESCRIPTION:Ball waving with a pickleball paddle\nJoin us for Pickleball on our indoor court. Bring your own paddle or use one of our loaners. Everyone is welcome!
URL:https://gatewaycommunity.church/events/pickleball-evening-session-68/2026-08-03/
LOCATION:Gateway Community Church Family Life Center\, 2801 Tropic St\, TITUSVILLE\, FL\, 32796\, United States
CATEGORIES:Community Events,Pickleball
END:VEVENT
BEGIN:VEVENT
DTSTART;TZID=America/New_York:20260804T180000
DTEND;TZID=America/New_York:20260804T193000
DTSTAMP:20260424T165630
CREATED:20240218T234804Z
LAST-MODIFIED:20250831T184934Z
UID:10001797-1785866400-1785871800@gatewaycommunity.church
SUMMARY:Pickleball for Beginners and Intermediates
DESCRIPTION:Ball waving with a pickleball paddle\nIf you want to learn how to play Pickleball\, or just brush up on your skills before joining more advanced players\, here’s your chance. Join us on our indoor court. Bring your own paddle or use one of our loaners. Everyone is welcome!
URL:https://gatewaycommunity.church/events/pickleball-morning-session-31/2026-08-04/
LOCATION:Gateway Community Church Family Life Center\, 2801 Tropic St\, TITUSVILLE\, FL\, 32796\, United States
CATEGORIES:Community Events,Pickleball
END:VEVENT
BEGIN:VEVENT
DTSTART;TZID=America/New_York:20260806T180000
DTEND;TZID=America/New_York:20260806T193000
DTSTAMP:20260424T165630
CREATED:20240218T234539Z
LAST-MODIFIED:20250831T185337Z
UID:10001145-1786039200-1786044600@gatewaycommunity.church
SUMMARY:Pickleball Evening Session
DESCRIPTION:Ball waving with a pickleball paddle\nJoin us for Pickleball on our indoor court. Bring your own paddle or use one of our loaners. Everyone is welcome!
URL:https://gatewaycommunity.church/events/pickleball-evening-session-68/2026-08-06/
LOCATION:Gateway Community Church Family Life Center\, 2801 Tropic St\, TITUSVILLE\, FL\, 32796\, United States
CATEGORIES:Community Events,Pickleball
END:VEVENT
BEGIN:VEVENT
DTSTART;TZID=America/New_York:20260810T180000
DTEND;TZID=America/New_York:20260810T193000
DTSTAMP:20260424T165630
CREATED:20240218T234539Z
LAST-MODIFIED:20250831T185337Z
UID:10001146-1786384800-1786390200@gatewaycommunity.church
SUMMARY:Pickleball Evening Session
DESCRIPTION:Ball waving with a pickleball paddle\nJoin us for Pickleball on our indoor court. Bring your own paddle or use one of our loaners. Everyone is welcome!
URL:https://gatewaycommunity.church/events/pickleball-evening-session-68/2026-08-10/
LOCATION:Gateway Community Church Family Life Center\, 2801 Tropic St\, TITUSVILLE\, FL\, 32796\, United States
CATEGORIES:Community Events,Pickleball
END:VEVENT
BEGIN:VEVENT
DTSTART;TZID=America/New_York:20260811T180000
DTEND;TZID=America/New_York:20260811T193000
DTSTAMP:20260424T165630
CREATED:20240218T234804Z
LAST-MODIFIED:20250831T184934Z
UID:10001798-1786471200-1786476600@gatewaycommunity.church
SUMMARY:Pickleball for Beginners and Intermediates
DESCRIPTION:Ball waving with a pickleball paddle\nIf you want to learn how to play Pickleball\, or just brush up on your skills before joining more advanced players\, here’s your chance. Join us on our indoor court. Bring your own paddle or use one of our loaners. Everyone is welcome!
URL:https://gatewaycommunity.church/events/pickleball-morning-session-31/2026-08-11/
LOCATION:Gateway Community Church Family Life Center\, 2801 Tropic St\, TITUSVILLE\, FL\, 32796\, United States
CATEGORIES:Community Events,Pickleball
END:VEVENT
BEGIN:VEVENT
DTSTART;TZID=America/New_York:20260813T180000
DTEND;TZID=America/New_York:20260813T193000
DTSTAMP:20260424T165630
CREATED:20240218T234539Z
LAST-MODIFIED:20250831T185337Z
UID:10001147-1786644000-1786649400@gatewaycommunity.church
SUMMARY:Pickleball Evening Session
DESCRIPTION:Ball waving with a pickleball paddle\nJoin us for Pickleball on our indoor court. Bring your own paddle or use one of our loaners. Everyone is welcome!
URL:https://gatewaycommunity.church/events/pickleball-evening-session-68/2026-08-13/
LOCATION:Gateway Community Church Family Life Center\, 2801 Tropic St\, TITUSVILLE\, FL\, 32796\, United States
CATEGORIES:Community Events,Pickleball
END:VEVENT
BEGIN:VEVENT
DTSTART;TZID=America/New_York:20260817T180000
DTEND;TZID=America/New_York:20260817T193000
DTSTAMP:20260424T165630
CREATED:20240218T234539Z
LAST-MODIFIED:20250831T185337Z
UID:10001148-1786989600-1786995000@gatewaycommunity.church
SUMMARY:Pickleball Evening Session
DESCRIPTION:Ball waving with a pickleball paddle\nJoin us for Pickleball on our indoor court. Bring your own paddle or use one of our loaners. Everyone is welcome!
URL:https://gatewaycommunity.church/events/pickleball-evening-session-68/2026-08-17/
LOCATION:Gateway Community Church Family Life Center\, 2801 Tropic St\, TITUSVILLE\, FL\, 32796\, United States
CATEGORIES:Community Events,Pickleball
END:VEVENT
BEGIN:VEVENT
DTSTART;TZID=America/New_York:20260818T180000
DTEND;TZID=America/New_York:20260818T193000
DTSTAMP:20260424T165630
CREATED:20240218T234804Z
LAST-MODIFIED:20250831T184934Z
UID:10001799-1787076000-1787081400@gatewaycommunity.church
SUMMARY:Pickleball for Beginners and Intermediates
DESCRIPTION:Ball waving with a pickleball paddle\nIf you want to learn how to play Pickleball\, or just brush up on your skills before joining more advanced players\, here’s your chance. Join us on our indoor court. Bring your own paddle or use one of our loaners. Everyone is welcome!
URL:https://gatewaycommunity.church/events/pickleball-morning-session-31/2026-08-18/
LOCATION:Gateway Community Church Family Life Center\, 2801 Tropic St\, TITUSVILLE\, FL\, 32796\, United States
CATEGORIES:Community Events,Pickleball
END:VEVENT
BEGIN:VEVENT
DTSTART;TZID=America/New_York:20260820T180000
DTEND;TZID=America/New_York:20260820T193000
DTSTAMP:20260424T165630
CREATED:20240218T234539Z
LAST-MODIFIED:20250831T185337Z
UID:10001149-1787248800-1787254200@gatewaycommunity.church
SUMMARY:Pickleball Evening Session
DESCRIPTION:Ball waving with a pickleball paddle\nJoin us for Pickleball on our indoor court. Bring your own paddle or use one of our loaners. Everyone is welcome!
URL:https://gatewaycommunity.church/events/pickleball-evening-session-68/2026-08-20/
LOCATION:Gateway Community Church Family Life Center\, 2801 Tropic St\, TITUSVILLE\, FL\, 32796\, United States
CATEGORIES:Community Events,Pickleball
END:VEVENT
BEGIN:VEVENT
DTSTART;TZID=America/New_York:20260824T180000
DTEND;TZID=America/New_York:20260824T193000
DTSTAMP:20260424T165630
CREATED:20240218T234539Z
LAST-MODIFIED:20250831T185337Z
UID:10001150-1787594400-1787599800@gatewaycommunity.church
SUMMARY:Pickleball Evening Session
DESCRIPTION:Ball waving with a pickleball paddle\nJoin us for Pickleball on our indoor court. Bring your own paddle or use one of our loaners. Everyone is welcome!
URL:https://gatewaycommunity.church/events/pickleball-evening-session-68/2026-08-24/
LOCATION:Gateway Community Church Family Life Center\, 2801 Tropic St\, TITUSVILLE\, FL\, 32796\, United States
CATEGORIES:Community Events,Pickleball
END:VEVENT
BEGIN:VEVENT
DTSTART;TZID=America/New_York:20260825T180000
DTEND;TZID=America/New_York:20260825T193000
DTSTAMP:20260424T165630
CREATED:20240218T234804Z
LAST-MODIFIED:20250831T184934Z
UID:10001800-1787680800-1787686200@gatewaycommunity.church
SUMMARY:Pickleball for Beginners and Intermediates
DESCRIPTION:Ball waving with a pickleball paddle\nIf you want to learn how to play Pickleball\, or just brush up on your skills before joining more advanced players\, here’s your chance. Join us on our indoor court. Bring your own paddle or use one of our loaners. Everyone is welcome!
URL:https://gatewaycommunity.church/events/pickleball-morning-session-31/2026-08-25/
LOCATION:Gateway Community Church Family Life Center\, 2801 Tropic St\, TITUSVILLE\, FL\, 32796\, United States
CATEGORIES:Community Events,Pickleball
END:VEVENT
BEGIN:VEVENT
DTSTART;TZID=America/New_York:20260827T180000
DTEND;TZID=America/New_York:20260827T193000
DTSTAMP:20260424T165630
CREATED:20240218T234539Z
LAST-MODIFIED:20250831T185337Z
UID:10001151-1787853600-1787859000@gatewaycommunity.church
SUMMARY:Pickleball Evening Session
DESCRIPTION:Ball waving with a pickleball paddle\nJoin us for Pickleball on our indoor court. Bring your own paddle or use one of our loaners. Everyone is welcome!
URL:https://gatewaycommunity.church/events/pickleball-evening-session-68/2026-08-27/
LOCATION:Gateway Community Church Family Life Center\, 2801 Tropic St\, TITUSVILLE\, FL\, 32796\, United States
CATEGORIES:Community Events,Pickleball
END:VEVENT
END:VCALENDAR