BEGIN:VCALENDAR
VERSION:2.0
PRODID:-// - ECPv6.15.20//NONSGML v1.0//EN
CALSCALE:GREGORIAN
METHOD:PUBLISH
X-ORIGINAL-URL:https://gatewaycommunity.church
X-WR-CALDESC:Events for 
REFRESH-INTERVAL;VALUE=DURATION:PT1H
X-Robots-Tag:noindex
X-PUBLISHED-TTL:PT1H
BEGIN:VTIMEZONE
TZID:America/New_York
BEGIN:DAYLIGHT
TZOFFSETFROM:-0500
TZOFFSETTO:-0400
TZNAME:EDT
DTSTART:20240310T070000
END:DAYLIGHT
BEGIN:STANDARD
TZOFFSETFROM:-0400
TZOFFSETTO:-0500
TZNAME:EST
DTSTART:20241103T060000
END:STANDARD
BEGIN:DAYLIGHT
TZOFFSETFROM:-0500
TZOFFSETTO:-0400
TZNAME:EDT
DTSTART:20250309T070000
END:DAYLIGHT
BEGIN:STANDARD
TZOFFSETFROM:-0400
TZOFFSETTO:-0500
TZNAME:EST
DTSTART:20251102T060000
END:STANDARD
BEGIN:DAYLIGHT
TZOFFSETFROM:-0500
TZOFFSETTO:-0400
TZNAME:EDT
DTSTART:20260308T070000
END:DAYLIGHT
BEGIN:STANDARD
TZOFFSETFROM:-0400
TZOFFSETTO:-0500
TZNAME:EST
DTSTART:20261101T060000
END:STANDARD
BEGIN:DAYLIGHT
TZOFFSETFROM:-0500
TZOFFSETTO:-0400
TZNAME:EDT
DTSTART:20270314T070000
END:DAYLIGHT
BEGIN:STANDARD
TZOFFSETFROM:-0400
TZOFFSETTO:-0500
TZNAME:EST
DTSTART:20271107T060000
END:STANDARD
END:VTIMEZONE
BEGIN:VEVENT
DTSTART;TZID=America/New_York:20251204T113000
DTEND;TZID=America/New_York:20251204T130000
DTSTAMP:20260424T181543
CREATED:20250619T211651Z
LAST-MODIFIED:20250619T211651Z
UID:10002622-1764847800-1764853200@gatewaycommunity.church
SUMMARY:Gather at the Table
DESCRIPTION:LIFT Women’s Ministry luncheon at Connections Cafe (Life Recaptured). Join us for food & fellowship.
URL:https://gatewaycommunity.church/events/gather-at-the-table-14/
LOCATION:FL
CATEGORIES:Community Events,Food,Women
ORGANIZER;CN="L.I.F.T Women's Ministry":MAILTO:lift.womens.ministry@gatewaycommunity.church
END:VEVENT
BEGIN:VEVENT
DTSTART;TZID=America/New_York:20251204T180000
DTEND;TZID=America/New_York:20251204T193000
DTSTAMP:20260424T181543
CREATED:20240218T234539Z
LAST-MODIFIED:20250831T185337Z
UID:10001075-1764871200-1764876600@gatewaycommunity.church
SUMMARY:Pickleball Evening Session
DESCRIPTION:Ball waving with a pickleball paddle\nJoin us for Pickleball on our indoor court. Bring your own paddle or use one of our loaners. Everyone is welcome!
URL:https://gatewaycommunity.church/events/pickleball-evening-session-68/2025-12-04/
LOCATION:Gateway Community Church Family Life Center\, 2801 Tropic St\, TITUSVILLE\, FL\, 32796\, United States
CATEGORIES:Community Events,Pickleball
END:VEVENT
BEGIN:VEVENT
DTSTART;TZID=America/New_York:20251206T110000
DTEND;TZID=America/New_York:20251206T130000
DTSTAMP:20260424T181543
CREATED:20250820T090844Z
LAST-MODIFIED:20250820T090844Z
UID:10002636-1765018800-1765026000@gatewaycommunity.church
SUMMARY:Season's Settings Women's Luncheon
DESCRIPTION:Do you love to set the table for your holiday feast? We’re looking for 12 ladies to sign up to decorate a table with their own dishes and decorations to make our Christmas luncheon a seasonal sensation. The lady whose table is voted best decorated will win a prize\, and there are plenty of more surprises in store. To sign-up for a table call the church office or email Lift.Womens.Ministry@gatewaycommunity.church \nLunch will be soup\, salad\, and dessert. Be sure to invite all your friends!
URL:https://gatewaycommunity.church/events/seasons-settings-womens-luncheon/
LOCATION:Gateway Community Church Faith Cafe\, 2801 Tropic St\, Titusville\, FL\, 32796\, United States
CATEGORIES:Community Events,Food,Women
ATTACH;FMTTYPE=image/png:https://gatewaycommunity.church/wp-content/uploads/2025/08/Seasons-Settings1.png
ORGANIZER;CN="L.I.F.T Women's Ministry":MAILTO:lift.womens.ministry@gatewaycommunity.church
END:VEVENT
BEGIN:VEVENT
DTSTART;TZID=America/New_York:20251207T103000
DTEND;TZID=America/New_York:20251207T120000
DTSTAMP:20260424T181543
CREATED:20240219T000231Z
LAST-MODIFIED:20240526T223742Z
UID:10000475-1765103400-1765108800@gatewaycommunity.church
SUMMARY:Worship Service
DESCRIPTION:
URL:https://gatewaycommunity.church/events/worship-service-74/2025-12-07/
LOCATION:Gateway Community Church Sanctuary\, 2801 Tropic Street\, Titusville\, FL\, 32780\, United States
END:VEVENT
BEGIN:VEVENT
DTSTART;TZID=America/New_York:20251208T180000
DTEND;TZID=America/New_York:20251208T193000
DTSTAMP:20260424T181543
CREATED:20240218T234539Z
LAST-MODIFIED:20250831T185337Z
UID:10001076-1765216800-1765222200@gatewaycommunity.church
SUMMARY:Pickleball Evening Session
DESCRIPTION:Ball waving with a pickleball paddle\nJoin us for Pickleball on our indoor court. Bring your own paddle or use one of our loaners. Everyone is welcome!
URL:https://gatewaycommunity.church/events/pickleball-evening-session-68/2025-12-08/
LOCATION:Gateway Community Church Family Life Center\, 2801 Tropic St\, TITUSVILLE\, FL\, 32796\, United States
CATEGORIES:Community Events,Pickleball
END:VEVENT
BEGIN:VEVENT
DTSTART;TZID=America/New_York:20251209T180000
DTEND;TZID=America/New_York:20251209T193000
DTSTAMP:20260424T181543
CREATED:20240218T234804Z
LAST-MODIFIED:20250831T184934Z
UID:10001763-1765303200-1765308600@gatewaycommunity.church
SUMMARY:Pickleball for Beginners and Intermediates
DESCRIPTION:Ball waving with a pickleball paddle\nIf you want to learn how to play Pickleball\, or just brush up on your skills before joining more advanced players\, here’s your chance. Join us on our indoor court. Bring your own paddle or use one of our loaners. Everyone is welcome!
URL:https://gatewaycommunity.church/events/pickleball-morning-session-31/2025-12-09/
LOCATION:Gateway Community Church Family Life Center\, 2801 Tropic St\, TITUSVILLE\, FL\, 32796\, United States
CATEGORIES:Community Events,Pickleball
END:VEVENT
BEGIN:VEVENT
DTSTART;TZID=America/New_York:20251211T180000
DTEND;TZID=America/New_York:20251211T193000
DTSTAMP:20260424T181543
CREATED:20240218T234539Z
LAST-MODIFIED:20250831T185337Z
UID:10001077-1765476000-1765481400@gatewaycommunity.church
SUMMARY:Pickleball Evening Session
DESCRIPTION:Ball waving with a pickleball paddle\nJoin us for Pickleball on our indoor court. Bring your own paddle or use one of our loaners. Everyone is welcome!
URL:https://gatewaycommunity.church/events/pickleball-evening-session-68/2025-12-11/
LOCATION:Gateway Community Church Family Life Center\, 2801 Tropic St\, TITUSVILLE\, FL\, 32796\, United States
CATEGORIES:Community Events,Pickleball
END:VEVENT
BEGIN:VEVENT
DTSTART;TZID=America/New_York:20251214T103000
DTEND;TZID=America/New_York:20251214T120000
DTSTAMP:20260424T181543
CREATED:20240219T000231Z
LAST-MODIFIED:20240526T223742Z
UID:10000476-1765708200-1765713600@gatewaycommunity.church
SUMMARY:Worship Service
DESCRIPTION:
URL:https://gatewaycommunity.church/events/worship-service-74/2025-12-14/
LOCATION:Gateway Community Church Sanctuary\, 2801 Tropic Street\, Titusville\, FL\, 32780\, United States
END:VEVENT
BEGIN:VEVENT
DTSTART;TZID=America/New_York:20251215T180000
DTEND;TZID=America/New_York:20251215T193000
DTSTAMP:20260424T181543
CREATED:20240218T234539Z
LAST-MODIFIED:20250831T185337Z
UID:10001078-1765821600-1765827000@gatewaycommunity.church
SUMMARY:Pickleball Evening Session
DESCRIPTION:Ball waving with a pickleball paddle\nJoin us for Pickleball on our indoor court. Bring your own paddle or use one of our loaners. Everyone is welcome!
URL:https://gatewaycommunity.church/events/pickleball-evening-session-68/2025-12-15/
LOCATION:Gateway Community Church Family Life Center\, 2801 Tropic St\, TITUSVILLE\, FL\, 32796\, United States
CATEGORIES:Community Events,Pickleball
END:VEVENT
BEGIN:VEVENT
DTSTART;TZID=America/New_York:20251216T180000
DTEND;TZID=America/New_York:20251216T193000
DTSTAMP:20260424T181543
CREATED:20240218T234804Z
LAST-MODIFIED:20250831T184934Z
UID:10001764-1765908000-1765913400@gatewaycommunity.church
SUMMARY:Pickleball for Beginners and Intermediates
DESCRIPTION:Ball waving with a pickleball paddle\nIf you want to learn how to play Pickleball\, or just brush up on your skills before joining more advanced players\, here’s your chance. Join us on our indoor court. Bring your own paddle or use one of our loaners. Everyone is welcome!
URL:https://gatewaycommunity.church/events/pickleball-morning-session-31/2025-12-16/
LOCATION:Gateway Community Church Family Life Center\, 2801 Tropic St\, TITUSVILLE\, FL\, 32796\, United States
CATEGORIES:Community Events,Pickleball
END:VEVENT
BEGIN:VEVENT
DTSTART;TZID=America/New_York:20251218T180000
DTEND;TZID=America/New_York:20251218T193000
DTSTAMP:20260424T181543
CREATED:20240218T234539Z
LAST-MODIFIED:20250831T185337Z
UID:10001079-1766080800-1766086200@gatewaycommunity.church
SUMMARY:Pickleball Evening Session
DESCRIPTION:Ball waving with a pickleball paddle\nJoin us for Pickleball on our indoor court. Bring your own paddle or use one of our loaners. Everyone is welcome!
URL:https://gatewaycommunity.church/events/pickleball-evening-session-68/2025-12-18/
LOCATION:Gateway Community Church Family Life Center\, 2801 Tropic St\, TITUSVILLE\, FL\, 32796\, United States
CATEGORIES:Community Events,Pickleball
END:VEVENT
BEGIN:VEVENT
DTSTART;TZID=America/New_York:20251221T103000
DTEND;TZID=America/New_York:20251221T120000
DTSTAMP:20260424T181543
CREATED:20240219T000231Z
LAST-MODIFIED:20240526T223742Z
UID:10000477-1766313000-1766318400@gatewaycommunity.church
SUMMARY:Worship Service
DESCRIPTION:
URL:https://gatewaycommunity.church/events/worship-service-74/2025-12-21/
LOCATION:Gateway Community Church Sanctuary\, 2801 Tropic Street\, Titusville\, FL\, 32780\, United States
END:VEVENT
BEGIN:VEVENT
DTSTART;TZID=America/New_York:20251222T180000
DTEND;TZID=America/New_York:20251222T193000
DTSTAMP:20260424T181543
CREATED:20240218T234539Z
LAST-MODIFIED:20250831T185337Z
UID:10001080-1766426400-1766431800@gatewaycommunity.church
SUMMARY:Pickleball Evening Session
DESCRIPTION:Ball waving with a pickleball paddle\nJoin us for Pickleball on our indoor court. Bring your own paddle or use one of our loaners. Everyone is welcome!
URL:https://gatewaycommunity.church/events/pickleball-evening-session-68/2025-12-22/
LOCATION:Gateway Community Church Family Life Center\, 2801 Tropic St\, TITUSVILLE\, FL\, 32796\, United States
CATEGORIES:Community Events,Pickleball
END:VEVENT
BEGIN:VEVENT
DTSTART;TZID=America/New_York:20251223T180000
DTEND;TZID=America/New_York:20251223T193000
DTSTAMP:20260424T181543
CREATED:20240218T234804Z
LAST-MODIFIED:20250831T184934Z
UID:10001765-1766512800-1766518200@gatewaycommunity.church
SUMMARY:Pickleball for Beginners and Intermediates
DESCRIPTION:Ball waving with a pickleball paddle\nIf you want to learn how to play Pickleball\, or just brush up on your skills before joining more advanced players\, here’s your chance. Join us on our indoor court. Bring your own paddle or use one of our loaners. Everyone is welcome!
URL:https://gatewaycommunity.church/events/pickleball-morning-session-31/2025-12-23/
LOCATION:Gateway Community Church Family Life Center\, 2801 Tropic St\, TITUSVILLE\, FL\, 32796\, United States
CATEGORIES:Community Events,Pickleball
END:VEVENT
BEGIN:VEVENT
DTSTART;TZID=America/New_York:20251225T180000
DTEND;TZID=America/New_York:20251225T193000
DTSTAMP:20260424T181543
CREATED:20240218T234539Z
LAST-MODIFIED:20250831T185337Z
UID:10001081-1766685600-1766691000@gatewaycommunity.church
SUMMARY:Pickleball Evening Session
DESCRIPTION:Ball waving with a pickleball paddle\nJoin us for Pickleball on our indoor court. Bring your own paddle or use one of our loaners. Everyone is welcome!
URL:https://gatewaycommunity.church/events/pickleball-evening-session-68/2025-12-25/
LOCATION:Gateway Community Church Family Life Center\, 2801 Tropic St\, TITUSVILLE\, FL\, 32796\, United States
CATEGORIES:Community Events,Pickleball
END:VEVENT
BEGIN:VEVENT
DTSTART;TZID=America/New_York:20251228T103000
DTEND;TZID=America/New_York:20251228T120000
DTSTAMP:20260424T181543
CREATED:20240219T000231Z
LAST-MODIFIED:20240526T223742Z
UID:10000478-1766917800-1766923200@gatewaycommunity.church
SUMMARY:Worship Service
DESCRIPTION:
URL:https://gatewaycommunity.church/events/worship-service-74/2025-12-28/
LOCATION:Gateway Community Church Sanctuary\, 2801 Tropic Street\, Titusville\, FL\, 32780\, United States
END:VEVENT
BEGIN:VEVENT
DTSTART;TZID=America/New_York:20251229T180000
DTEND;TZID=America/New_York:20251229T193000
DTSTAMP:20260424T181543
CREATED:20240218T234539Z
LAST-MODIFIED:20250831T185337Z
UID:10001082-1767031200-1767036600@gatewaycommunity.church
SUMMARY:Pickleball Evening Session
DESCRIPTION:Ball waving with a pickleball paddle\nJoin us for Pickleball on our indoor court. Bring your own paddle or use one of our loaners. Everyone is welcome!
URL:https://gatewaycommunity.church/events/pickleball-evening-session-68/2025-12-29/
LOCATION:Gateway Community Church Family Life Center\, 2801 Tropic St\, TITUSVILLE\, FL\, 32796\, United States
CATEGORIES:Community Events,Pickleball
END:VEVENT
BEGIN:VEVENT
DTSTART;TZID=America/New_York:20251230T180000
DTEND;TZID=America/New_York:20251230T193000
DTSTAMP:20260424T181543
CREATED:20240218T234804Z
LAST-MODIFIED:20250831T184934Z
UID:10001766-1767117600-1767123000@gatewaycommunity.church
SUMMARY:Pickleball for Beginners and Intermediates
DESCRIPTION:Ball waving with a pickleball paddle\nIf you want to learn how to play Pickleball\, or just brush up on your skills before joining more advanced players\, here’s your chance. Join us on our indoor court. Bring your own paddle or use one of our loaners. Everyone is welcome!
URL:https://gatewaycommunity.church/events/pickleball-morning-session-31/2025-12-30/
LOCATION:Gateway Community Church Family Life Center\, 2801 Tropic St\, TITUSVILLE\, FL\, 32796\, United States
CATEGORIES:Community Events,Pickleball
END:VEVENT
BEGIN:VEVENT
DTSTART;TZID=America/New_York:20260101T180000
DTEND;TZID=America/New_York:20260101T193000
DTSTAMP:20260424T181543
CREATED:20240218T234539Z
LAST-MODIFIED:20250831T185337Z
UID:10001083-1767290400-1767295800@gatewaycommunity.church
SUMMARY:Pickleball Evening Session
DESCRIPTION:Ball waving with a pickleball paddle\nJoin us for Pickleball on our indoor court. Bring your own paddle or use one of our loaners. Everyone is welcome!
URL:https://gatewaycommunity.church/events/pickleball-evening-session-68/2026-01-01/
LOCATION:Gateway Community Church Family Life Center\, 2801 Tropic St\, TITUSVILLE\, FL\, 32796\, United States
CATEGORIES:Community Events,Pickleball
END:VEVENT
BEGIN:VEVENT
DTSTART;TZID=America/New_York:20260104T103000
DTEND;TZID=America/New_York:20260104T120000
DTSTAMP:20260424T181543
CREATED:20240219T000231Z
LAST-MODIFIED:20240526T223742Z
UID:10000479-1767522600-1767528000@gatewaycommunity.church
SUMMARY:Worship Service
DESCRIPTION:
URL:https://gatewaycommunity.church/events/worship-service-74/2026-01-04/
LOCATION:Gateway Community Church Sanctuary\, 2801 Tropic Street\, Titusville\, FL\, 32780\, United States
END:VEVENT
BEGIN:VEVENT
DTSTART;TZID=America/New_York:20260105T180000
DTEND;TZID=America/New_York:20260105T193000
DTSTAMP:20260424T181543
CREATED:20240218T234539Z
LAST-MODIFIED:20250831T185337Z
UID:10001084-1767636000-1767641400@gatewaycommunity.church
SUMMARY:Pickleball Evening Session
DESCRIPTION:Ball waving with a pickleball paddle\nJoin us for Pickleball on our indoor court. Bring your own paddle or use one of our loaners. Everyone is welcome!
URL:https://gatewaycommunity.church/events/pickleball-evening-session-68/2026-01-05/
LOCATION:Gateway Community Church Family Life Center\, 2801 Tropic St\, TITUSVILLE\, FL\, 32796\, United States
CATEGORIES:Community Events,Pickleball
END:VEVENT
BEGIN:VEVENT
DTSTART;TZID=America/New_York:20260106T180000
DTEND;TZID=America/New_York:20260106T193000
DTSTAMP:20260424T181543
CREATED:20240218T234804Z
LAST-MODIFIED:20250831T184934Z
UID:10001767-1767722400-1767727800@gatewaycommunity.church
SUMMARY:Pickleball for Beginners and Intermediates
DESCRIPTION:Ball waving with a pickleball paddle\nIf you want to learn how to play Pickleball\, or just brush up on your skills before joining more advanced players\, here’s your chance. Join us on our indoor court. Bring your own paddle or use one of our loaners. Everyone is welcome!
URL:https://gatewaycommunity.church/events/pickleball-morning-session-31/2026-01-06/
LOCATION:Gateway Community Church Family Life Center\, 2801 Tropic St\, TITUSVILLE\, FL\, 32796\, United States
CATEGORIES:Community Events,Pickleball
END:VEVENT
BEGIN:VEVENT
DTSTART;TZID=America/New_York:20260108T180000
DTEND;TZID=America/New_York:20260108T193000
DTSTAMP:20260424T181543
CREATED:20240218T234539Z
LAST-MODIFIED:20250831T185337Z
UID:10001085-1767895200-1767900600@gatewaycommunity.church
SUMMARY:Pickleball Evening Session
DESCRIPTION:Ball waving with a pickleball paddle\nJoin us for Pickleball on our indoor court. Bring your own paddle or use one of our loaners. Everyone is welcome!
URL:https://gatewaycommunity.church/events/pickleball-evening-session-68/2026-01-08/
LOCATION:Gateway Community Church Family Life Center\, 2801 Tropic St\, TITUSVILLE\, FL\, 32796\, United States
CATEGORIES:Community Events,Pickleball
END:VEVENT
BEGIN:VEVENT
DTSTART;TZID=America/New_York:20260111T103000
DTEND;TZID=America/New_York:20260111T120000
DTSTAMP:20260424T181543
CREATED:20240219T000231Z
LAST-MODIFIED:20240526T223742Z
UID:10000480-1768127400-1768132800@gatewaycommunity.church
SUMMARY:Worship Service
DESCRIPTION:
URL:https://gatewaycommunity.church/events/worship-service-74/2026-01-11/
LOCATION:Gateway Community Church Sanctuary\, 2801 Tropic Street\, Titusville\, FL\, 32780\, United States
END:VEVENT
BEGIN:VEVENT
DTSTART;TZID=America/New_York:20260112T180000
DTEND;TZID=America/New_York:20260112T193000
DTSTAMP:20260424T181543
CREATED:20240218T234539Z
LAST-MODIFIED:20250831T185337Z
UID:10001086-1768240800-1768246200@gatewaycommunity.church
SUMMARY:Pickleball Evening Session
DESCRIPTION:Ball waving with a pickleball paddle\nJoin us for Pickleball on our indoor court. Bring your own paddle or use one of our loaners. Everyone is welcome!
URL:https://gatewaycommunity.church/events/pickleball-evening-session-68/2026-01-12/
LOCATION:Gateway Community Church Family Life Center\, 2801 Tropic St\, TITUSVILLE\, FL\, 32796\, United States
CATEGORIES:Community Events,Pickleball
END:VEVENT
BEGIN:VEVENT
DTSTART;TZID=America/New_York:20260113T180000
DTEND;TZID=America/New_York:20260113T193000
DTSTAMP:20260424T181543
CREATED:20240218T234804Z
LAST-MODIFIED:20250831T184934Z
UID:10001768-1768327200-1768332600@gatewaycommunity.church
SUMMARY:Pickleball for Beginners and Intermediates
DESCRIPTION:Ball waving with a pickleball paddle\nIf you want to learn how to play Pickleball\, or just brush up on your skills before joining more advanced players\, here’s your chance. Join us on our indoor court. Bring your own paddle or use one of our loaners. Everyone is welcome!
URL:https://gatewaycommunity.church/events/pickleball-morning-session-31/2026-01-13/
LOCATION:Gateway Community Church Family Life Center\, 2801 Tropic St\, TITUSVILLE\, FL\, 32796\, United States
CATEGORIES:Community Events,Pickleball
END:VEVENT
BEGIN:VEVENT
DTSTART;TZID=America/New_York:20260115T180000
DTEND;TZID=America/New_York:20260115T193000
DTSTAMP:20260424T181543
CREATED:20240218T234539Z
LAST-MODIFIED:20250831T185337Z
UID:10001087-1768500000-1768505400@gatewaycommunity.church
SUMMARY:Pickleball Evening Session
DESCRIPTION:Ball waving with a pickleball paddle\nJoin us for Pickleball on our indoor court. Bring your own paddle or use one of our loaners. Everyone is welcome!
URL:https://gatewaycommunity.church/events/pickleball-evening-session-68/2026-01-15/
LOCATION:Gateway Community Church Family Life Center\, 2801 Tropic St\, TITUSVILLE\, FL\, 32796\, United States
CATEGORIES:Community Events,Pickleball
END:VEVENT
BEGIN:VEVENT
DTSTART;TZID=America/New_York:20260118T103000
DTEND;TZID=America/New_York:20260118T120000
DTSTAMP:20260424T181543
CREATED:20240219T000231Z
LAST-MODIFIED:20240526T223742Z
UID:10000481-1768732200-1768737600@gatewaycommunity.church
SUMMARY:Worship Service
DESCRIPTION:
URL:https://gatewaycommunity.church/events/worship-service-74/2026-01-18/
LOCATION:Gateway Community Church Sanctuary\, 2801 Tropic Street\, Titusville\, FL\, 32780\, United States
END:VEVENT
BEGIN:VEVENT
DTSTART;TZID=America/New_York:20260119T180000
DTEND;TZID=America/New_York:20260119T193000
DTSTAMP:20260424T181543
CREATED:20240218T234539Z
LAST-MODIFIED:20250831T185337Z
UID:10001088-1768845600-1768851000@gatewaycommunity.church
SUMMARY:Pickleball Evening Session
DESCRIPTION:Ball waving with a pickleball paddle\nJoin us for Pickleball on our indoor court. Bring your own paddle or use one of our loaners. Everyone is welcome!
URL:https://gatewaycommunity.church/events/pickleball-evening-session-68/2026-01-19/
LOCATION:Gateway Community Church Family Life Center\, 2801 Tropic St\, TITUSVILLE\, FL\, 32796\, United States
CATEGORIES:Community Events,Pickleball
END:VEVENT
BEGIN:VEVENT
DTSTART;TZID=America/New_York:20260120T180000
DTEND;TZID=America/New_York:20260120T193000
DTSTAMP:20260424T181543
CREATED:20240218T234804Z
LAST-MODIFIED:20250831T184934Z
UID:10001769-1768932000-1768937400@gatewaycommunity.church
SUMMARY:Pickleball for Beginners and Intermediates
DESCRIPTION:Ball waving with a pickleball paddle\nIf you want to learn how to play Pickleball\, or just brush up on your skills before joining more advanced players\, here’s your chance. Join us on our indoor court. Bring your own paddle or use one of our loaners. Everyone is welcome!
URL:https://gatewaycommunity.church/events/pickleball-morning-session-31/2026-01-20/
LOCATION:Gateway Community Church Family Life Center\, 2801 Tropic St\, TITUSVILLE\, FL\, 32796\, United States
CATEGORIES:Community Events,Pickleball
END:VEVENT
END:VCALENDAR