BEGIN:VCALENDAR
VERSION:2.0
PRODID:-// - ECPv6.15.20//NONSGML v1.0//EN
CALSCALE:GREGORIAN
METHOD:PUBLISH
X-ORIGINAL-URL:https://gatewaycommunity.church
X-WR-CALDESC:Events for 
REFRESH-INTERVAL;VALUE=DURATION:PT1H
X-Robots-Tag:noindex
X-PUBLISHED-TTL:PT1H
BEGIN:VTIMEZONE
TZID:America/New_York
BEGIN:DAYLIGHT
TZOFFSETFROM:-0500
TZOFFSETTO:-0400
TZNAME:EDT
DTSTART:20240310T070000
END:DAYLIGHT
BEGIN:STANDARD
TZOFFSETFROM:-0400
TZOFFSETTO:-0500
TZNAME:EST
DTSTART:20241103T060000
END:STANDARD
BEGIN:DAYLIGHT
TZOFFSETFROM:-0500
TZOFFSETTO:-0400
TZNAME:EDT
DTSTART:20250309T070000
END:DAYLIGHT
BEGIN:STANDARD
TZOFFSETFROM:-0400
TZOFFSETTO:-0500
TZNAME:EST
DTSTART:20251102T060000
END:STANDARD
BEGIN:DAYLIGHT
TZOFFSETFROM:-0500
TZOFFSETTO:-0400
TZNAME:EDT
DTSTART:20260308T070000
END:DAYLIGHT
BEGIN:STANDARD
TZOFFSETFROM:-0400
TZOFFSETTO:-0500
TZNAME:EST
DTSTART:20261101T060000
END:STANDARD
END:VTIMEZONE
BEGIN:VEVENT
DTSTART;TZID=America/New_York:20251209T180000
DTEND;TZID=America/New_York:20251209T193000
DTSTAMP:20260424T181858
CREATED:20240218T234804Z
LAST-MODIFIED:20250831T184934Z
UID:10001763-1765303200-1765308600@gatewaycommunity.church
SUMMARY:Pickleball for Beginners and Intermediates
DESCRIPTION:Ball waving with a pickleball paddle\nIf you want to learn how to play Pickleball\, or just brush up on your skills before joining more advanced players\, here’s your chance. Join us on our indoor court. Bring your own paddle or use one of our loaners. Everyone is welcome!
URL:https://gatewaycommunity.church/events/pickleball-morning-session-31/2025-12-09/
LOCATION:Gateway Community Church Family Life Center\, 2801 Tropic St\, TITUSVILLE\, FL\, 32796\, United States
CATEGORIES:Community Events,Pickleball
END:VEVENT
BEGIN:VEVENT
DTSTART;TZID=America/New_York:20251208T180000
DTEND;TZID=America/New_York:20251208T193000
DTSTAMP:20260424T181858
CREATED:20240218T234539Z
LAST-MODIFIED:20250831T185337Z
UID:10001076-1765216800-1765222200@gatewaycommunity.church
SUMMARY:Pickleball Evening Session
DESCRIPTION:Ball waving with a pickleball paddle\nJoin us for Pickleball on our indoor court. Bring your own paddle or use one of our loaners. Everyone is welcome!
URL:https://gatewaycommunity.church/events/pickleball-evening-session-68/2025-12-08/
LOCATION:Gateway Community Church Family Life Center\, 2801 Tropic St\, TITUSVILLE\, FL\, 32796\, United States
CATEGORIES:Community Events,Pickleball
END:VEVENT
BEGIN:VEVENT
DTSTART;TZID=America/New_York:20251207T103000
DTEND;TZID=America/New_York:20251207T120000
DTSTAMP:20260424T181858
CREATED:20240219T000231Z
LAST-MODIFIED:20240526T223742Z
UID:10000475-1765103400-1765108800@gatewaycommunity.church
SUMMARY:Worship Service
DESCRIPTION:
URL:https://gatewaycommunity.church/events/worship-service-74/2025-12-07/
LOCATION:Gateway Community Church Sanctuary\, 2801 Tropic Street\, Titusville\, FL\, 32780\, United States
END:VEVENT
BEGIN:VEVENT
DTSTART;TZID=America/New_York:20251206T110000
DTEND;TZID=America/New_York:20251206T130000
DTSTAMP:20260424T181858
CREATED:20250820T090844Z
LAST-MODIFIED:20250820T090844Z
UID:10002636-1765018800-1765026000@gatewaycommunity.church
SUMMARY:Season's Settings Women's Luncheon
DESCRIPTION:Do you love to set the table for your holiday feast? We’re looking for 12 ladies to sign up to decorate a table with their own dishes and decorations to make our Christmas luncheon a seasonal sensation. The lady whose table is voted best decorated will win a prize\, and there are plenty of more surprises in store. To sign-up for a table call the church office or email Lift.Womens.Ministry@gatewaycommunity.church \nLunch will be soup\, salad\, and dessert. Be sure to invite all your friends!
URL:https://gatewaycommunity.church/events/seasons-settings-womens-luncheon/
LOCATION:Gateway Community Church Faith Cafe\, 2801 Tropic St\, Titusville\, FL\, 32796\, United States
CATEGORIES:Community Events,Food,Women
ATTACH;FMTTYPE=image/png:https://gatewaycommunity.church/wp-content/uploads/2025/08/Seasons-Settings1.png
ORGANIZER;CN="L.I.F.T Women's Ministry":MAILTO:lift.womens.ministry@gatewaycommunity.church
END:VEVENT
BEGIN:VEVENT
DTSTART;TZID=America/New_York:20251204T180000
DTEND;TZID=America/New_York:20251204T193000
DTSTAMP:20260424T181858
CREATED:20240218T234539Z
LAST-MODIFIED:20250831T185337Z
UID:10001075-1764871200-1764876600@gatewaycommunity.church
SUMMARY:Pickleball Evening Session
DESCRIPTION:Ball waving with a pickleball paddle\nJoin us for Pickleball on our indoor court. Bring your own paddle or use one of our loaners. Everyone is welcome!
URL:https://gatewaycommunity.church/events/pickleball-evening-session-68/2025-12-04/
LOCATION:Gateway Community Church Family Life Center\, 2801 Tropic St\, TITUSVILLE\, FL\, 32796\, United States
CATEGORIES:Community Events,Pickleball
END:VEVENT
BEGIN:VEVENT
DTSTART;TZID=America/New_York:20251204T113000
DTEND;TZID=America/New_York:20251204T130000
DTSTAMP:20260424T181858
CREATED:20250619T211651Z
LAST-MODIFIED:20250619T211651Z
UID:10002622-1764847800-1764853200@gatewaycommunity.church
SUMMARY:Gather at the Table
DESCRIPTION:LIFT Women’s Ministry luncheon at Connections Cafe (Life Recaptured). Join us for food & fellowship.
URL:https://gatewaycommunity.church/events/gather-at-the-table-14/
LOCATION:FL
CATEGORIES:Community Events,Food,Women
ORGANIZER;CN="L.I.F.T Women's Ministry":MAILTO:lift.womens.ministry@gatewaycommunity.church
END:VEVENT
BEGIN:VEVENT
DTSTART;TZID=America/New_York:20251202T180000
DTEND;TZID=America/New_York:20251202T193000
DTSTAMP:20260424T181858
CREATED:20240218T234804Z
LAST-MODIFIED:20250831T184934Z
UID:10001762-1764698400-1764703800@gatewaycommunity.church
SUMMARY:Pickleball for Beginners and Intermediates
DESCRIPTION:Ball waving with a pickleball paddle\nIf you want to learn how to play Pickleball\, or just brush up on your skills before joining more advanced players\, here’s your chance. Join us on our indoor court. Bring your own paddle or use one of our loaners. Everyone is welcome!
URL:https://gatewaycommunity.church/events/pickleball-morning-session-31/2025-12-02/
LOCATION:Gateway Community Church Family Life Center\, 2801 Tropic St\, TITUSVILLE\, FL\, 32796\, United States
CATEGORIES:Community Events,Pickleball
END:VEVENT
BEGIN:VEVENT
DTSTART;TZID=America/New_York:20251201T180000
DTEND;TZID=America/New_York:20251201T193000
DTSTAMP:20260424T181858
CREATED:20240218T234539Z
LAST-MODIFIED:20250831T185337Z
UID:10001074-1764612000-1764617400@gatewaycommunity.church
SUMMARY:Pickleball Evening Session
DESCRIPTION:Ball waving with a pickleball paddle\nJoin us for Pickleball on our indoor court. Bring your own paddle or use one of our loaners. Everyone is welcome!
URL:https://gatewaycommunity.church/events/pickleball-evening-session-68/2025-12-01/
LOCATION:Gateway Community Church Family Life Center\, 2801 Tropic St\, TITUSVILLE\, FL\, 32796\, United States
CATEGORIES:Community Events,Pickleball
END:VEVENT
BEGIN:VEVENT
DTSTART;TZID=America/New_York:20251130T103000
DTEND;TZID=America/New_York:20251130T120000
DTSTAMP:20260424T181858
CREATED:20240219T000231Z
LAST-MODIFIED:20240526T223742Z
UID:10000474-1764498600-1764504000@gatewaycommunity.church
SUMMARY:Worship Service
DESCRIPTION:
URL:https://gatewaycommunity.church/events/worship-service-74/2025-11-30/
LOCATION:Gateway Community Church Sanctuary\, 2801 Tropic Street\, Titusville\, FL\, 32780\, United States
END:VEVENT
BEGIN:VEVENT
DTSTART;TZID=America/New_York:20251127T180000
DTEND;TZID=America/New_York:20251127T193000
DTSTAMP:20260424T181858
CREATED:20240218T234539Z
LAST-MODIFIED:20250831T185337Z
UID:10001073-1764266400-1764271800@gatewaycommunity.church
SUMMARY:Pickleball Evening Session
DESCRIPTION:Ball waving with a pickleball paddle\nJoin us for Pickleball on our indoor court. Bring your own paddle or use one of our loaners. Everyone is welcome!
URL:https://gatewaycommunity.church/events/pickleball-evening-session-68/2025-11-27/
LOCATION:Gateway Community Church Family Life Center\, 2801 Tropic St\, TITUSVILLE\, FL\, 32796\, United States
CATEGORIES:Community Events,Pickleball
END:VEVENT
BEGIN:VEVENT
DTSTART;TZID=America/New_York:20251125T180000
DTEND;TZID=America/New_York:20251125T193000
DTSTAMP:20260424T181858
CREATED:20240218T234804Z
LAST-MODIFIED:20250831T184934Z
UID:10001761-1764093600-1764099000@gatewaycommunity.church
SUMMARY:Pickleball for Beginners and Intermediates
DESCRIPTION:Ball waving with a pickleball paddle\nIf you want to learn how to play Pickleball\, or just brush up on your skills before joining more advanced players\, here’s your chance. Join us on our indoor court. Bring your own paddle or use one of our loaners. Everyone is welcome!
URL:https://gatewaycommunity.church/events/pickleball-morning-session-31/2025-11-25/
LOCATION:Gateway Community Church Family Life Center\, 2801 Tropic St\, TITUSVILLE\, FL\, 32796\, United States
CATEGORIES:Community Events,Pickleball
END:VEVENT
BEGIN:VEVENT
DTSTART;TZID=America/New_York:20251124T180000
DTEND;TZID=America/New_York:20251124T193000
DTSTAMP:20260424T181858
CREATED:20240218T234539Z
LAST-MODIFIED:20250831T185337Z
UID:10001072-1764007200-1764012600@gatewaycommunity.church
SUMMARY:Pickleball Evening Session
DESCRIPTION:Ball waving with a pickleball paddle\nJoin us for Pickleball on our indoor court. Bring your own paddle or use one of our loaners. Everyone is welcome!
URL:https://gatewaycommunity.church/events/pickleball-evening-session-68/2025-11-24/
LOCATION:Gateway Community Church Family Life Center\, 2801 Tropic St\, TITUSVILLE\, FL\, 32796\, United States
CATEGORIES:Community Events,Pickleball
END:VEVENT
BEGIN:VEVENT
DTSTART;TZID=America/New_York:20251123T103000
DTEND;TZID=America/New_York:20251123T120000
DTSTAMP:20260424T181858
CREATED:20240219T000231Z
LAST-MODIFIED:20240526T223742Z
UID:10000473-1763893800-1763899200@gatewaycommunity.church
SUMMARY:Worship Service
DESCRIPTION:
URL:https://gatewaycommunity.church/events/worship-service-74/2025-11-23/
LOCATION:Gateway Community Church Sanctuary\, 2801 Tropic Street\, Titusville\, FL\, 32780\, United States
END:VEVENT
BEGIN:VEVENT
DTSTART;TZID=America/New_York:20251120T180000
DTEND;TZID=America/New_York:20251120T193000
DTSTAMP:20260424T181858
CREATED:20240218T234539Z
LAST-MODIFIED:20250831T185337Z
UID:10001071-1763661600-1763667000@gatewaycommunity.church
SUMMARY:Pickleball Evening Session
DESCRIPTION:Ball waving with a pickleball paddle\nJoin us for Pickleball on our indoor court. Bring your own paddle or use one of our loaners. Everyone is welcome!
URL:https://gatewaycommunity.church/events/pickleball-evening-session-68/2025-11-20/
LOCATION:Gateway Community Church Family Life Center\, 2801 Tropic St\, TITUSVILLE\, FL\, 32796\, United States
CATEGORIES:Community Events,Pickleball
END:VEVENT
BEGIN:VEVENT
DTSTART;TZID=America/New_York:20251118T180000
DTEND;TZID=America/New_York:20251118T193000
DTSTAMP:20260424T181858
CREATED:20240218T234804Z
LAST-MODIFIED:20250831T184934Z
UID:10001760-1763488800-1763494200@gatewaycommunity.church
SUMMARY:Pickleball for Beginners and Intermediates
DESCRIPTION:Ball waving with a pickleball paddle\nIf you want to learn how to play Pickleball\, or just brush up on your skills before joining more advanced players\, here’s your chance. Join us on our indoor court. Bring your own paddle or use one of our loaners. Everyone is welcome!
URL:https://gatewaycommunity.church/events/pickleball-morning-session-31/2025-11-18/
LOCATION:Gateway Community Church Family Life Center\, 2801 Tropic St\, TITUSVILLE\, FL\, 32796\, United States
CATEGORIES:Community Events,Pickleball
END:VEVENT
BEGIN:VEVENT
DTSTART;TZID=America/New_York:20251117T180000
DTEND;TZID=America/New_York:20251117T193000
DTSTAMP:20260424T181858
CREATED:20240218T234539Z
LAST-MODIFIED:20250831T185337Z
UID:10001070-1763402400-1763407800@gatewaycommunity.church
SUMMARY:Pickleball Evening Session
DESCRIPTION:Ball waving with a pickleball paddle\nJoin us for Pickleball on our indoor court. Bring your own paddle or use one of our loaners. Everyone is welcome!
URL:https://gatewaycommunity.church/events/pickleball-evening-session-68/2025-11-17/
LOCATION:Gateway Community Church Family Life Center\, 2801 Tropic St\, TITUSVILLE\, FL\, 32796\, United States
CATEGORIES:Community Events,Pickleball
END:VEVENT
BEGIN:VEVENT
DTSTART;TZID=America/New_York:20251116T103000
DTEND;TZID=America/New_York:20251116T120000
DTSTAMP:20260424T181858
CREATED:20240219T000231Z
LAST-MODIFIED:20240526T223742Z
UID:10000472-1763289000-1763294400@gatewaycommunity.church
SUMMARY:Worship Service
DESCRIPTION:
URL:https://gatewaycommunity.church/events/worship-service-74/2025-11-16/
LOCATION:Gateway Community Church Sanctuary\, 2801 Tropic Street\, Titusville\, FL\, 32780\, United States
END:VEVENT
BEGIN:VEVENT
DTSTART;TZID=America/New_York:20251113T180000
DTEND;TZID=America/New_York:20251113T193000
DTSTAMP:20260424T181859
CREATED:20240218T234539Z
LAST-MODIFIED:20250831T185337Z
UID:10001069-1763056800-1763062200@gatewaycommunity.church
SUMMARY:Pickleball Evening Session
DESCRIPTION:Ball waving with a pickleball paddle\nJoin us for Pickleball on our indoor court. Bring your own paddle or use one of our loaners. Everyone is welcome!
URL:https://gatewaycommunity.church/events/pickleball-evening-session-68/2025-11-13/
LOCATION:Gateway Community Church Family Life Center\, 2801 Tropic St\, TITUSVILLE\, FL\, 32796\, United States
CATEGORIES:Community Events,Pickleball
END:VEVENT
BEGIN:VEVENT
DTSTART;TZID=America/New_York:20251111T180000
DTEND;TZID=America/New_York:20251111T193000
DTSTAMP:20260424T181859
CREATED:20240218T234804Z
LAST-MODIFIED:20250831T184934Z
UID:10001759-1762884000-1762889400@gatewaycommunity.church
SUMMARY:Pickleball for Beginners and Intermediates
DESCRIPTION:Ball waving with a pickleball paddle\nIf you want to learn how to play Pickleball\, or just brush up on your skills before joining more advanced players\, here’s your chance. Join us on our indoor court. Bring your own paddle or use one of our loaners. Everyone is welcome!
URL:https://gatewaycommunity.church/events/pickleball-morning-session-31/2025-11-11/
LOCATION:Gateway Community Church Family Life Center\, 2801 Tropic St\, TITUSVILLE\, FL\, 32796\, United States
CATEGORIES:Community Events,Pickleball
END:VEVENT
BEGIN:VEVENT
DTSTART;TZID=America/New_York:20251110T180000
DTEND;TZID=America/New_York:20251110T193000
DTSTAMP:20260424T181859
CREATED:20240218T234539Z
LAST-MODIFIED:20250831T185337Z
UID:10001068-1762797600-1762803000@gatewaycommunity.church
SUMMARY:Pickleball Evening Session
DESCRIPTION:Ball waving with a pickleball paddle\nJoin us for Pickleball on our indoor court. Bring your own paddle or use one of our loaners. Everyone is welcome!
URL:https://gatewaycommunity.church/events/pickleball-evening-session-68/2025-11-10/
LOCATION:Gateway Community Church Family Life Center\, 2801 Tropic St\, TITUSVILLE\, FL\, 32796\, United States
CATEGORIES:Community Events,Pickleball
END:VEVENT
BEGIN:VEVENT
DTSTART;TZID=America/New_York:20251109T103000
DTEND;TZID=America/New_York:20251109T120000
DTSTAMP:20260424T181859
CREATED:20240219T000231Z
LAST-MODIFIED:20240526T223742Z
UID:10000471-1762684200-1762689600@gatewaycommunity.church
SUMMARY:Worship Service
DESCRIPTION:
URL:https://gatewaycommunity.church/events/worship-service-74/2025-11-09/
LOCATION:Gateway Community Church Sanctuary\, 2801 Tropic Street\, Titusville\, FL\, 32780\, United States
END:VEVENT
BEGIN:VEVENT
DTSTART;TZID=America/New_York:20251106T180000
DTEND;TZID=America/New_York:20251106T193000
DTSTAMP:20260424T181859
CREATED:20240218T234539Z
LAST-MODIFIED:20250831T185337Z
UID:10001067-1762452000-1762457400@gatewaycommunity.church
SUMMARY:Pickleball Evening Session
DESCRIPTION:Ball waving with a pickleball paddle\nJoin us for Pickleball on our indoor court. Bring your own paddle or use one of our loaners. Everyone is welcome!
URL:https://gatewaycommunity.church/events/pickleball-evening-session-68/2025-11-06/
LOCATION:Gateway Community Church Family Life Center\, 2801 Tropic St\, TITUSVILLE\, FL\, 32796\, United States
CATEGORIES:Community Events,Pickleball
END:VEVENT
BEGIN:VEVENT
DTSTART;TZID=America/New_York:20251106T113000
DTEND;TZID=America/New_York:20251106T130000
DTSTAMP:20260424T181859
CREATED:20250619T211348Z
LAST-MODIFIED:20250619T211348Z
UID:10002621-1762428600-1762434000@gatewaycommunity.church
SUMMARY:Gather at the Table
DESCRIPTION:LIFT Women’s Ministry luncheon at Victorio’s. Join us for food & fellowship.
URL:https://gatewaycommunity.church/events/gather-at-the-table-13/
LOCATION:FL
CATEGORIES:Community Events,Food,Women
ORGANIZER;CN="L.I.F.T Women's Ministry":MAILTO:lift.womens.ministry@gatewaycommunity.church
END:VEVENT
BEGIN:VEVENT
DTSTART;TZID=America/New_York:20251105T180000
DTEND;TZID=America/New_York:20251105T190000
DTSTAMP:20260424T181859
CREATED:20250820T084212Z
LAST-MODIFIED:20250831T184707Z
UID:10002632-1762365600-1762369200@gatewaycommunity.church
SUMMARY:Life University Family Night
DESCRIPTION:Youth and Adult Bible Studies\nYouth and Adult Bible Studies \nWednesday nights are family night! Join us for dinner from 5:00 – 5:45 pm then stay for our selection of Bibles studies for all ages. Kids ages 4-12 can participate in Kids Rock-t Wednesdays to learn about God in a fun and engaging way. Youth in grades 7-12 will join Pastor Clay and his wife Cindi in our awesome game room to hang out and hear a weekly challenge. For a list of all the adult classes being offered\, click here.
URL:https://gatewaycommunity.church/events/life-university-family-night-27/2025-11-05/
LOCATION:Gateway Community Church Family Life Center\, 2801 Tropic St\, TITUSVILLE\, FL\, 32796\, United States
CATEGORIES:Bible Study,Family Night
END:VEVENT
BEGIN:VEVENT
DTSTART;TZID=America/New_York:20251104T180000
DTEND;TZID=America/New_York:20251104T193000
DTSTAMP:20260424T181859
CREATED:20240218T234804Z
LAST-MODIFIED:20250831T184934Z
UID:10001758-1762279200-1762284600@gatewaycommunity.church
SUMMARY:Pickleball for Beginners and Intermediates
DESCRIPTION:Ball waving with a pickleball paddle\nIf you want to learn how to play Pickleball\, or just brush up on your skills before joining more advanced players\, here’s your chance. Join us on our indoor court. Bring your own paddle or use one of our loaners. Everyone is welcome!
URL:https://gatewaycommunity.church/events/pickleball-morning-session-31/2025-11-04/
LOCATION:Gateway Community Church Family Life Center\, 2801 Tropic St\, TITUSVILLE\, FL\, 32796\, United States
CATEGORIES:Community Events,Pickleball
END:VEVENT
BEGIN:VEVENT
DTSTART;TZID=America/New_York:20251103T180000
DTEND;TZID=America/New_York:20251103T193000
DTSTAMP:20260424T181859
CREATED:20240218T234539Z
LAST-MODIFIED:20250831T185337Z
UID:10001066-1762192800-1762198200@gatewaycommunity.church
SUMMARY:Pickleball Evening Session
DESCRIPTION:Ball waving with a pickleball paddle\nJoin us for Pickleball on our indoor court. Bring your own paddle or use one of our loaners. Everyone is welcome!
URL:https://gatewaycommunity.church/events/pickleball-evening-session-68/2025-11-03/
LOCATION:Gateway Community Church Family Life Center\, 2801 Tropic St\, TITUSVILLE\, FL\, 32796\, United States
CATEGORIES:Community Events,Pickleball
END:VEVENT
BEGIN:VEVENT
DTSTART;TZID=America/New_York:20251102T103000
DTEND;TZID=America/New_York:20251102T120000
DTSTAMP:20260424T181859
CREATED:20240219T000231Z
LAST-MODIFIED:20240526T223742Z
UID:10000470-1762079400-1762084800@gatewaycommunity.church
SUMMARY:Worship Service
DESCRIPTION:
URL:https://gatewaycommunity.church/events/worship-service-74/2025-11-02/
LOCATION:Gateway Community Church Sanctuary\, 2801 Tropic Street\, Titusville\, FL\, 32780\, United States
END:VEVENT
BEGIN:VEVENT
DTSTART;TZID=America/New_York:20251030T180000
DTEND;TZID=America/New_York:20251030T193000
DTSTAMP:20260424T181859
CREATED:20240218T234539Z
LAST-MODIFIED:20250831T185337Z
UID:10001065-1761847200-1761852600@gatewaycommunity.church
SUMMARY:Pickleball Evening Session
DESCRIPTION:Ball waving with a pickleball paddle\nJoin us for Pickleball on our indoor court. Bring your own paddle or use one of our loaners. Everyone is welcome!
URL:https://gatewaycommunity.church/events/pickleball-evening-session-68/2025-10-30/
LOCATION:Gateway Community Church Family Life Center\, 2801 Tropic St\, TITUSVILLE\, FL\, 32796\, United States
CATEGORIES:Community Events,Pickleball
END:VEVENT
BEGIN:VEVENT
DTSTART;TZID=America/New_York:20251029T180000
DTEND;TZID=America/New_York:20251029T190000
DTSTAMP:20260424T181859
CREATED:20250820T084212Z
LAST-MODIFIED:20250831T184707Z
UID:10002631-1761760800-1761764400@gatewaycommunity.church
SUMMARY:Life University Family Night
DESCRIPTION:Youth and Adult Bible Studies\nYouth and Adult Bible Studies \nWednesday nights are family night! Join us for dinner from 5:00 – 5:45 pm then stay for our selection of Bibles studies for all ages. Kids ages 4-12 can participate in Kids Rock-t Wednesdays to learn about God in a fun and engaging way. Youth in grades 7-12 will join Pastor Clay and his wife Cindi in our awesome game room to hang out and hear a weekly challenge. For a list of all the adult classes being offered\, click here.
URL:https://gatewaycommunity.church/events/life-university-family-night-27/2025-10-29/
LOCATION:Gateway Community Church Family Life Center\, 2801 Tropic St\, TITUSVILLE\, FL\, 32796\, United States
CATEGORIES:Bible Study,Family Night
END:VEVENT
BEGIN:VEVENT
DTSTART;TZID=America/New_York:20251028T180000
DTEND;TZID=America/New_York:20251028T193000
DTSTAMP:20260424T181859
CREATED:20240218T234804Z
LAST-MODIFIED:20250831T184934Z
UID:10001757-1761674400-1761679800@gatewaycommunity.church
SUMMARY:Pickleball for Beginners and Intermediates
DESCRIPTION:Ball waving with a pickleball paddle\nIf you want to learn how to play Pickleball\, or just brush up on your skills before joining more advanced players\, here’s your chance. Join us on our indoor court. Bring your own paddle or use one of our loaners. Everyone is welcome!
URL:https://gatewaycommunity.church/events/pickleball-morning-session-31/2025-10-28/
LOCATION:Gateway Community Church Family Life Center\, 2801 Tropic St\, TITUSVILLE\, FL\, 32796\, United States
CATEGORIES:Community Events,Pickleball
END:VEVENT
END:VCALENDAR