BEGIN:VCALENDAR
VERSION:2.0
PRODID:-// - ECPv6.15.20//NONSGML v1.0//EN
CALSCALE:GREGORIAN
METHOD:PUBLISH
X-ORIGINAL-URL:https://gatewaycommunity.church
X-WR-CALDESC:Events for 
REFRESH-INTERVAL;VALUE=DURATION:PT1H
X-Robots-Tag:noindex
X-PUBLISHED-TTL:PT1H
BEGIN:VTIMEZONE
TZID:America/New_York
BEGIN:DAYLIGHT
TZOFFSETFROM:-0500
TZOFFSETTO:-0400
TZNAME:EDT
DTSTART:20250309T070000
END:DAYLIGHT
BEGIN:STANDARD
TZOFFSETFROM:-0400
TZOFFSETTO:-0500
TZNAME:EST
DTSTART:20251102T060000
END:STANDARD
BEGIN:DAYLIGHT
TZOFFSETFROM:-0500
TZOFFSETTO:-0400
TZNAME:EDT
DTSTART:20260308T070000
END:DAYLIGHT
BEGIN:STANDARD
TZOFFSETFROM:-0400
TZOFFSETTO:-0500
TZNAME:EST
DTSTART:20261101T060000
END:STANDARD
BEGIN:DAYLIGHT
TZOFFSETFROM:-0500
TZOFFSETTO:-0400
TZNAME:EDT
DTSTART:20270314T070000
END:DAYLIGHT
BEGIN:STANDARD
TZOFFSETFROM:-0400
TZOFFSETTO:-0500
TZNAME:EST
DTSTART:20271107T060000
END:STANDARD
END:VTIMEZONE
BEGIN:VEVENT
DTSTART;TZID=America/New_York:20260428T180000
DTEND;TZID=America/New_York:20260428T193000
DTSTAMP:20260424T113536
CREATED:20240218T234804Z
LAST-MODIFIED:20250831T184934Z
UID:10001783-1777399200-1777404600@gatewaycommunity.church
SUMMARY:Pickleball for Beginners and Intermediates
DESCRIPTION:Ball waving with a pickleball paddle\nIf you want to learn how to play Pickleball\, or just brush up on your skills before joining more advanced players\, here’s your chance. Join us on our indoor court. Bring your own paddle or use one of our loaners. Everyone is welcome!
URL:https://gatewaycommunity.church/events/pickleball-morning-session-31/2026-04-28/
LOCATION:Gateway Community Church Family Life Center\, 2801 Tropic St\, TITUSVILLE\, FL\, 32796\, United States
CATEGORIES:Community Events,Pickleball
END:VEVENT
BEGIN:VEVENT
DTSTART;TZID=America/New_York:20260505T180000
DTEND;TZID=America/New_York:20260505T193000
DTSTAMP:20260424T113536
CREATED:20240218T234804Z
LAST-MODIFIED:20250831T184934Z
UID:10001784-1778004000-1778009400@gatewaycommunity.church
SUMMARY:Pickleball for Beginners and Intermediates
DESCRIPTION:Ball waving with a pickleball paddle\nIf you want to learn how to play Pickleball\, or just brush up on your skills before joining more advanced players\, here’s your chance. Join us on our indoor court. Bring your own paddle or use one of our loaners. Everyone is welcome!
URL:https://gatewaycommunity.church/events/pickleball-morning-session-31/2026-05-05/
LOCATION:Gateway Community Church Family Life Center\, 2801 Tropic St\, TITUSVILLE\, FL\, 32796\, United States
CATEGORIES:Community Events,Pickleball
END:VEVENT
BEGIN:VEVENT
DTSTART;TZID=America/New_York:20260512T180000
DTEND;TZID=America/New_York:20260512T193000
DTSTAMP:20260424T113536
CREATED:20240218T234804Z
LAST-MODIFIED:20250831T184934Z
UID:10001785-1778608800-1778614200@gatewaycommunity.church
SUMMARY:Pickleball for Beginners and Intermediates
DESCRIPTION:Ball waving with a pickleball paddle\nIf you want to learn how to play Pickleball\, or just brush up on your skills before joining more advanced players\, here’s your chance. Join us on our indoor court. Bring your own paddle or use one of our loaners. Everyone is welcome!
URL:https://gatewaycommunity.church/events/pickleball-morning-session-31/2026-05-12/
LOCATION:Gateway Community Church Family Life Center\, 2801 Tropic St\, TITUSVILLE\, FL\, 32796\, United States
CATEGORIES:Community Events,Pickleball
END:VEVENT
BEGIN:VEVENT
DTSTART;TZID=America/New_York:20260519T180000
DTEND;TZID=America/New_York:20260519T193000
DTSTAMP:20260424T113536
CREATED:20240218T234804Z
LAST-MODIFIED:20250831T184934Z
UID:10001786-1779213600-1779219000@gatewaycommunity.church
SUMMARY:Pickleball for Beginners and Intermediates
DESCRIPTION:Ball waving with a pickleball paddle\nIf you want to learn how to play Pickleball\, or just brush up on your skills before joining more advanced players\, here’s your chance. Join us on our indoor court. Bring your own paddle or use one of our loaners. Everyone is welcome!
URL:https://gatewaycommunity.church/events/pickleball-morning-session-31/2026-05-19/
LOCATION:Gateway Community Church Family Life Center\, 2801 Tropic St\, TITUSVILLE\, FL\, 32796\, United States
CATEGORIES:Community Events,Pickleball
END:VEVENT
BEGIN:VEVENT
DTSTART;TZID=America/New_York:20260526T180000
DTEND;TZID=America/New_York:20260526T193000
DTSTAMP:20260424T113536
CREATED:20240218T234804Z
LAST-MODIFIED:20250831T184934Z
UID:10001787-1779818400-1779823800@gatewaycommunity.church
SUMMARY:Pickleball for Beginners and Intermediates
DESCRIPTION:Ball waving with a pickleball paddle\nIf you want to learn how to play Pickleball\, or just brush up on your skills before joining more advanced players\, here’s your chance. Join us on our indoor court. Bring your own paddle or use one of our loaners. Everyone is welcome!
URL:https://gatewaycommunity.church/events/pickleball-morning-session-31/2026-05-26/
LOCATION:Gateway Community Church Family Life Center\, 2801 Tropic St\, TITUSVILLE\, FL\, 32796\, United States
CATEGORIES:Community Events,Pickleball
END:VEVENT
BEGIN:VEVENT
DTSTART;TZID=America/New_York:20260602T180000
DTEND;TZID=America/New_York:20260602T193000
DTSTAMP:20260424T113536
CREATED:20240218T234804Z
LAST-MODIFIED:20250831T184934Z
UID:10001788-1780423200-1780428600@gatewaycommunity.church
SUMMARY:Pickleball for Beginners and Intermediates
DESCRIPTION:Ball waving with a pickleball paddle\nIf you want to learn how to play Pickleball\, or just brush up on your skills before joining more advanced players\, here’s your chance. Join us on our indoor court. Bring your own paddle or use one of our loaners. Everyone is welcome!
URL:https://gatewaycommunity.church/events/pickleball-morning-session-31/2026-06-02/
LOCATION:Gateway Community Church Family Life Center\, 2801 Tropic St\, TITUSVILLE\, FL\, 32796\, United States
CATEGORIES:Community Events,Pickleball
END:VEVENT
BEGIN:VEVENT
DTSTART;TZID=America/New_York:20260609T180000
DTEND;TZID=America/New_York:20260609T193000
DTSTAMP:20260424T113536
CREATED:20240218T234804Z
LAST-MODIFIED:20250831T184934Z
UID:10001789-1781028000-1781033400@gatewaycommunity.church
SUMMARY:Pickleball for Beginners and Intermediates
DESCRIPTION:Ball waving with a pickleball paddle\nIf you want to learn how to play Pickleball\, or just brush up on your skills before joining more advanced players\, here’s your chance. Join us on our indoor court. Bring your own paddle or use one of our loaners. Everyone is welcome!
URL:https://gatewaycommunity.church/events/pickleball-morning-session-31/2026-06-09/
LOCATION:Gateway Community Church Family Life Center\, 2801 Tropic St\, TITUSVILLE\, FL\, 32796\, United States
CATEGORIES:Community Events,Pickleball
END:VEVENT
BEGIN:VEVENT
DTSTART;TZID=America/New_York:20260616T180000
DTEND;TZID=America/New_York:20260616T193000
DTSTAMP:20260424T113536
CREATED:20240218T234804Z
LAST-MODIFIED:20250831T184934Z
UID:10001790-1781632800-1781638200@gatewaycommunity.church
SUMMARY:Pickleball for Beginners and Intermediates
DESCRIPTION:Ball waving with a pickleball paddle\nIf you want to learn how to play Pickleball\, or just brush up on your skills before joining more advanced players\, here’s your chance. Join us on our indoor court. Bring your own paddle or use one of our loaners. Everyone is welcome!
URL:https://gatewaycommunity.church/events/pickleball-morning-session-31/2026-06-16/
LOCATION:Gateway Community Church Family Life Center\, 2801 Tropic St\, TITUSVILLE\, FL\, 32796\, United States
CATEGORIES:Community Events,Pickleball
END:VEVENT
BEGIN:VEVENT
DTSTART;TZID=America/New_York:20260623T180000
DTEND;TZID=America/New_York:20260623T193000
DTSTAMP:20260424T113536
CREATED:20240218T234804Z
LAST-MODIFIED:20250831T184934Z
UID:10001791-1782237600-1782243000@gatewaycommunity.church
SUMMARY:Pickleball for Beginners and Intermediates
DESCRIPTION:Ball waving with a pickleball paddle\nIf you want to learn how to play Pickleball\, or just brush up on your skills before joining more advanced players\, here’s your chance. Join us on our indoor court. Bring your own paddle or use one of our loaners. Everyone is welcome!
URL:https://gatewaycommunity.church/events/pickleball-morning-session-31/2026-06-23/
LOCATION:Gateway Community Church Family Life Center\, 2801 Tropic St\, TITUSVILLE\, FL\, 32796\, United States
CATEGORIES:Community Events,Pickleball
END:VEVENT
BEGIN:VEVENT
DTSTART;TZID=America/New_York:20260630T180000
DTEND;TZID=America/New_York:20260630T193000
DTSTAMP:20260424T113536
CREATED:20240218T234804Z
LAST-MODIFIED:20250831T184934Z
UID:10001792-1782842400-1782847800@gatewaycommunity.church
SUMMARY:Pickleball for Beginners and Intermediates
DESCRIPTION:Ball waving with a pickleball paddle\nIf you want to learn how to play Pickleball\, or just brush up on your skills before joining more advanced players\, here’s your chance. Join us on our indoor court. Bring your own paddle or use one of our loaners. Everyone is welcome!
URL:https://gatewaycommunity.church/events/pickleball-morning-session-31/2026-06-30/
LOCATION:Gateway Community Church Family Life Center\, 2801 Tropic St\, TITUSVILLE\, FL\, 32796\, United States
CATEGORIES:Community Events,Pickleball
END:VEVENT
BEGIN:VEVENT
DTSTART;TZID=America/New_York:20260707T180000
DTEND;TZID=America/New_York:20260707T193000
DTSTAMP:20260424T113536
CREATED:20240218T234804Z
LAST-MODIFIED:20250831T184934Z
UID:10001793-1783447200-1783452600@gatewaycommunity.church
SUMMARY:Pickleball for Beginners and Intermediates
DESCRIPTION:Ball waving with a pickleball paddle\nIf you want to learn how to play Pickleball\, or just brush up on your skills before joining more advanced players\, here’s your chance. Join us on our indoor court. Bring your own paddle or use one of our loaners. Everyone is welcome!
URL:https://gatewaycommunity.church/events/pickleball-morning-session-31/2026-07-07/
LOCATION:Gateway Community Church Family Life Center\, 2801 Tropic St\, TITUSVILLE\, FL\, 32796\, United States
CATEGORIES:Community Events,Pickleball
END:VEVENT
BEGIN:VEVENT
DTSTART;TZID=America/New_York:20260714T180000
DTEND;TZID=America/New_York:20260714T193000
DTSTAMP:20260424T113536
CREATED:20240218T234804Z
LAST-MODIFIED:20250831T184934Z
UID:10001794-1784052000-1784057400@gatewaycommunity.church
SUMMARY:Pickleball for Beginners and Intermediates
DESCRIPTION:Ball waving with a pickleball paddle\nIf you want to learn how to play Pickleball\, or just brush up on your skills before joining more advanced players\, here’s your chance. Join us on our indoor court. Bring your own paddle or use one of our loaners. Everyone is welcome!
URL:https://gatewaycommunity.church/events/pickleball-morning-session-31/2026-07-14/
LOCATION:Gateway Community Church Family Life Center\, 2801 Tropic St\, TITUSVILLE\, FL\, 32796\, United States
CATEGORIES:Community Events,Pickleball
END:VEVENT
BEGIN:VEVENT
DTSTART;TZID=America/New_York:20260721T180000
DTEND;TZID=America/New_York:20260721T193000
DTSTAMP:20260424T113536
CREATED:20240218T234804Z
LAST-MODIFIED:20250831T184934Z
UID:10001795-1784656800-1784662200@gatewaycommunity.church
SUMMARY:Pickleball for Beginners and Intermediates
DESCRIPTION:Ball waving with a pickleball paddle\nIf you want to learn how to play Pickleball\, or just brush up on your skills before joining more advanced players\, here’s your chance. Join us on our indoor court. Bring your own paddle or use one of our loaners. Everyone is welcome!
URL:https://gatewaycommunity.church/events/pickleball-morning-session-31/2026-07-21/
LOCATION:Gateway Community Church Family Life Center\, 2801 Tropic St\, TITUSVILLE\, FL\, 32796\, United States
CATEGORIES:Community Events,Pickleball
END:VEVENT
BEGIN:VEVENT
DTSTART;TZID=America/New_York:20260728T180000
DTEND;TZID=America/New_York:20260728T193000
DTSTAMP:20260424T113536
CREATED:20240218T234804Z
LAST-MODIFIED:20250831T184934Z
UID:10001796-1785261600-1785267000@gatewaycommunity.church
SUMMARY:Pickleball for Beginners and Intermediates
DESCRIPTION:Ball waving with a pickleball paddle\nIf you want to learn how to play Pickleball\, or just brush up on your skills before joining more advanced players\, here’s your chance. Join us on our indoor court. Bring your own paddle or use one of our loaners. Everyone is welcome!
URL:https://gatewaycommunity.church/events/pickleball-morning-session-31/2026-07-28/
LOCATION:Gateway Community Church Family Life Center\, 2801 Tropic St\, TITUSVILLE\, FL\, 32796\, United States
CATEGORIES:Community Events,Pickleball
END:VEVENT
BEGIN:VEVENT
DTSTART;TZID=America/New_York:20260804T180000
DTEND;TZID=America/New_York:20260804T193000
DTSTAMP:20260424T113536
CREATED:20240218T234804Z
LAST-MODIFIED:20250831T184934Z
UID:10001797-1785866400-1785871800@gatewaycommunity.church
SUMMARY:Pickleball for Beginners and Intermediates
DESCRIPTION:Ball waving with a pickleball paddle\nIf you want to learn how to play Pickleball\, or just brush up on your skills before joining more advanced players\, here’s your chance. Join us on our indoor court. Bring your own paddle or use one of our loaners. Everyone is welcome!
URL:https://gatewaycommunity.church/events/pickleball-morning-session-31/2026-08-04/
LOCATION:Gateway Community Church Family Life Center\, 2801 Tropic St\, TITUSVILLE\, FL\, 32796\, United States
CATEGORIES:Community Events,Pickleball
END:VEVENT
BEGIN:VEVENT
DTSTART;TZID=America/New_York:20260811T180000
DTEND;TZID=America/New_York:20260811T193000
DTSTAMP:20260424T113536
CREATED:20240218T234804Z
LAST-MODIFIED:20250831T184934Z
UID:10001798-1786471200-1786476600@gatewaycommunity.church
SUMMARY:Pickleball for Beginners and Intermediates
DESCRIPTION:Ball waving with a pickleball paddle\nIf you want to learn how to play Pickleball\, or just brush up on your skills before joining more advanced players\, here’s your chance. Join us on our indoor court. Bring your own paddle or use one of our loaners. Everyone is welcome!
URL:https://gatewaycommunity.church/events/pickleball-morning-session-31/2026-08-11/
LOCATION:Gateway Community Church Family Life Center\, 2801 Tropic St\, TITUSVILLE\, FL\, 32796\, United States
CATEGORIES:Community Events,Pickleball
END:VEVENT
BEGIN:VEVENT
DTSTART;TZID=America/New_York:20260818T180000
DTEND;TZID=America/New_York:20260818T193000
DTSTAMP:20260424T113536
CREATED:20240218T234804Z
LAST-MODIFIED:20250831T184934Z
UID:10001799-1787076000-1787081400@gatewaycommunity.church
SUMMARY:Pickleball for Beginners and Intermediates
DESCRIPTION:Ball waving with a pickleball paddle\nIf you want to learn how to play Pickleball\, or just brush up on your skills before joining more advanced players\, here’s your chance. Join us on our indoor court. Bring your own paddle or use one of our loaners. Everyone is welcome!
URL:https://gatewaycommunity.church/events/pickleball-morning-session-31/2026-08-18/
LOCATION:Gateway Community Church Family Life Center\, 2801 Tropic St\, TITUSVILLE\, FL\, 32796\, United States
CATEGORIES:Community Events,Pickleball
END:VEVENT
BEGIN:VEVENT
DTSTART;TZID=America/New_York:20260825T180000
DTEND;TZID=America/New_York:20260825T193000
DTSTAMP:20260424T113536
CREATED:20240218T234804Z
LAST-MODIFIED:20250831T184934Z
UID:10001800-1787680800-1787686200@gatewaycommunity.church
SUMMARY:Pickleball for Beginners and Intermediates
DESCRIPTION:Ball waving with a pickleball paddle\nIf you want to learn how to play Pickleball\, or just brush up on your skills before joining more advanced players\, here’s your chance. Join us on our indoor court. Bring your own paddle or use one of our loaners. Everyone is welcome!
URL:https://gatewaycommunity.church/events/pickleball-morning-session-31/2026-08-25/
LOCATION:Gateway Community Church Family Life Center\, 2801 Tropic St\, TITUSVILLE\, FL\, 32796\, United States
CATEGORIES:Community Events,Pickleball
END:VEVENT
BEGIN:VEVENT
DTSTART;TZID=America/New_York:20260901T180000
DTEND;TZID=America/New_York:20260901T193000
DTSTAMP:20260424T113536
CREATED:20240218T234804Z
LAST-MODIFIED:20250831T184934Z
UID:10001801-1788285600-1788291000@gatewaycommunity.church
SUMMARY:Pickleball for Beginners and Intermediates
DESCRIPTION:Ball waving with a pickleball paddle\nIf you want to learn how to play Pickleball\, or just brush up on your skills before joining more advanced players\, here’s your chance. Join us on our indoor court. Bring your own paddle or use one of our loaners. Everyone is welcome!
URL:https://gatewaycommunity.church/events/pickleball-morning-session-31/2026-09-01/
LOCATION:Gateway Community Church Family Life Center\, 2801 Tropic St\, TITUSVILLE\, FL\, 32796\, United States
CATEGORIES:Community Events,Pickleball
END:VEVENT
BEGIN:VEVENT
DTSTART;TZID=America/New_York:20260908T180000
DTEND;TZID=America/New_York:20260908T193000
DTSTAMP:20260424T113536
CREATED:20240218T234804Z
LAST-MODIFIED:20250831T184934Z
UID:10001802-1788890400-1788895800@gatewaycommunity.church
SUMMARY:Pickleball for Beginners and Intermediates
DESCRIPTION:Ball waving with a pickleball paddle\nIf you want to learn how to play Pickleball\, or just brush up on your skills before joining more advanced players\, here’s your chance. Join us on our indoor court. Bring your own paddle or use one of our loaners. Everyone is welcome!
URL:https://gatewaycommunity.church/events/pickleball-morning-session-31/2026-09-08/
LOCATION:Gateway Community Church Family Life Center\, 2801 Tropic St\, TITUSVILLE\, FL\, 32796\, United States
CATEGORIES:Community Events,Pickleball
END:VEVENT
BEGIN:VEVENT
DTSTART;TZID=America/New_York:20260915T180000
DTEND;TZID=America/New_York:20260915T193000
DTSTAMP:20260424T113536
CREATED:20240218T234804Z
LAST-MODIFIED:20250831T184934Z
UID:10001803-1789495200-1789500600@gatewaycommunity.church
SUMMARY:Pickleball for Beginners and Intermediates
DESCRIPTION:Ball waving with a pickleball paddle\nIf you want to learn how to play Pickleball\, or just brush up on your skills before joining more advanced players\, here’s your chance. Join us on our indoor court. Bring your own paddle or use one of our loaners. Everyone is welcome!
URL:https://gatewaycommunity.church/events/pickleball-morning-session-31/2026-09-15/
LOCATION:Gateway Community Church Family Life Center\, 2801 Tropic St\, TITUSVILLE\, FL\, 32796\, United States
CATEGORIES:Community Events,Pickleball
END:VEVENT
BEGIN:VEVENT
DTSTART;TZID=America/New_York:20260922T180000
DTEND;TZID=America/New_York:20260922T193000
DTSTAMP:20260424T113536
CREATED:20240218T234804Z
LAST-MODIFIED:20250831T184934Z
UID:10001804-1790100000-1790105400@gatewaycommunity.church
SUMMARY:Pickleball for Beginners and Intermediates
DESCRIPTION:Ball waving with a pickleball paddle\nIf you want to learn how to play Pickleball\, or just brush up on your skills before joining more advanced players\, here’s your chance. Join us on our indoor court. Bring your own paddle or use one of our loaners. Everyone is welcome!
URL:https://gatewaycommunity.church/events/pickleball-morning-session-31/2026-09-22/
LOCATION:Gateway Community Church Family Life Center\, 2801 Tropic St\, TITUSVILLE\, FL\, 32796\, United States
CATEGORIES:Community Events,Pickleball
END:VEVENT
BEGIN:VEVENT
DTSTART;TZID=America/New_York:20260929T180000
DTEND;TZID=America/New_York:20260929T193000
DTSTAMP:20260424T113536
CREATED:20240218T234804Z
LAST-MODIFIED:20250831T184934Z
UID:10001805-1790704800-1790710200@gatewaycommunity.church
SUMMARY:Pickleball for Beginners and Intermediates
DESCRIPTION:Ball waving with a pickleball paddle\nIf you want to learn how to play Pickleball\, or just brush up on your skills before joining more advanced players\, here’s your chance. Join us on our indoor court. Bring your own paddle or use one of our loaners. Everyone is welcome!
URL:https://gatewaycommunity.church/events/pickleball-morning-session-31/2026-09-29/
LOCATION:Gateway Community Church Family Life Center\, 2801 Tropic St\, TITUSVILLE\, FL\, 32796\, United States
CATEGORIES:Community Events,Pickleball
END:VEVENT
BEGIN:VEVENT
DTSTART;TZID=America/New_York:20261006T180000
DTEND;TZID=America/New_York:20261006T193000
DTSTAMP:20260424T113536
CREATED:20240218T234804Z
LAST-MODIFIED:20250831T184934Z
UID:10001806-1791309600-1791315000@gatewaycommunity.church
SUMMARY:Pickleball for Beginners and Intermediates
DESCRIPTION:Ball waving with a pickleball paddle\nIf you want to learn how to play Pickleball\, or just brush up on your skills before joining more advanced players\, here’s your chance. Join us on our indoor court. Bring your own paddle or use one of our loaners. Everyone is welcome!
URL:https://gatewaycommunity.church/events/pickleball-morning-session-31/2026-10-06/
LOCATION:Gateway Community Church Family Life Center\, 2801 Tropic St\, TITUSVILLE\, FL\, 32796\, United States
CATEGORIES:Community Events,Pickleball
END:VEVENT
BEGIN:VEVENT
DTSTART;TZID=America/New_York:20261013T180000
DTEND;TZID=America/New_York:20261013T193000
DTSTAMP:20260424T113536
CREATED:20240218T234804Z
LAST-MODIFIED:20250831T184934Z
UID:10001807-1791914400-1791919800@gatewaycommunity.church
SUMMARY:Pickleball for Beginners and Intermediates
DESCRIPTION:Ball waving with a pickleball paddle\nIf you want to learn how to play Pickleball\, or just brush up on your skills before joining more advanced players\, here’s your chance. Join us on our indoor court. Bring your own paddle or use one of our loaners. Everyone is welcome!
URL:https://gatewaycommunity.church/events/pickleball-morning-session-31/2026-10-13/
LOCATION:Gateway Community Church Family Life Center\, 2801 Tropic St\, TITUSVILLE\, FL\, 32796\, United States
CATEGORIES:Community Events,Pickleball
END:VEVENT
BEGIN:VEVENT
DTSTART;TZID=America/New_York:20261020T180000
DTEND;TZID=America/New_York:20261020T193000
DTSTAMP:20260424T113536
CREATED:20240218T234804Z
LAST-MODIFIED:20250831T184934Z
UID:10001808-1792519200-1792524600@gatewaycommunity.church
SUMMARY:Pickleball for Beginners and Intermediates
DESCRIPTION:Ball waving with a pickleball paddle\nIf you want to learn how to play Pickleball\, or just brush up on your skills before joining more advanced players\, here’s your chance. Join us on our indoor court. Bring your own paddle or use one of our loaners. Everyone is welcome!
URL:https://gatewaycommunity.church/events/pickleball-morning-session-31/2026-10-20/
LOCATION:Gateway Community Church Family Life Center\, 2801 Tropic St\, TITUSVILLE\, FL\, 32796\, United States
CATEGORIES:Community Events,Pickleball
END:VEVENT
BEGIN:VEVENT
DTSTART;TZID=America/New_York:20261027T180000
DTEND;TZID=America/New_York:20261027T193000
DTSTAMP:20260424T113536
CREATED:20240218T234804Z
LAST-MODIFIED:20250831T184934Z
UID:10001809-1793124000-1793129400@gatewaycommunity.church
SUMMARY:Pickleball for Beginners and Intermediates
DESCRIPTION:Ball waving with a pickleball paddle\nIf you want to learn how to play Pickleball\, or just brush up on your skills before joining more advanced players\, here’s your chance. Join us on our indoor court. Bring your own paddle or use one of our loaners. Everyone is welcome!
URL:https://gatewaycommunity.church/events/pickleball-morning-session-31/2026-10-27/
LOCATION:Gateway Community Church Family Life Center\, 2801 Tropic St\, TITUSVILLE\, FL\, 32796\, United States
CATEGORIES:Community Events,Pickleball
END:VEVENT
BEGIN:VEVENT
DTSTART;TZID=America/New_York:20261103T180000
DTEND;TZID=America/New_York:20261103T193000
DTSTAMP:20260424T113536
CREATED:20240218T234804Z
LAST-MODIFIED:20250831T184934Z
UID:10001810-1793728800-1793734200@gatewaycommunity.church
SUMMARY:Pickleball for Beginners and Intermediates
DESCRIPTION:Ball waving with a pickleball paddle\nIf you want to learn how to play Pickleball\, or just brush up on your skills before joining more advanced players\, here’s your chance. Join us on our indoor court. Bring your own paddle or use one of our loaners. Everyone is welcome!
URL:https://gatewaycommunity.church/events/pickleball-morning-session-31/2026-11-03/
LOCATION:Gateway Community Church Family Life Center\, 2801 Tropic St\, TITUSVILLE\, FL\, 32796\, United States
CATEGORIES:Community Events,Pickleball
END:VEVENT
BEGIN:VEVENT
DTSTART;TZID=America/New_York:20261110T180000
DTEND;TZID=America/New_York:20261110T193000
DTSTAMP:20260424T113536
CREATED:20240218T234804Z
LAST-MODIFIED:20250831T184934Z
UID:10001811-1794333600-1794339000@gatewaycommunity.church
SUMMARY:Pickleball for Beginners and Intermediates
DESCRIPTION:Ball waving with a pickleball paddle\nIf you want to learn how to play Pickleball\, or just brush up on your skills before joining more advanced players\, here’s your chance. Join us on our indoor court. Bring your own paddle or use one of our loaners. Everyone is welcome!
URL:https://gatewaycommunity.church/events/pickleball-morning-session-31/2026-11-10/
LOCATION:Gateway Community Church Family Life Center\, 2801 Tropic St\, TITUSVILLE\, FL\, 32796\, United States
CATEGORIES:Community Events,Pickleball
END:VEVENT
BEGIN:VEVENT
DTSTART;TZID=America/New_York:20261117T180000
DTEND;TZID=America/New_York:20261117T193000
DTSTAMP:20260424T113536
CREATED:20240218T234804Z
LAST-MODIFIED:20250831T184934Z
UID:10001812-1794938400-1794943800@gatewaycommunity.church
SUMMARY:Pickleball for Beginners and Intermediates
DESCRIPTION:Ball waving with a pickleball paddle\nIf you want to learn how to play Pickleball\, or just brush up on your skills before joining more advanced players\, here’s your chance. Join us on our indoor court. Bring your own paddle or use one of our loaners. Everyone is welcome!
URL:https://gatewaycommunity.church/events/pickleball-morning-session-31/2026-11-17/
LOCATION:Gateway Community Church Family Life Center\, 2801 Tropic St\, TITUSVILLE\, FL\, 32796\, United States
CATEGORIES:Community Events,Pickleball
END:VEVENT
END:VCALENDAR