BEGIN:VCALENDAR
VERSION:2.0
PRODID:-// - ECPv6.15.20//NONSGML v1.0//EN
CALSCALE:GREGORIAN
METHOD:PUBLISH
X-ORIGINAL-URL:https://gatewaycommunity.church
X-WR-CALDESC:Events for 
REFRESH-INTERVAL;VALUE=DURATION:PT1H
X-Robots-Tag:noindex
X-PUBLISHED-TTL:PT1H
BEGIN:VTIMEZONE
TZID:America/New_York
BEGIN:DAYLIGHT
TZOFFSETFROM:-0500
TZOFFSETTO:-0400
TZNAME:EDT
DTSTART:20240310T070000
END:DAYLIGHT
BEGIN:STANDARD
TZOFFSETFROM:-0400
TZOFFSETTO:-0500
TZNAME:EST
DTSTART:20241103T060000
END:STANDARD
BEGIN:DAYLIGHT
TZOFFSETFROM:-0500
TZOFFSETTO:-0400
TZNAME:EDT
DTSTART:20250309T070000
END:DAYLIGHT
BEGIN:STANDARD
TZOFFSETFROM:-0400
TZOFFSETTO:-0500
TZNAME:EST
DTSTART:20251102T060000
END:STANDARD
BEGIN:DAYLIGHT
TZOFFSETFROM:-0500
TZOFFSETTO:-0400
TZNAME:EDT
DTSTART:20260308T070000
END:DAYLIGHT
BEGIN:STANDARD
TZOFFSETFROM:-0400
TZOFFSETTO:-0500
TZNAME:EST
DTSTART:20261101T060000
END:STANDARD
BEGIN:DAYLIGHT
TZOFFSETFROM:-0500
TZOFFSETTO:-0400
TZNAME:EDT
DTSTART:20270314T070000
END:DAYLIGHT
BEGIN:STANDARD
TZOFFSETFROM:-0400
TZOFFSETTO:-0500
TZNAME:EST
DTSTART:20271107T060000
END:STANDARD
END:VTIMEZONE
BEGIN:VEVENT
DTSTART;TZID=America/New_York:20260125T103000
DTEND;TZID=America/New_York:20260125T120000
DTSTAMP:20260424T153447
CREATED:20240219T000231Z
LAST-MODIFIED:20240526T223742Z
UID:10000482-1769337000-1769342400@gatewaycommunity.church
SUMMARY:Worship Service
DESCRIPTION:
URL:https://gatewaycommunity.church/events/worship-service-74/2026-01-25/
LOCATION:Gateway Community Church Sanctuary\, 2801 Tropic Street\, Titusville\, FL\, 32780\, United States
END:VEVENT
BEGIN:VEVENT
DTSTART;TZID=America/New_York:20260118T103000
DTEND;TZID=America/New_York:20260118T120000
DTSTAMP:20260424T153447
CREATED:20240219T000231Z
LAST-MODIFIED:20240526T223742Z
UID:10000481-1768732200-1768737600@gatewaycommunity.church
SUMMARY:Worship Service
DESCRIPTION:
URL:https://gatewaycommunity.church/events/worship-service-74/2026-01-18/
LOCATION:Gateway Community Church Sanctuary\, 2801 Tropic Street\, Titusville\, FL\, 32780\, United States
END:VEVENT
BEGIN:VEVENT
DTSTART;TZID=America/New_York:20260111T103000
DTEND;TZID=America/New_York:20260111T120000
DTSTAMP:20260424T153447
CREATED:20240219T000231Z
LAST-MODIFIED:20240526T223742Z
UID:10000480-1768127400-1768132800@gatewaycommunity.church
SUMMARY:Worship Service
DESCRIPTION:
URL:https://gatewaycommunity.church/events/worship-service-74/2026-01-11/
LOCATION:Gateway Community Church Sanctuary\, 2801 Tropic Street\, Titusville\, FL\, 32780\, United States
END:VEVENT
BEGIN:VEVENT
DTSTART;TZID=America/New_York:20260104T103000
DTEND;TZID=America/New_York:20260104T120000
DTSTAMP:20260424T153447
CREATED:20240219T000231Z
LAST-MODIFIED:20240526T223742Z
UID:10000479-1767522600-1767528000@gatewaycommunity.church
SUMMARY:Worship Service
DESCRIPTION:
URL:https://gatewaycommunity.church/events/worship-service-74/2026-01-04/
LOCATION:Gateway Community Church Sanctuary\, 2801 Tropic Street\, Titusville\, FL\, 32780\, United States
END:VEVENT
BEGIN:VEVENT
DTSTART;TZID=America/New_York:20251228T103000
DTEND;TZID=America/New_York:20251228T120000
DTSTAMP:20260424T153447
CREATED:20240219T000231Z
LAST-MODIFIED:20240526T223742Z
UID:10000478-1766917800-1766923200@gatewaycommunity.church
SUMMARY:Worship Service
DESCRIPTION:
URL:https://gatewaycommunity.church/events/worship-service-74/2025-12-28/
LOCATION:Gateway Community Church Sanctuary\, 2801 Tropic Street\, Titusville\, FL\, 32780\, United States
END:VEVENT
BEGIN:VEVENT
DTSTART;TZID=America/New_York:20251221T103000
DTEND;TZID=America/New_York:20251221T120000
DTSTAMP:20260424T153447
CREATED:20240219T000231Z
LAST-MODIFIED:20240526T223742Z
UID:10000477-1766313000-1766318400@gatewaycommunity.church
SUMMARY:Worship Service
DESCRIPTION:
URL:https://gatewaycommunity.church/events/worship-service-74/2025-12-21/
LOCATION:Gateway Community Church Sanctuary\, 2801 Tropic Street\, Titusville\, FL\, 32780\, United States
END:VEVENT
BEGIN:VEVENT
DTSTART;TZID=America/New_York:20251214T103000
DTEND;TZID=America/New_York:20251214T120000
DTSTAMP:20260424T153447
CREATED:20240219T000231Z
LAST-MODIFIED:20240526T223742Z
UID:10000476-1765708200-1765713600@gatewaycommunity.church
SUMMARY:Worship Service
DESCRIPTION:
URL:https://gatewaycommunity.church/events/worship-service-74/2025-12-14/
LOCATION:Gateway Community Church Sanctuary\, 2801 Tropic Street\, Titusville\, FL\, 32780\, United States
END:VEVENT
BEGIN:VEVENT
DTSTART;TZID=America/New_York:20251207T103000
DTEND;TZID=America/New_York:20251207T120000
DTSTAMP:20260424T153447
CREATED:20240219T000231Z
LAST-MODIFIED:20240526T223742Z
UID:10000475-1765103400-1765108800@gatewaycommunity.church
SUMMARY:Worship Service
DESCRIPTION:
URL:https://gatewaycommunity.church/events/worship-service-74/2025-12-07/
LOCATION:Gateway Community Church Sanctuary\, 2801 Tropic Street\, Titusville\, FL\, 32780\, United States
END:VEVENT
BEGIN:VEVENT
DTSTART;TZID=America/New_York:20251130T103000
DTEND;TZID=America/New_York:20251130T120000
DTSTAMP:20260424T153447
CREATED:20240219T000231Z
LAST-MODIFIED:20240526T223742Z
UID:10000474-1764498600-1764504000@gatewaycommunity.church
SUMMARY:Worship Service
DESCRIPTION:
URL:https://gatewaycommunity.church/events/worship-service-74/2025-11-30/
LOCATION:Gateway Community Church Sanctuary\, 2801 Tropic Street\, Titusville\, FL\, 32780\, United States
END:VEVENT
BEGIN:VEVENT
DTSTART;TZID=America/New_York:20251123T103000
DTEND;TZID=America/New_York:20251123T120000
DTSTAMP:20260424T153447
CREATED:20240219T000231Z
LAST-MODIFIED:20240526T223742Z
UID:10000473-1763893800-1763899200@gatewaycommunity.church
SUMMARY:Worship Service
DESCRIPTION:
URL:https://gatewaycommunity.church/events/worship-service-74/2025-11-23/
LOCATION:Gateway Community Church Sanctuary\, 2801 Tropic Street\, Titusville\, FL\, 32780\, United States
END:VEVENT
BEGIN:VEVENT
DTSTART;TZID=America/New_York:20251116T103000
DTEND;TZID=America/New_York:20251116T120000
DTSTAMP:20260424T153447
CREATED:20240219T000231Z
LAST-MODIFIED:20240526T223742Z
UID:10000472-1763289000-1763294400@gatewaycommunity.church
SUMMARY:Worship Service
DESCRIPTION:
URL:https://gatewaycommunity.church/events/worship-service-74/2025-11-16/
LOCATION:Gateway Community Church Sanctuary\, 2801 Tropic Street\, Titusville\, FL\, 32780\, United States
END:VEVENT
BEGIN:VEVENT
DTSTART;TZID=America/New_York:20251109T103000
DTEND;TZID=America/New_York:20251109T120000
DTSTAMP:20260424T153447
CREATED:20240219T000231Z
LAST-MODIFIED:20240526T223742Z
UID:10000471-1762684200-1762689600@gatewaycommunity.church
SUMMARY:Worship Service
DESCRIPTION:
URL:https://gatewaycommunity.church/events/worship-service-74/2025-11-09/
LOCATION:Gateway Community Church Sanctuary\, 2801 Tropic Street\, Titusville\, FL\, 32780\, United States
END:VEVENT
BEGIN:VEVENT
DTSTART;TZID=America/New_York:20251102T103000
DTEND;TZID=America/New_York:20251102T120000
DTSTAMP:20260424T153447
CREATED:20240219T000231Z
LAST-MODIFIED:20240526T223742Z
UID:10000470-1762079400-1762084800@gatewaycommunity.church
SUMMARY:Worship Service
DESCRIPTION:
URL:https://gatewaycommunity.church/events/worship-service-74/2025-11-02/
LOCATION:Gateway Community Church Sanctuary\, 2801 Tropic Street\, Titusville\, FL\, 32780\, United States
END:VEVENT
BEGIN:VEVENT
DTSTART;TZID=America/New_York:20251026T103000
DTEND;TZID=America/New_York:20251026T120000
DTSTAMP:20260424T153447
CREATED:20240219T000231Z
LAST-MODIFIED:20240526T223742Z
UID:10000469-1761474600-1761480000@gatewaycommunity.church
SUMMARY:Worship Service
DESCRIPTION:
URL:https://gatewaycommunity.church/events/worship-service-74/2025-10-26/
LOCATION:Gateway Community Church Sanctuary\, 2801 Tropic Street\, Titusville\, FL\, 32780\, United States
END:VEVENT
BEGIN:VEVENT
DTSTART;TZID=America/New_York:20251019T103000
DTEND;TZID=America/New_York:20251019T120000
DTSTAMP:20260424T153447
CREATED:20240219T000231Z
LAST-MODIFIED:20240526T223742Z
UID:10000468-1760869800-1760875200@gatewaycommunity.church
SUMMARY:Worship Service
DESCRIPTION:
URL:https://gatewaycommunity.church/events/worship-service-74/2025-10-19/
LOCATION:Gateway Community Church Sanctuary\, 2801 Tropic Street\, Titusville\, FL\, 32780\, United States
END:VEVENT
BEGIN:VEVENT
DTSTART;TZID=America/New_York:20251012T103000
DTEND;TZID=America/New_York:20251012T120000
DTSTAMP:20260424T153447
CREATED:20240219T000231Z
LAST-MODIFIED:20240526T223742Z
UID:10000467-1760265000-1760270400@gatewaycommunity.church
SUMMARY:Worship Service
DESCRIPTION:
URL:https://gatewaycommunity.church/events/worship-service-74/2025-10-12/
LOCATION:Gateway Community Church Sanctuary\, 2801 Tropic Street\, Titusville\, FL\, 32780\, United States
END:VEVENT
BEGIN:VEVENT
DTSTART;TZID=America/New_York:20251005T103000
DTEND;TZID=America/New_York:20251005T120000
DTSTAMP:20260424T153447
CREATED:20240219T000231Z
LAST-MODIFIED:20240526T223742Z
UID:10000466-1759660200-1759665600@gatewaycommunity.church
SUMMARY:Worship Service
DESCRIPTION:
URL:https://gatewaycommunity.church/events/worship-service-74/2025-10-05/
LOCATION:Gateway Community Church Sanctuary\, 2801 Tropic Street\, Titusville\, FL\, 32780\, United States
END:VEVENT
BEGIN:VEVENT
DTSTART;TZID=America/New_York:20250928T103000
DTEND;TZID=America/New_York:20250928T120000
DTSTAMP:20260424T153447
CREATED:20240219T000231Z
LAST-MODIFIED:20240526T223742Z
UID:10000465-1759055400-1759060800@gatewaycommunity.church
SUMMARY:Worship Service
DESCRIPTION:
URL:https://gatewaycommunity.church/events/worship-service-74/2025-09-28/
LOCATION:Gateway Community Church Sanctuary\, 2801 Tropic Street\, Titusville\, FL\, 32780\, United States
END:VEVENT
BEGIN:VEVENT
DTSTART;TZID=America/New_York:20250921T103000
DTEND;TZID=America/New_York:20250921T120000
DTSTAMP:20260424T153447
CREATED:20240219T000231Z
LAST-MODIFIED:20240526T223742Z
UID:10000464-1758450600-1758456000@gatewaycommunity.church
SUMMARY:Worship Service
DESCRIPTION:
URL:https://gatewaycommunity.church/events/worship-service-74/2025-09-21/
LOCATION:Gateway Community Church Sanctuary\, 2801 Tropic Street\, Titusville\, FL\, 32780\, United States
END:VEVENT
BEGIN:VEVENT
DTSTART;TZID=America/New_York:20250914T103000
DTEND;TZID=America/New_York:20250914T120000
DTSTAMP:20260424T153447
CREATED:20240219T000231Z
LAST-MODIFIED:20240526T223742Z
UID:10000463-1757845800-1757851200@gatewaycommunity.church
SUMMARY:Worship Service
DESCRIPTION:
URL:https://gatewaycommunity.church/events/worship-service-74/2025-09-14/
LOCATION:Gateway Community Church Sanctuary\, 2801 Tropic Street\, Titusville\, FL\, 32780\, United States
END:VEVENT
BEGIN:VEVENT
DTSTART;TZID=America/New_York:20250907T103000
DTEND;TZID=America/New_York:20250907T120000
DTSTAMP:20260424T153447
CREATED:20240219T000231Z
LAST-MODIFIED:20240526T223742Z
UID:10000462-1757241000-1757246400@gatewaycommunity.church
SUMMARY:Worship Service
DESCRIPTION:
URL:https://gatewaycommunity.church/events/worship-service-74/2025-09-07/
LOCATION:Gateway Community Church Sanctuary\, 2801 Tropic Street\, Titusville\, FL\, 32780\, United States
END:VEVENT
BEGIN:VEVENT
DTSTART;TZID=America/New_York:20250831T103000
DTEND;TZID=America/New_York:20250831T120000
DTSTAMP:20260424T153447
CREATED:20240219T000231Z
LAST-MODIFIED:20240526T223742Z
UID:10000461-1756636200-1756641600@gatewaycommunity.church
SUMMARY:Worship Service
DESCRIPTION:
URL:https://gatewaycommunity.church/events/worship-service-74/2025-08-31/
LOCATION:Gateway Community Church Sanctuary\, 2801 Tropic Street\, Titusville\, FL\, 32780\, United States
END:VEVENT
BEGIN:VEVENT
DTSTART;TZID=America/New_York:20250824T103000
DTEND;TZID=America/New_York:20250824T120000
DTSTAMP:20260424T153447
CREATED:20240219T000231Z
LAST-MODIFIED:20240526T223742Z
UID:10000460-1756031400-1756036800@gatewaycommunity.church
SUMMARY:Worship Service
DESCRIPTION:
URL:https://gatewaycommunity.church/events/worship-service-74/2025-08-24/
LOCATION:Gateway Community Church Sanctuary\, 2801 Tropic Street\, Titusville\, FL\, 32780\, United States
END:VEVENT
BEGIN:VEVENT
DTSTART;TZID=America/New_York:20250817T103000
DTEND;TZID=America/New_York:20250817T120000
DTSTAMP:20260424T153447
CREATED:20240219T000231Z
LAST-MODIFIED:20240526T223742Z
UID:10000459-1755426600-1755432000@gatewaycommunity.church
SUMMARY:Worship Service
DESCRIPTION:
URL:https://gatewaycommunity.church/events/worship-service-74/2025-08-17/
LOCATION:Gateway Community Church Sanctuary\, 2801 Tropic Street\, Titusville\, FL\, 32780\, United States
END:VEVENT
BEGIN:VEVENT
DTSTART;TZID=America/New_York:20250810T103000
DTEND;TZID=America/New_York:20250810T120000
DTSTAMP:20260424T153447
CREATED:20240219T000231Z
LAST-MODIFIED:20240526T223742Z
UID:10000458-1754821800-1754827200@gatewaycommunity.church
SUMMARY:Worship Service
DESCRIPTION:
URL:https://gatewaycommunity.church/events/worship-service-74/2025-08-10/
LOCATION:Gateway Community Church Sanctuary\, 2801 Tropic Street\, Titusville\, FL\, 32780\, United States
END:VEVENT
BEGIN:VEVENT
DTSTART;TZID=America/New_York:20250803T103000
DTEND;TZID=America/New_York:20250803T120000
DTSTAMP:20260424T153447
CREATED:20240219T000231Z
LAST-MODIFIED:20240526T223742Z
UID:10000457-1754217000-1754222400@gatewaycommunity.church
SUMMARY:Worship Service
DESCRIPTION:
URL:https://gatewaycommunity.church/events/worship-service-74/2025-08-03/
LOCATION:Gateway Community Church Sanctuary\, 2801 Tropic Street\, Titusville\, FL\, 32780\, United States
END:VEVENT
BEGIN:VEVENT
DTSTART;TZID=America/New_York:20250727T103000
DTEND;TZID=America/New_York:20250727T120000
DTSTAMP:20260424T153447
CREATED:20240219T000231Z
LAST-MODIFIED:20240526T223742Z
UID:10000456-1753612200-1753617600@gatewaycommunity.church
SUMMARY:Worship Service
DESCRIPTION:
URL:https://gatewaycommunity.church/events/worship-service-74/2025-07-27/
LOCATION:Gateway Community Church Sanctuary\, 2801 Tropic Street\, Titusville\, FL\, 32780\, United States
END:VEVENT
BEGIN:VEVENT
DTSTART;TZID=America/New_York:20250720T103000
DTEND;TZID=America/New_York:20250720T120000
DTSTAMP:20260424T153448
CREATED:20240219T000231Z
LAST-MODIFIED:20240526T223742Z
UID:10000455-1753007400-1753012800@gatewaycommunity.church
SUMMARY:Worship Service
DESCRIPTION:
URL:https://gatewaycommunity.church/events/worship-service-74/2025-07-20/
LOCATION:Gateway Community Church Sanctuary\, 2801 Tropic Street\, Titusville\, FL\, 32780\, United States
END:VEVENT
BEGIN:VEVENT
DTSTART;TZID=America/New_York:20250713T103000
DTEND;TZID=America/New_York:20250713T120000
DTSTAMP:20260424T153448
CREATED:20240219T000231Z
LAST-MODIFIED:20240526T223742Z
UID:10000454-1752402600-1752408000@gatewaycommunity.church
SUMMARY:Worship Service
DESCRIPTION:
URL:https://gatewaycommunity.church/events/worship-service-74/2025-07-13/
LOCATION:Gateway Community Church Sanctuary\, 2801 Tropic Street\, Titusville\, FL\, 32780\, United States
END:VEVENT
BEGIN:VEVENT
DTSTART;TZID=America/New_York:20250706T103000
DTEND;TZID=America/New_York:20250706T120000
DTSTAMP:20260424T153448
CREATED:20240219T000231Z
LAST-MODIFIED:20240526T223742Z
UID:10000453-1751797800-1751803200@gatewaycommunity.church
SUMMARY:Worship Service
DESCRIPTION:
URL:https://gatewaycommunity.church/events/worship-service-74/2025-07-06/
LOCATION:Gateway Community Church Sanctuary\, 2801 Tropic Street\, Titusville\, FL\, 32780\, United States
END:VEVENT
END:VCALENDAR