BEGIN:VCALENDAR
VERSION:2.0
PRODID:-// - ECPv6.15.20//NONSGML v1.0//EN
CALSCALE:GREGORIAN
METHOD:PUBLISH
X-ORIGINAL-URL:https://gatewaycommunity.church
X-WR-CALDESC:Events for 
REFRESH-INTERVAL;VALUE=DURATION:PT1H
X-Robots-Tag:noindex
X-PUBLISHED-TTL:PT1H
BEGIN:VTIMEZONE
TZID:America/New_York
BEGIN:DAYLIGHT
TZOFFSETFROM:-0500
TZOFFSETTO:-0400
TZNAME:EDT
DTSTART:20250309T070000
END:DAYLIGHT
BEGIN:STANDARD
TZOFFSETFROM:-0400
TZOFFSETTO:-0500
TZNAME:EST
DTSTART:20251102T060000
END:STANDARD
BEGIN:DAYLIGHT
TZOFFSETFROM:-0500
TZOFFSETTO:-0400
TZNAME:EDT
DTSTART:20260308T070000
END:DAYLIGHT
BEGIN:STANDARD
TZOFFSETFROM:-0400
TZOFFSETTO:-0500
TZNAME:EST
DTSTART:20261101T060000
END:STANDARD
BEGIN:DAYLIGHT
TZOFFSETFROM:-0500
TZOFFSETTO:-0400
TZNAME:EDT
DTSTART:20270314T070000
END:DAYLIGHT
BEGIN:STANDARD
TZOFFSETFROM:-0400
TZOFFSETTO:-0500
TZNAME:EST
DTSTART:20271107T060000
END:STANDARD
BEGIN:DAYLIGHT
TZOFFSETFROM:-0500
TZOFFSETTO:-0400
TZNAME:EDT
DTSTART:20280312T070000
END:DAYLIGHT
BEGIN:STANDARD
TZOFFSETFROM:-0400
TZOFFSETTO:-0500
TZNAME:EST
DTSTART:20281105T060000
END:STANDARD
END:VTIMEZONE
BEGIN:VEVENT
DTSTART;TZID=America/New_York:20260719T103000
DTEND;TZID=America/New_York:20260719T120000
DTSTAMP:20260424T141441
CREATED:20240219T000231Z
LAST-MODIFIED:20240526T223742Z
UID:10000507-1784457000-1784462400@gatewaycommunity.church
SUMMARY:Worship Service
DESCRIPTION:
URL:https://gatewaycommunity.church/events/worship-service-74/2026-07-19/
LOCATION:Gateway Community Church Sanctuary\, 2801 Tropic Street\, Titusville\, FL\, 32780\, United States
END:VEVENT
BEGIN:VEVENT
DTSTART;TZID=America/New_York:20260726T103000
DTEND;TZID=America/New_York:20260726T120000
DTSTAMP:20260424T141441
CREATED:20240219T000231Z
LAST-MODIFIED:20240526T223742Z
UID:10000508-1785061800-1785067200@gatewaycommunity.church
SUMMARY:Worship Service
DESCRIPTION:
URL:https://gatewaycommunity.church/events/worship-service-74/2026-07-26/
LOCATION:Gateway Community Church Sanctuary\, 2801 Tropic Street\, Titusville\, FL\, 32780\, United States
END:VEVENT
BEGIN:VEVENT
DTSTART;TZID=America/New_York:20260802T103000
DTEND;TZID=America/New_York:20260802T120000
DTSTAMP:20260424T141441
CREATED:20240219T000231Z
LAST-MODIFIED:20240526T223742Z
UID:10000509-1785666600-1785672000@gatewaycommunity.church
SUMMARY:Worship Service
DESCRIPTION:
URL:https://gatewaycommunity.church/events/worship-service-74/2026-08-02/
LOCATION:Gateway Community Church Sanctuary\, 2801 Tropic Street\, Titusville\, FL\, 32780\, United States
END:VEVENT
BEGIN:VEVENT
DTSTART;TZID=America/New_York:20260809T103000
DTEND;TZID=America/New_York:20260809T120000
DTSTAMP:20260424T141441
CREATED:20240219T000231Z
LAST-MODIFIED:20240526T223742Z
UID:10000510-1786271400-1786276800@gatewaycommunity.church
SUMMARY:Worship Service
DESCRIPTION:
URL:https://gatewaycommunity.church/events/worship-service-74/2026-08-09/
LOCATION:Gateway Community Church Sanctuary\, 2801 Tropic Street\, Titusville\, FL\, 32780\, United States
END:VEVENT
BEGIN:VEVENT
DTSTART;TZID=America/New_York:20260816T103000
DTEND;TZID=America/New_York:20260816T120000
DTSTAMP:20260424T141441
CREATED:20240219T000231Z
LAST-MODIFIED:20240526T223742Z
UID:10000511-1786876200-1786881600@gatewaycommunity.church
SUMMARY:Worship Service
DESCRIPTION:
URL:https://gatewaycommunity.church/events/worship-service-74/2026-08-16/
LOCATION:Gateway Community Church Sanctuary\, 2801 Tropic Street\, Titusville\, FL\, 32780\, United States
END:VEVENT
BEGIN:VEVENT
DTSTART;TZID=America/New_York:20260823T103000
DTEND;TZID=America/New_York:20260823T120000
DTSTAMP:20260424T141441
CREATED:20240219T000231Z
LAST-MODIFIED:20240526T223742Z
UID:10000512-1787481000-1787486400@gatewaycommunity.church
SUMMARY:Worship Service
DESCRIPTION:
URL:https://gatewaycommunity.church/events/worship-service-74/2026-08-23/
LOCATION:Gateway Community Church Sanctuary\, 2801 Tropic Street\, Titusville\, FL\, 32780\, United States
END:VEVENT
BEGIN:VEVENT
DTSTART;TZID=America/New_York:20260830T103000
DTEND;TZID=America/New_York:20260830T120000
DTSTAMP:20260424T141441
CREATED:20240219T000231Z
LAST-MODIFIED:20240526T223742Z
UID:10000513-1788085800-1788091200@gatewaycommunity.church
SUMMARY:Worship Service
DESCRIPTION:
URL:https://gatewaycommunity.church/events/worship-service-74/2026-08-30/
LOCATION:Gateway Community Church Sanctuary\, 2801 Tropic Street\, Titusville\, FL\, 32780\, United States
END:VEVENT
BEGIN:VEVENT
DTSTART;TZID=America/New_York:20260906T103000
DTEND;TZID=America/New_York:20260906T120000
DTSTAMP:20260424T141441
CREATED:20240219T000231Z
LAST-MODIFIED:20240526T223742Z
UID:10000514-1788690600-1788696000@gatewaycommunity.church
SUMMARY:Worship Service
DESCRIPTION:
URL:https://gatewaycommunity.church/events/worship-service-74/2026-09-06/
LOCATION:Gateway Community Church Sanctuary\, 2801 Tropic Street\, Titusville\, FL\, 32780\, United States
END:VEVENT
BEGIN:VEVENT
DTSTART;TZID=America/New_York:20260913T103000
DTEND;TZID=America/New_York:20260913T120000
DTSTAMP:20260424T141441
CREATED:20240219T000231Z
LAST-MODIFIED:20240526T223742Z
UID:10000515-1789295400-1789300800@gatewaycommunity.church
SUMMARY:Worship Service
DESCRIPTION:
URL:https://gatewaycommunity.church/events/worship-service-74/2026-09-13/
LOCATION:Gateway Community Church Sanctuary\, 2801 Tropic Street\, Titusville\, FL\, 32780\, United States
END:VEVENT
BEGIN:VEVENT
DTSTART;TZID=America/New_York:20260920T103000
DTEND;TZID=America/New_York:20260920T120000
DTSTAMP:20260424T141441
CREATED:20240219T000231Z
LAST-MODIFIED:20240526T223742Z
UID:10000516-1789900200-1789905600@gatewaycommunity.church
SUMMARY:Worship Service
DESCRIPTION:
URL:https://gatewaycommunity.church/events/worship-service-74/2026-09-20/
LOCATION:Gateway Community Church Sanctuary\, 2801 Tropic Street\, Titusville\, FL\, 32780\, United States
END:VEVENT
BEGIN:VEVENT
DTSTART;TZID=America/New_York:20260927T103000
DTEND;TZID=America/New_York:20260927T120000
DTSTAMP:20260424T141441
CREATED:20240219T000231Z
LAST-MODIFIED:20240526T223742Z
UID:10000517-1790505000-1790510400@gatewaycommunity.church
SUMMARY:Worship Service
DESCRIPTION:
URL:https://gatewaycommunity.church/events/worship-service-74/2026-09-27/
LOCATION:Gateway Community Church Sanctuary\, 2801 Tropic Street\, Titusville\, FL\, 32780\, United States
END:VEVENT
BEGIN:VEVENT
DTSTART;TZID=America/New_York:20261004T103000
DTEND;TZID=America/New_York:20261004T120000
DTSTAMP:20260424T141441
CREATED:20240219T000231Z
LAST-MODIFIED:20240526T223742Z
UID:10000518-1791109800-1791115200@gatewaycommunity.church
SUMMARY:Worship Service
DESCRIPTION:
URL:https://gatewaycommunity.church/events/worship-service-74/2026-10-04/
LOCATION:Gateway Community Church Sanctuary\, 2801 Tropic Street\, Titusville\, FL\, 32780\, United States
END:VEVENT
BEGIN:VEVENT
DTSTART;TZID=America/New_York:20261011T103000
DTEND;TZID=America/New_York:20261011T120000
DTSTAMP:20260424T141441
CREATED:20240219T000231Z
LAST-MODIFIED:20240526T223742Z
UID:10000519-1791714600-1791720000@gatewaycommunity.church
SUMMARY:Worship Service
DESCRIPTION:
URL:https://gatewaycommunity.church/events/worship-service-74/2026-10-11/
LOCATION:Gateway Community Church Sanctuary\, 2801 Tropic Street\, Titusville\, FL\, 32780\, United States
END:VEVENT
BEGIN:VEVENT
DTSTART;TZID=America/New_York:20261018T103000
DTEND;TZID=America/New_York:20261018T120000
DTSTAMP:20260424T141441
CREATED:20240219T000231Z
LAST-MODIFIED:20240526T223742Z
UID:10000520-1792319400-1792324800@gatewaycommunity.church
SUMMARY:Worship Service
DESCRIPTION:
URL:https://gatewaycommunity.church/events/worship-service-74/2026-10-18/
LOCATION:Gateway Community Church Sanctuary\, 2801 Tropic Street\, Titusville\, FL\, 32780\, United States
END:VEVENT
BEGIN:VEVENT
DTSTART;TZID=America/New_York:20261025T103000
DTEND;TZID=America/New_York:20261025T120000
DTSTAMP:20260424T141441
CREATED:20240219T000231Z
LAST-MODIFIED:20240526T223742Z
UID:10000521-1792924200-1792929600@gatewaycommunity.church
SUMMARY:Worship Service
DESCRIPTION:
URL:https://gatewaycommunity.church/events/worship-service-74/2026-10-25/
LOCATION:Gateway Community Church Sanctuary\, 2801 Tropic Street\, Titusville\, FL\, 32780\, United States
END:VEVENT
BEGIN:VEVENT
DTSTART;TZID=America/New_York:20261101T103000
DTEND;TZID=America/New_York:20261101T120000
DTSTAMP:20260424T141441
CREATED:20240219T000231Z
LAST-MODIFIED:20240526T223742Z
UID:10000522-1793529000-1793534400@gatewaycommunity.church
SUMMARY:Worship Service
DESCRIPTION:
URL:https://gatewaycommunity.church/events/worship-service-74/2026-11-01/
LOCATION:Gateway Community Church Sanctuary\, 2801 Tropic Street\, Titusville\, FL\, 32780\, United States
END:VEVENT
BEGIN:VEVENT
DTSTART;TZID=America/New_York:20261108T103000
DTEND;TZID=America/New_York:20261108T120000
DTSTAMP:20260424T141441
CREATED:20240219T000231Z
LAST-MODIFIED:20240526T223742Z
UID:10000523-1794133800-1794139200@gatewaycommunity.church
SUMMARY:Worship Service
DESCRIPTION:
URL:https://gatewaycommunity.church/events/worship-service-74/2026-11-08/
LOCATION:Gateway Community Church Sanctuary\, 2801 Tropic Street\, Titusville\, FL\, 32780\, United States
END:VEVENT
BEGIN:VEVENT
DTSTART;TZID=America/New_York:20261115T103000
DTEND;TZID=America/New_York:20261115T120000
DTSTAMP:20260424T141441
CREATED:20240219T000231Z
LAST-MODIFIED:20240526T223742Z
UID:10000524-1794738600-1794744000@gatewaycommunity.church
SUMMARY:Worship Service
DESCRIPTION:
URL:https://gatewaycommunity.church/events/worship-service-74/2026-11-15/
LOCATION:Gateway Community Church Sanctuary\, 2801 Tropic Street\, Titusville\, FL\, 32780\, United States
END:VEVENT
BEGIN:VEVENT
DTSTART;TZID=America/New_York:20261122T103000
DTEND;TZID=America/New_York:20261122T120000
DTSTAMP:20260424T141441
CREATED:20240219T000231Z
LAST-MODIFIED:20240526T223742Z
UID:10000525-1795343400-1795348800@gatewaycommunity.church
SUMMARY:Worship Service
DESCRIPTION:
URL:https://gatewaycommunity.church/events/worship-service-74/2026-11-22/
LOCATION:Gateway Community Church Sanctuary\, 2801 Tropic Street\, Titusville\, FL\, 32780\, United States
END:VEVENT
BEGIN:VEVENT
DTSTART;TZID=America/New_York:20261129T103000
DTEND;TZID=America/New_York:20261129T120000
DTSTAMP:20260424T141441
CREATED:20240219T000231Z
LAST-MODIFIED:20240526T223742Z
UID:10000526-1795948200-1795953600@gatewaycommunity.church
SUMMARY:Worship Service
DESCRIPTION:
URL:https://gatewaycommunity.church/events/worship-service-74/2026-11-29/
LOCATION:Gateway Community Church Sanctuary\, 2801 Tropic Street\, Titusville\, FL\, 32780\, United States
END:VEVENT
BEGIN:VEVENT
DTSTART;TZID=America/New_York:20261206T103000
DTEND;TZID=America/New_York:20261206T120000
DTSTAMP:20260424T141441
CREATED:20240219T000231Z
LAST-MODIFIED:20240526T223742Z
UID:10000527-1796553000-1796558400@gatewaycommunity.church
SUMMARY:Worship Service
DESCRIPTION:
URL:https://gatewaycommunity.church/events/worship-service-74/2026-12-06/
LOCATION:Gateway Community Church Sanctuary\, 2801 Tropic Street\, Titusville\, FL\, 32780\, United States
END:VEVENT
BEGIN:VEVENT
DTSTART;TZID=America/New_York:20261213T103000
DTEND;TZID=America/New_York:20261213T120000
DTSTAMP:20260424T141441
CREATED:20240219T000231Z
LAST-MODIFIED:20240526T223742Z
UID:10000528-1797157800-1797163200@gatewaycommunity.church
SUMMARY:Worship Service
DESCRIPTION:
URL:https://gatewaycommunity.church/events/worship-service-74/2026-12-13/
LOCATION:Gateway Community Church Sanctuary\, 2801 Tropic Street\, Titusville\, FL\, 32780\, United States
END:VEVENT
BEGIN:VEVENT
DTSTART;TZID=America/New_York:20261220T103000
DTEND;TZID=America/New_York:20261220T120000
DTSTAMP:20260424T141441
CREATED:20240219T000231Z
LAST-MODIFIED:20240526T223742Z
UID:10000529-1797762600-1797768000@gatewaycommunity.church
SUMMARY:Worship Service
DESCRIPTION:
URL:https://gatewaycommunity.church/events/worship-service-74/2026-12-20/
LOCATION:Gateway Community Church Sanctuary\, 2801 Tropic Street\, Titusville\, FL\, 32780\, United States
END:VEVENT
BEGIN:VEVENT
DTSTART;TZID=America/New_York:20261227T103000
DTEND;TZID=America/New_York:20261227T120000
DTSTAMP:20260424T141441
CREATED:20240219T000231Z
LAST-MODIFIED:20240526T223742Z
UID:10000530-1798367400-1798372800@gatewaycommunity.church
SUMMARY:Worship Service
DESCRIPTION:
URL:https://gatewaycommunity.church/events/worship-service-74/2026-12-27/
LOCATION:Gateway Community Church Sanctuary\, 2801 Tropic Street\, Titusville\, FL\, 32780\, United States
END:VEVENT
BEGIN:VEVENT
DTSTART;TZID=America/New_York:20270103T103000
DTEND;TZID=America/New_York:20270103T120000
DTSTAMP:20260424T141441
CREATED:20240219T000231Z
LAST-MODIFIED:20240526T223742Z
UID:10000531-1798972200-1798977600@gatewaycommunity.church
SUMMARY:Worship Service
DESCRIPTION:
URL:https://gatewaycommunity.church/events/worship-service-74/2027-01-03/
LOCATION:Gateway Community Church Sanctuary\, 2801 Tropic Street\, Titusville\, FL\, 32780\, United States
END:VEVENT
BEGIN:VEVENT
DTSTART;TZID=America/New_York:20270110T103000
DTEND;TZID=America/New_York:20270110T120000
DTSTAMP:20260424T141441
CREATED:20240219T000231Z
LAST-MODIFIED:20240526T223742Z
UID:10000532-1799577000-1799582400@gatewaycommunity.church
SUMMARY:Worship Service
DESCRIPTION:
URL:https://gatewaycommunity.church/events/worship-service-74/2027-01-10/
LOCATION:Gateway Community Church Sanctuary\, 2801 Tropic Street\, Titusville\, FL\, 32780\, United States
END:VEVENT
BEGIN:VEVENT
DTSTART;TZID=America/New_York:20270117T103000
DTEND;TZID=America/New_York:20270117T120000
DTSTAMP:20260424T141441
CREATED:20240219T000231Z
LAST-MODIFIED:20240526T223742Z
UID:10000533-1800181800-1800187200@gatewaycommunity.church
SUMMARY:Worship Service
DESCRIPTION:
URL:https://gatewaycommunity.church/events/worship-service-74/2027-01-17/
LOCATION:Gateway Community Church Sanctuary\, 2801 Tropic Street\, Titusville\, FL\, 32780\, United States
END:VEVENT
BEGIN:VEVENT
DTSTART;TZID=America/New_York:20270124T103000
DTEND;TZID=America/New_York:20270124T120000
DTSTAMP:20260424T141441
CREATED:20240219T000231Z
LAST-MODIFIED:20240526T223742Z
UID:10000534-1800786600-1800792000@gatewaycommunity.church
SUMMARY:Worship Service
DESCRIPTION:
URL:https://gatewaycommunity.church/events/worship-service-74/2027-01-24/
LOCATION:Gateway Community Church Sanctuary\, 2801 Tropic Street\, Titusville\, FL\, 32780\, United States
END:VEVENT
BEGIN:VEVENT
DTSTART;TZID=America/New_York:20270131T103000
DTEND;TZID=America/New_York:20270131T120000
DTSTAMP:20260424T141441
CREATED:20240219T000231Z
LAST-MODIFIED:20240526T223742Z
UID:10000535-1801391400-1801396800@gatewaycommunity.church
SUMMARY:Worship Service
DESCRIPTION:
URL:https://gatewaycommunity.church/events/worship-service-74/2027-01-31/
LOCATION:Gateway Community Church Sanctuary\, 2801 Tropic Street\, Titusville\, FL\, 32780\, United States
END:VEVENT
BEGIN:VEVENT
DTSTART;TZID=America/New_York:20270207T103000
DTEND;TZID=America/New_York:20270207T120000
DTSTAMP:20260424T141441
CREATED:20240219T000231Z
LAST-MODIFIED:20240526T223742Z
UID:10000536-1801996200-1802001600@gatewaycommunity.church
SUMMARY:Worship Service
DESCRIPTION:
URL:https://gatewaycommunity.church/events/worship-service-74/2027-02-07/
LOCATION:Gateway Community Church Sanctuary\, 2801 Tropic Street\, Titusville\, FL\, 32780\, United States
END:VEVENT
END:VCALENDAR