BEGIN:VCALENDAR
VERSION:2.0
PRODID:-// - ECPv6.15.20//NONSGML v1.0//EN
CALSCALE:GREGORIAN
METHOD:PUBLISH
X-ORIGINAL-URL:https://gatewaycommunity.church
X-WR-CALDESC:Events for 
REFRESH-INTERVAL;VALUE=DURATION:PT1H
X-Robots-Tag:noindex
X-PUBLISHED-TTL:PT1H
BEGIN:VTIMEZONE
TZID:America/New_York
BEGIN:DAYLIGHT
TZOFFSETFROM:-0500
TZOFFSETTO:-0400
TZNAME:EDT
DTSTART:20260308T070000
END:DAYLIGHT
BEGIN:STANDARD
TZOFFSETFROM:-0400
TZOFFSETTO:-0500
TZNAME:EST
DTSTART:20261101T060000
END:STANDARD
BEGIN:DAYLIGHT
TZOFFSETFROM:-0500
TZOFFSETTO:-0400
TZNAME:EDT
DTSTART:20270314T070000
END:DAYLIGHT
BEGIN:STANDARD
TZOFFSETFROM:-0400
TZOFFSETTO:-0500
TZNAME:EST
DTSTART:20271107T060000
END:STANDARD
BEGIN:DAYLIGHT
TZOFFSETFROM:-0500
TZOFFSETTO:-0400
TZNAME:EDT
DTSTART:20280312T070000
END:DAYLIGHT
BEGIN:STANDARD
TZOFFSETFROM:-0400
TZOFFSETTO:-0500
TZNAME:EST
DTSTART:20281105T060000
END:STANDARD
END:VTIMEZONE
BEGIN:VEVENT
DTSTART;TZID=America/New_York:20270103T103000
DTEND;TZID=America/New_York:20270103T120000
DTSTAMP:20260424T165609
CREATED:20240219T000231Z
LAST-MODIFIED:20240526T223742Z
UID:10000531-1798972200-1798977600@gatewaycommunity.church
SUMMARY:Worship Service
DESCRIPTION:
URL:https://gatewaycommunity.church/events/worship-service-74/2027-01-03/
LOCATION:Gateway Community Church Sanctuary\, 2801 Tropic Street\, Titusville\, FL\, 32780\, United States
END:VEVENT
BEGIN:VEVENT
DTSTART;TZID=America/New_York:20270110T103000
DTEND;TZID=America/New_York:20270110T120000
DTSTAMP:20260424T165609
CREATED:20240219T000231Z
LAST-MODIFIED:20240526T223742Z
UID:10000532-1799577000-1799582400@gatewaycommunity.church
SUMMARY:Worship Service
DESCRIPTION:
URL:https://gatewaycommunity.church/events/worship-service-74/2027-01-10/
LOCATION:Gateway Community Church Sanctuary\, 2801 Tropic Street\, Titusville\, FL\, 32780\, United States
END:VEVENT
BEGIN:VEVENT
DTSTART;TZID=America/New_York:20270117T103000
DTEND;TZID=America/New_York:20270117T120000
DTSTAMP:20260424T165609
CREATED:20240219T000231Z
LAST-MODIFIED:20240526T223742Z
UID:10000533-1800181800-1800187200@gatewaycommunity.church
SUMMARY:Worship Service
DESCRIPTION:
URL:https://gatewaycommunity.church/events/worship-service-74/2027-01-17/
LOCATION:Gateway Community Church Sanctuary\, 2801 Tropic Street\, Titusville\, FL\, 32780\, United States
END:VEVENT
BEGIN:VEVENT
DTSTART;TZID=America/New_York:20270124T103000
DTEND;TZID=America/New_York:20270124T120000
DTSTAMP:20260424T165609
CREATED:20240219T000231Z
LAST-MODIFIED:20240526T223742Z
UID:10000534-1800786600-1800792000@gatewaycommunity.church
SUMMARY:Worship Service
DESCRIPTION:
URL:https://gatewaycommunity.church/events/worship-service-74/2027-01-24/
LOCATION:Gateway Community Church Sanctuary\, 2801 Tropic Street\, Titusville\, FL\, 32780\, United States
END:VEVENT
BEGIN:VEVENT
DTSTART;TZID=America/New_York:20270131T103000
DTEND;TZID=America/New_York:20270131T120000
DTSTAMP:20260424T165609
CREATED:20240219T000231Z
LAST-MODIFIED:20240526T223742Z
UID:10000535-1801391400-1801396800@gatewaycommunity.church
SUMMARY:Worship Service
DESCRIPTION:
URL:https://gatewaycommunity.church/events/worship-service-74/2027-01-31/
LOCATION:Gateway Community Church Sanctuary\, 2801 Tropic Street\, Titusville\, FL\, 32780\, United States
END:VEVENT
BEGIN:VEVENT
DTSTART;TZID=America/New_York:20270207T103000
DTEND;TZID=America/New_York:20270207T120000
DTSTAMP:20260424T165609
CREATED:20240219T000231Z
LAST-MODIFIED:20240526T223742Z
UID:10000536-1801996200-1802001600@gatewaycommunity.church
SUMMARY:Worship Service
DESCRIPTION:
URL:https://gatewaycommunity.church/events/worship-service-74/2027-02-07/
LOCATION:Gateway Community Church Sanctuary\, 2801 Tropic Street\, Titusville\, FL\, 32780\, United States
END:VEVENT
BEGIN:VEVENT
DTSTART;TZID=America/New_York:20270214T103000
DTEND;TZID=America/New_York:20270214T120000
DTSTAMP:20260424T165609
CREATED:20240219T000231Z
LAST-MODIFIED:20240526T223742Z
UID:10000537-1802601000-1802606400@gatewaycommunity.church
SUMMARY:Worship Service
DESCRIPTION:
URL:https://gatewaycommunity.church/events/worship-service-74/2027-02-14/
LOCATION:Gateway Community Church Sanctuary\, 2801 Tropic Street\, Titusville\, FL\, 32780\, United States
END:VEVENT
BEGIN:VEVENT
DTSTART;TZID=America/New_York:20270221T103000
DTEND;TZID=America/New_York:20270221T120000
DTSTAMP:20260424T165609
CREATED:20240219T000231Z
LAST-MODIFIED:20240526T223742Z
UID:10000538-1803205800-1803211200@gatewaycommunity.church
SUMMARY:Worship Service
DESCRIPTION:
URL:https://gatewaycommunity.church/events/worship-service-74/2027-02-21/
LOCATION:Gateway Community Church Sanctuary\, 2801 Tropic Street\, Titusville\, FL\, 32780\, United States
END:VEVENT
BEGIN:VEVENT
DTSTART;TZID=America/New_York:20270228T103000
DTEND;TZID=America/New_York:20270228T120000
DTSTAMP:20260424T165609
CREATED:20240219T000231Z
LAST-MODIFIED:20240526T223742Z
UID:10000539-1803810600-1803816000@gatewaycommunity.church
SUMMARY:Worship Service
DESCRIPTION:
URL:https://gatewaycommunity.church/events/worship-service-74/2027-02-28/
LOCATION:Gateway Community Church Sanctuary\, 2801 Tropic Street\, Titusville\, FL\, 32780\, United States
END:VEVENT
BEGIN:VEVENT
DTSTART;TZID=America/New_York:20270307T103000
DTEND;TZID=America/New_York:20270307T120000
DTSTAMP:20260424T165609
CREATED:20240219T000231Z
LAST-MODIFIED:20240526T223742Z
UID:10000540-1804415400-1804420800@gatewaycommunity.church
SUMMARY:Worship Service
DESCRIPTION:
URL:https://gatewaycommunity.church/events/worship-service-74/2027-03-07/
LOCATION:Gateway Community Church Sanctuary\, 2801 Tropic Street\, Titusville\, FL\, 32780\, United States
END:VEVENT
BEGIN:VEVENT
DTSTART;TZID=America/New_York:20270314T103000
DTEND;TZID=America/New_York:20270314T120000
DTSTAMP:20260424T165609
CREATED:20240219T000231Z
LAST-MODIFIED:20240526T223742Z
UID:10000541-1805020200-1805025600@gatewaycommunity.church
SUMMARY:Worship Service
DESCRIPTION:
URL:https://gatewaycommunity.church/events/worship-service-74/2027-03-14/
LOCATION:Gateway Community Church Sanctuary\, 2801 Tropic Street\, Titusville\, FL\, 32780\, United States
END:VEVENT
BEGIN:VEVENT
DTSTART;TZID=America/New_York:20270321T103000
DTEND;TZID=America/New_York:20270321T120000
DTSTAMP:20260424T165609
CREATED:20240219T000231Z
LAST-MODIFIED:20240526T223742Z
UID:10000542-1805625000-1805630400@gatewaycommunity.church
SUMMARY:Worship Service
DESCRIPTION:
URL:https://gatewaycommunity.church/events/worship-service-74/2027-03-21/
LOCATION:Gateway Community Church Sanctuary\, 2801 Tropic Street\, Titusville\, FL\, 32780\, United States
END:VEVENT
BEGIN:VEVENT
DTSTART;TZID=America/New_York:20270328T103000
DTEND;TZID=America/New_York:20270328T120000
DTSTAMP:20260424T165609
CREATED:20240219T000231Z
LAST-MODIFIED:20240526T223742Z
UID:10000543-1806229800-1806235200@gatewaycommunity.church
SUMMARY:Worship Service
DESCRIPTION:
URL:https://gatewaycommunity.church/events/worship-service-74/2027-03-28/
LOCATION:Gateway Community Church Sanctuary\, 2801 Tropic Street\, Titusville\, FL\, 32780\, United States
END:VEVENT
BEGIN:VEVENT
DTSTART;TZID=America/New_York:20270404T103000
DTEND;TZID=America/New_York:20270404T120000
DTSTAMP:20260424T165609
CREATED:20240219T000231Z
LAST-MODIFIED:20240526T223742Z
UID:10000544-1806834600-1806840000@gatewaycommunity.church
SUMMARY:Worship Service
DESCRIPTION:
URL:https://gatewaycommunity.church/events/worship-service-74/2027-04-04/
LOCATION:Gateway Community Church Sanctuary\, 2801 Tropic Street\, Titusville\, FL\, 32780\, United States
END:VEVENT
BEGIN:VEVENT
DTSTART;TZID=America/New_York:20270411T103000
DTEND;TZID=America/New_York:20270411T120000
DTSTAMP:20260424T165609
CREATED:20240219T000231Z
LAST-MODIFIED:20240526T223742Z
UID:10000545-1807439400-1807444800@gatewaycommunity.church
SUMMARY:Worship Service
DESCRIPTION:
URL:https://gatewaycommunity.church/events/worship-service-74/2027-04-11/
LOCATION:Gateway Community Church Sanctuary\, 2801 Tropic Street\, Titusville\, FL\, 32780\, United States
END:VEVENT
BEGIN:VEVENT
DTSTART;TZID=America/New_York:20270418T103000
DTEND;TZID=America/New_York:20270418T120000
DTSTAMP:20260424T165609
CREATED:20240219T000231Z
LAST-MODIFIED:20240526T223742Z
UID:10000546-1808044200-1808049600@gatewaycommunity.church
SUMMARY:Worship Service
DESCRIPTION:
URL:https://gatewaycommunity.church/events/worship-service-74/2027-04-18/
LOCATION:Gateway Community Church Sanctuary\, 2801 Tropic Street\, Titusville\, FL\, 32780\, United States
END:VEVENT
BEGIN:VEVENT
DTSTART;TZID=America/New_York:20270425T103000
DTEND;TZID=America/New_York:20270425T120000
DTSTAMP:20260424T165609
CREATED:20240219T000231Z
LAST-MODIFIED:20240526T223742Z
UID:10000547-1808649000-1808654400@gatewaycommunity.church
SUMMARY:Worship Service
DESCRIPTION:
URL:https://gatewaycommunity.church/events/worship-service-74/2027-04-25/
LOCATION:Gateway Community Church Sanctuary\, 2801 Tropic Street\, Titusville\, FL\, 32780\, United States
END:VEVENT
BEGIN:VEVENT
DTSTART;TZID=America/New_York:20270502T103000
DTEND;TZID=America/New_York:20270502T120000
DTSTAMP:20260424T165609
CREATED:20240219T000231Z
LAST-MODIFIED:20240526T223742Z
UID:10000548-1809253800-1809259200@gatewaycommunity.church
SUMMARY:Worship Service
DESCRIPTION:
URL:https://gatewaycommunity.church/events/worship-service-74/2027-05-02/
LOCATION:Gateway Community Church Sanctuary\, 2801 Tropic Street\, Titusville\, FL\, 32780\, United States
END:VEVENT
BEGIN:VEVENT
DTSTART;TZID=America/New_York:20270509T103000
DTEND;TZID=America/New_York:20270509T120000
DTSTAMP:20260424T165609
CREATED:20240219T000231Z
LAST-MODIFIED:20240526T223742Z
UID:10000549-1809858600-1809864000@gatewaycommunity.church
SUMMARY:Worship Service
DESCRIPTION:
URL:https://gatewaycommunity.church/events/worship-service-74/2027-05-09/
LOCATION:Gateway Community Church Sanctuary\, 2801 Tropic Street\, Titusville\, FL\, 32780\, United States
END:VEVENT
BEGIN:VEVENT
DTSTART;TZID=America/New_York:20270516T103000
DTEND;TZID=America/New_York:20270516T120000
DTSTAMP:20260424T165609
CREATED:20240219T000231Z
LAST-MODIFIED:20240526T223742Z
UID:10000550-1810463400-1810468800@gatewaycommunity.church
SUMMARY:Worship Service
DESCRIPTION:
URL:https://gatewaycommunity.church/events/worship-service-74/2027-05-16/
LOCATION:Gateway Community Church Sanctuary\, 2801 Tropic Street\, Titusville\, FL\, 32780\, United States
END:VEVENT
BEGIN:VEVENT
DTSTART;TZID=America/New_York:20270523T103000
DTEND;TZID=America/New_York:20270523T120000
DTSTAMP:20260424T165609
CREATED:20240219T000231Z
LAST-MODIFIED:20240526T223742Z
UID:10000551-1811068200-1811073600@gatewaycommunity.church
SUMMARY:Worship Service
DESCRIPTION:
URL:https://gatewaycommunity.church/events/worship-service-74/2027-05-23/
LOCATION:Gateway Community Church Sanctuary\, 2801 Tropic Street\, Titusville\, FL\, 32780\, United States
END:VEVENT
BEGIN:VEVENT
DTSTART;TZID=America/New_York:20270530T103000
DTEND;TZID=America/New_York:20270530T120000
DTSTAMP:20260424T165609
CREATED:20240219T000231Z
LAST-MODIFIED:20240526T223742Z
UID:10000552-1811673000-1811678400@gatewaycommunity.church
SUMMARY:Worship Service
DESCRIPTION:
URL:https://gatewaycommunity.church/events/worship-service-74/2027-05-30/
LOCATION:Gateway Community Church Sanctuary\, 2801 Tropic Street\, Titusville\, FL\, 32780\, United States
END:VEVENT
BEGIN:VEVENT
DTSTART;TZID=America/New_York:20270606T103000
DTEND;TZID=America/New_York:20270606T120000
DTSTAMP:20260424T165609
CREATED:20240219T000231Z
LAST-MODIFIED:20240526T223742Z
UID:10000553-1812277800-1812283200@gatewaycommunity.church
SUMMARY:Worship Service
DESCRIPTION:
URL:https://gatewaycommunity.church/events/worship-service-74/2027-06-06/
LOCATION:Gateway Community Church Sanctuary\, 2801 Tropic Street\, Titusville\, FL\, 32780\, United States
END:VEVENT
BEGIN:VEVENT
DTSTART;TZID=America/New_York:20270613T103000
DTEND;TZID=America/New_York:20270613T120000
DTSTAMP:20260424T165609
CREATED:20240219T000231Z
LAST-MODIFIED:20240526T223742Z
UID:10000554-1812882600-1812888000@gatewaycommunity.church
SUMMARY:Worship Service
DESCRIPTION:
URL:https://gatewaycommunity.church/events/worship-service-74/2027-06-13/
LOCATION:Gateway Community Church Sanctuary\, 2801 Tropic Street\, Titusville\, FL\, 32780\, United States
END:VEVENT
BEGIN:VEVENT
DTSTART;TZID=America/New_York:20270620T103000
DTEND;TZID=America/New_York:20270620T120000
DTSTAMP:20260424T165609
CREATED:20240219T000231Z
LAST-MODIFIED:20240526T223742Z
UID:10000555-1813487400-1813492800@gatewaycommunity.church
SUMMARY:Worship Service
DESCRIPTION:
URL:https://gatewaycommunity.church/events/worship-service-74/2027-06-20/
LOCATION:Gateway Community Church Sanctuary\, 2801 Tropic Street\, Titusville\, FL\, 32780\, United States
END:VEVENT
BEGIN:VEVENT
DTSTART;TZID=America/New_York:20270627T103000
DTEND;TZID=America/New_York:20270627T120000
DTSTAMP:20260424T165609
CREATED:20240219T000231Z
LAST-MODIFIED:20240526T223742Z
UID:10000556-1814092200-1814097600@gatewaycommunity.church
SUMMARY:Worship Service
DESCRIPTION:
URL:https://gatewaycommunity.church/events/worship-service-74/2027-06-27/
LOCATION:Gateway Community Church Sanctuary\, 2801 Tropic Street\, Titusville\, FL\, 32780\, United States
END:VEVENT
BEGIN:VEVENT
DTSTART;TZID=America/New_York:20270704T103000
DTEND;TZID=America/New_York:20270704T120000
DTSTAMP:20260424T165609
CREATED:20240219T000231Z
LAST-MODIFIED:20240526T223742Z
UID:10000557-1814697000-1814702400@gatewaycommunity.church
SUMMARY:Worship Service
DESCRIPTION:
URL:https://gatewaycommunity.church/events/worship-service-74/2027-07-04/
LOCATION:Gateway Community Church Sanctuary\, 2801 Tropic Street\, Titusville\, FL\, 32780\, United States
END:VEVENT
BEGIN:VEVENT
DTSTART;TZID=America/New_York:20270711T103000
DTEND;TZID=America/New_York:20270711T120000
DTSTAMP:20260424T165609
CREATED:20240219T000231Z
LAST-MODIFIED:20240526T223742Z
UID:10000558-1815301800-1815307200@gatewaycommunity.church
SUMMARY:Worship Service
DESCRIPTION:
URL:https://gatewaycommunity.church/events/worship-service-74/2027-07-11/
LOCATION:Gateway Community Church Sanctuary\, 2801 Tropic Street\, Titusville\, FL\, 32780\, United States
END:VEVENT
BEGIN:VEVENT
DTSTART;TZID=America/New_York:20270718T103000
DTEND;TZID=America/New_York:20270718T120000
DTSTAMP:20260424T165609
CREATED:20240219T000231Z
LAST-MODIFIED:20240526T223742Z
UID:10000559-1815906600-1815912000@gatewaycommunity.church
SUMMARY:Worship Service
DESCRIPTION:
URL:https://gatewaycommunity.church/events/worship-service-74/2027-07-18/
LOCATION:Gateway Community Church Sanctuary\, 2801 Tropic Street\, Titusville\, FL\, 32780\, United States
END:VEVENT
BEGIN:VEVENT
DTSTART;TZID=America/New_York:20270725T103000
DTEND;TZID=America/New_York:20270725T120000
DTSTAMP:20260424T165609
CREATED:20240219T000231Z
LAST-MODIFIED:20240526T223742Z
UID:10000560-1816511400-1816516800@gatewaycommunity.church
SUMMARY:Worship Service
DESCRIPTION:
URL:https://gatewaycommunity.church/events/worship-service-74/2027-07-25/
LOCATION:Gateway Community Church Sanctuary\, 2801 Tropic Street\, Titusville\, FL\, 32780\, United States
END:VEVENT
END:VCALENDAR